BEGIN:VCALENDAR
VERSION:2.0
PRODID:-//Rooted 303 - ECPv6.15.20//NONSGML v1.0//EN
CALSCALE:GREGORIAN
METHOD:PUBLISH
X-WR-CALNAME:Rooted 303
X-ORIGINAL-URL:https://rooted303.org
X-WR-CALDESC:Events for Rooted 303
REFRESH-INTERVAL;VALUE=DURATION:PT1H
X-Robots-Tag:noindex
X-PUBLISHED-TTL:PT1H
BEGIN:VTIMEZONE
TZID:America/Denver
BEGIN:DAYLIGHT
TZOFFSETFROM:-0700
TZOFFSETTO:-0600
TZNAME:MDT
DTSTART:20250309T090000
END:DAYLIGHT
BEGIN:STANDARD
TZOFFSETFROM:-0600
TZOFFSETTO:-0700
TZNAME:MST
DTSTART:20251102T080000
END:STANDARD
BEGIN:DAYLIGHT
TZOFFSETFROM:-0700
TZOFFSETTO:-0600
TZNAME:MDT
DTSTART:20260308T090000
END:DAYLIGHT
BEGIN:STANDARD
TZOFFSETFROM:-0600
TZOFFSETTO:-0700
TZNAME:MST
DTSTART:20261101T080000
END:STANDARD
BEGIN:DAYLIGHT
TZOFFSETFROM:-0700
TZOFFSETTO:-0600
TZNAME:MDT
DTSTART:20270314T090000
END:DAYLIGHT
BEGIN:STANDARD
TZOFFSETFROM:-0600
TZOFFSETTO:-0700
TZNAME:MST
DTSTART:20271107T080000
END:STANDARD
END:VTIMEZONE
BEGIN:VEVENT
DTSTART;TZID=America/Denver:20260421T090000
DTEND;TZID=America/Denver:20260421T120000
DTSTAMP:20260421T072006
CREATED:20251127T204427Z
LAST-MODIFIED:20260129T201347Z
UID:11623-1776762000-1776772800@rooted303.org
SUMMARY:Bridge House
DESCRIPTION:
URL:https://rooted303.org/event/bridge-house-186/
END:VEVENT
BEGIN:VEVENT
DTSTART;TZID=America/Denver:20260421T120000
DTEND;TZID=America/Denver:20260421T130000
DTSTAMP:20260421T072006
CREATED:20251127T204427Z
LAST-MODIFIED:20260416T174320Z
UID:11622-1776772800-1776776400@rooted303.org
SUMMARY:Francis Heights - Mercy Housing Residents Only
DESCRIPTION:
URL:https://rooted303.org/event/francis-heights-mercy-housing-residents-only-47/
END:VEVENT
BEGIN:VEVENT
DTSTART;TZID=America/Denver:20260421T123000
DTEND;TZID=America/Denver:20260421T133000
DTSTAMP:20260421T072006
CREATED:20260416T174320Z
LAST-MODIFIED:20260416T174320Z
UID:12757-1776774600-1776778200@rooted303.org
SUMMARY:Holly Park - Residents Only
DESCRIPTION:
URL:https://rooted303.org/event/holly-park-residents-only/
END:VEVENT
BEGIN:VEVENT
DTSTART;TZID=America/Denver:20260421T140000
DTEND;TZID=America/Denver:20260421T150000
DTSTAMP:20260421T072006
CREATED:20251128T204435Z
LAST-MODIFIED:20260416T174320Z
UID:11630-1776780000-1776783600@rooted303.org
SUMMARY:Franconia - Mercy Housing Residents Only
DESCRIPTION:
URL:https://rooted303.org/event/franconia-mercy-housing-residents-only-47/
END:VEVENT
END:VCALENDAR