BEGIN:VCALENDAR
VERSION:2.0
PRODID:-//Rooted 303 - ECPv6.15.20//NONSGML v1.0//EN
CALSCALE:GREGORIAN
METHOD:PUBLISH
X-WR-CALNAME:Rooted 303
X-ORIGINAL-URL:https://rooted303.org
X-WR-CALDESC:Events for Rooted 303
REFRESH-INTERVAL;VALUE=DURATION:PT1H
X-Robots-Tag:noindex
X-PUBLISHED-TTL:PT1H
BEGIN:VTIMEZONE
TZID:America/Denver
BEGIN:DAYLIGHT
TZOFFSETFROM:-0700
TZOFFSETTO:-0600
TZNAME:MDT
DTSTART:20250309T090000
END:DAYLIGHT
BEGIN:STANDARD
TZOFFSETFROM:-0600
TZOFFSETTO:-0700
TZNAME:MST
DTSTART:20251102T080000
END:STANDARD
BEGIN:DAYLIGHT
TZOFFSETFROM:-0700
TZOFFSETTO:-0600
TZNAME:MDT
DTSTART:20260308T090000
END:DAYLIGHT
BEGIN:STANDARD
TZOFFSETFROM:-0600
TZOFFSETTO:-0700
TZNAME:MST
DTSTART:20261101T080000
END:STANDARD
BEGIN:DAYLIGHT
TZOFFSETFROM:-0700
TZOFFSETTO:-0600
TZNAME:MDT
DTSTART:20270314T090000
END:DAYLIGHT
BEGIN:STANDARD
TZOFFSETFROM:-0600
TZOFFSETTO:-0700
TZNAME:MST
DTSTART:20271107T080000
END:STANDARD
END:VTIMEZONE
BEGIN:VEVENT
DTSTART;TZID=America/Denver:20260423T090000
DTEND;TZID=America/Denver:20260423T120000
DTSTAMP:20260423T022942
CREATED:20251129T204437Z
LAST-MODIFIED:20260129T201348Z
UID:11638-1776934800-1776945600@rooted303.org
SUMMARY:Bridge House
DESCRIPTION:
URL:https://rooted303.org/event/bridge-house-187/
END:VEVENT
BEGIN:VEVENT
DTSTART;TZID=America/Denver:20260423T120000
DTEND;TZID=America/Denver:20260423T130000
DTSTAMP:20260423T022942
CREATED:20251130T204412Z
LAST-MODIFIED:20260210T205832Z
UID:11641-1776945600-1776949200@rooted303.org
SUMMARY:Nest 56 - Residents Only
DESCRIPTION:
URL:https://rooted303.org/event/nest-56-residents-only-47/
END:VEVENT
BEGIN:VEVENT
DTSTART;TZID=America/Denver:20260423T130000
DTEND;TZID=America/Denver:20260423T140000
DTSTAMP:20260423T022942
CREATED:20260207T202849Z
LAST-MODIFIED:20260416T174321Z
UID:12178-1776949200-1776952800@rooted303.org
SUMMARY:Friends & Family CRAFT Group (Virtual)
DESCRIPTION:Click here to Join  our Zoom Meeting! 
URL:https://rooted303.org/event/friends-family-craft-group-virtual-107/
LOCATION:Zoom
END:VEVENT
BEGIN:VEVENT
DTSTART;TZID=America/Denver:20260423T183000
DTEND;TZID=America/Denver:20260423T193000
DTSTAMP:20260423T022942
CREATED:20251202T205852Z
LAST-MODIFIED:20260206T202841Z
UID:11646-1776969000-1776972600@rooted303.org
SUMMARY:Friends & Family CRAFT Group (Virtual)
DESCRIPTION:Click here to Join  our Zoom Meeting! 
URL:https://rooted303.org/event/friends-family-craft-group-virtual-87/
LOCATION:Zoom
END:VEVENT
END:VCALENDAR