BEGIN:VCALENDAR
VERSION:2.0
PRODID:-//Rooted 303 - ECPv6.15.20//NONSGML v1.0//EN
CALSCALE:GREGORIAN
METHOD:PUBLISH
X-WR-CALNAME:Rooted 303
X-ORIGINAL-URL:https://rooted303.org
X-WR-CALDESC:Events for Rooted 303
REFRESH-INTERVAL;VALUE=DURATION:PT1H
X-Robots-Tag:noindex
X-PUBLISHED-TTL:PT1H
BEGIN:VTIMEZONE
TZID:America/Denver
BEGIN:DAYLIGHT
TZOFFSETFROM:-0700
TZOFFSETTO:-0600
TZNAME:MDT
DTSTART:20250309T090000
END:DAYLIGHT
BEGIN:STANDARD
TZOFFSETFROM:-0600
TZOFFSETTO:-0700
TZNAME:MST
DTSTART:20251102T080000
END:STANDARD
BEGIN:DAYLIGHT
TZOFFSETFROM:-0700
TZOFFSETTO:-0600
TZNAME:MDT
DTSTART:20260308T090000
END:DAYLIGHT
BEGIN:STANDARD
TZOFFSETFROM:-0600
TZOFFSETTO:-0700
TZNAME:MST
DTSTART:20261101T080000
END:STANDARD
BEGIN:DAYLIGHT
TZOFFSETFROM:-0700
TZOFFSETTO:-0600
TZNAME:MDT
DTSTART:20270314T090000
END:DAYLIGHT
BEGIN:STANDARD
TZOFFSETFROM:-0600
TZOFFSETTO:-0700
TZNAME:MST
DTSTART:20271107T080000
END:STANDARD
END:VTIMEZONE
BEGIN:VEVENT
DTSTART;TZID=America/Denver:20260930T183000
DTEND;TZID=America/Denver:20260930T193000
DTSTAMP:20260421T231428
CREATED:20260326T155849Z
LAST-MODIFIED:20260416T174346Z
UID:12670-1790793000-1790796600@rooted303.org
SUMMARY:Friends & Family CRAFT Group
DESCRIPTION:
URL:https://rooted303.org/event/friends-family-craft-group-70/
LOCATION:5808 S Rapp St suite 100\, Littleton\, CO\, United States
END:VEVENT
BEGIN:VEVENT
DTSTART;TZID=America/Denver:20260930T163000
DTEND;TZID=America/Denver:20260930T173000
DTSTAMP:20260421T231428
CREATED:20260326T155849Z
LAST-MODIFIED:20260416T174346Z
UID:12669-1790785800-1790789400@rooted303.org
SUMMARY:THE ROSE
DESCRIPTION:
URL:https://rooted303.org/event/the-rose-33/
END:VEVENT
BEGIN:VEVENT
DTSTART;TZID=America/Denver:20260930T130000
DTEND;TZID=America/Denver:20260930T140000
DTSTAMP:20260421T231428
CREATED:20260325T155907Z
LAST-MODIFIED:20260416T174346Z
UID:12664-1790773200-1790776800@rooted303.org
SUMMARY:Francis Heights - Mindfulness and Meditation Group
DESCRIPTION:Join us every Wednesday at 1 PM!
URL:https://rooted303.org/event/francis-heights-mindfulness-and-meditation-group-14/
LOCATION:Francis Heights\, 3805 W 26th Ave\, Denver\, CO\, United States
END:VEVENT
BEGIN:VEVENT
DTSTART;TZID=America/Denver:20260930T123000
DTEND;TZID=America/Denver:20260930T133000
DTSTAMP:20260421T231428
CREATED:20260325T155907Z
LAST-MODIFIED:20260416T174346Z
UID:12665-1790771400-1790775000@rooted303.org
SUMMARY:Aromor - Mercy Housing Residents Only
DESCRIPTION:
URL:https://rooted303.org/event/aromor-mercy-housing-residents-only-70/
END:VEVENT
BEGIN:VEVENT
DTSTART;TZID=America/Denver:20260930T100000
DTEND;TZID=America/Denver:20260930T110000
DTSTAMP:20260421T231428
CREATED:20260324T154430Z
LAST-MODIFIED:20260416T174346Z
UID:12661-1790762400-1790766000@rooted303.org
SUMMARY:Clare of Assisi/Villa Maria - Mercy Housing
DESCRIPTION:
URL:https://rooted303.org/event/clare-of-assisi-villa-maria-mercy-housing-69/
END:VEVENT
BEGIN:VEVENT
DTSTART;TZID=America/Denver:20260929T140000
DTEND;TZID=America/Denver:20260929T150000
DTSTAMP:20260421T231428
CREATED:20260321T154357Z
LAST-MODIFIED:20260416T174346Z
UID:12655-1790690400-1790694000@rooted303.org
SUMMARY:Franconia - Mercy Housing Residents Only
DESCRIPTION:
URL:https://rooted303.org/event/franconia-mercy-housing-residents-only-70/
END:VEVENT
BEGIN:VEVENT
DTSTART;TZID=America/Denver:20260929T123000
DTEND;TZID=America/Denver:20260929T133000
DTSTAMP:20260421T231428
CREATED:20260416T174346Z
LAST-MODIFIED:20260416T174346Z
UID:12780-1790685000-1790688600@rooted303.org
SUMMARY:Holly Park - Residents Only
DESCRIPTION:
URL:https://rooted303.org/event/holly-park-residents-only-24/
END:VEVENT
BEGIN:VEVENT
DTSTART;TZID=America/Denver:20260929T120000
DTEND;TZID=America/Denver:20260929T130000
DTSTAMP:20260421T231428
CREATED:20260321T154357Z
LAST-MODIFIED:20260416T174346Z
UID:12654-1790683200-1790686800@rooted303.org
SUMMARY:Francis Heights - Mercy Housing Residents Only
DESCRIPTION:
URL:https://rooted303.org/event/francis-heights-mercy-housing-residents-only-70/
END:VEVENT
BEGIN:VEVENT
DTSTART;TZID=America/Denver:20260928T170000
DTEND;TZID=America/Denver:20260928T180000
DTSTAMP:20260421T231428
CREATED:20260320T154343Z
LAST-MODIFIED:20260416T174345Z
UID:12651-1790614800-1790618400@rooted303.org
SUMMARY:Nest 56 - Residents Only
DESCRIPTION:
URL:https://rooted303.org/event/nest-56-residents-only-97/
END:VEVENT
BEGIN:VEVENT
DTSTART;TZID=America/Denver:20260925T140000
DTEND;TZID=America/Denver:20260925T150000
DTSTAMP:20260421T231428
CREATED:20260319T154357Z
LAST-MODIFIED:20260416T174345Z
UID:12644-1790344800-1790348400@rooted303.org
SUMMARY:HWH - Residents Only
DESCRIPTION:
URL:https://rooted303.org/event/hwh-residents-only-68/
END:VEVENT
BEGIN:VEVENT
DTSTART;TZID=America/Denver:20260925T120000
DTEND;TZID=America/Denver:20260925T130000
DTSTAMP:20260421T231428
CREATED:20260319T154357Z
LAST-MODIFIED:20260416T174345Z
UID:12643-1790337600-1790341200@rooted303.org
SUMMARY:Francis Heights - Grief Group - Mercy Housing Residents Only
DESCRIPTION:
URL:https://rooted303.org/event/francis-heights-grief-group-mercy-housing-residents-only-70/
END:VEVENT
BEGIN:VEVENT
DTSTART;TZID=America/Denver:20260924T130000
DTEND;TZID=America/Denver:20260924T140000
DTSTAMP:20260421T231428
CREATED:20260319T154356Z
LAST-MODIFIED:20260416T174345Z
UID:12642-1790254800-1790258400@rooted303.org
SUMMARY:Friends & Family CRAFT Group (Virtual)
DESCRIPTION:Click here to Join  our Zoom Meeting! 
URL:https://rooted303.org/event/friends-family-craft-group-virtual-129/
LOCATION:Zoom
END:VEVENT
BEGIN:VEVENT
DTSTART;TZID=America/Denver:20260923T183000
DTEND;TZID=America/Denver:20260923T193000
DTSTAMP:20260421T231428
CREATED:20260319T154356Z
LAST-MODIFIED:20260416T174345Z
UID:12641-1790188200-1790191800@rooted303.org
SUMMARY:Friends & Family CRAFT Group
DESCRIPTION:
URL:https://rooted303.org/event/friends-family-craft-group-69/
LOCATION:5808 S Rapp St suite 100\, Littleton\, CO\, United States
END:VEVENT
BEGIN:VEVENT
DTSTART;TZID=America/Denver:20260923T163000
DTEND;TZID=America/Denver:20260923T173000
DTSTAMP:20260421T231428
CREATED:20260319T154356Z
LAST-MODIFIED:20260416T174345Z
UID:12640-1790181000-1790184600@rooted303.org
SUMMARY:THE ROSE
DESCRIPTION:
URL:https://rooted303.org/event/the-rose-32/
END:VEVENT
BEGIN:VEVENT
DTSTART;TZID=America/Denver:20260923T130000
DTEND;TZID=America/Denver:20260923T140000
DTSTAMP:20260421T231428
CREATED:20260318T153355Z
LAST-MODIFIED:20260416T174345Z
UID:12622-1790168400-1790172000@rooted303.org
SUMMARY:Francis Heights - Mindfulness and Meditation Group
DESCRIPTION:Join us every Wednesday at 1 PM!
URL:https://rooted303.org/event/francis-heights-mindfulness-and-meditation-group-13/
LOCATION:Francis Heights\, 3805 W 26th Ave\, Denver\, CO\, United States
END:VEVENT
BEGIN:VEVENT
DTSTART;TZID=America/Denver:20260923T123000
DTEND;TZID=America/Denver:20260923T133000
DTSTAMP:20260421T231428
CREATED:20260318T153354Z
LAST-MODIFIED:20260416T174345Z
UID:12621-1790166600-1790170200@rooted303.org
SUMMARY:Aromor - Mercy Housing Residents Only
DESCRIPTION:
URL:https://rooted303.org/event/aromor-mercy-housing-residents-only-69/
END:VEVENT
BEGIN:VEVENT
DTSTART;TZID=America/Denver:20260923T100000
DTEND;TZID=America/Denver:20260923T110000
DTSTAMP:20260421T231428
CREATED:20260318T153354Z
LAST-MODIFIED:20260416T174345Z
UID:12620-1790157600-1790161200@rooted303.org
SUMMARY:Clare of Assisi/Villa Maria - Mercy Housing
DESCRIPTION:
URL:https://rooted303.org/event/clare-of-assisi-villa-maria-mercy-housing-68/
END:VEVENT
BEGIN:VEVENT
DTSTART;TZID=America/Denver:20260922T140000
DTEND;TZID=America/Denver:20260922T150000
DTSTAMP:20260421T231428
CREATED:20260318T153354Z
LAST-MODIFIED:20260416T174345Z
UID:12619-1790085600-1790089200@rooted303.org
SUMMARY:Franconia - Mercy Housing Residents Only
DESCRIPTION:
URL:https://rooted303.org/event/franconia-mercy-housing-residents-only-69/
END:VEVENT
BEGIN:VEVENT
DTSTART;TZID=America/Denver:20260922T123000
DTEND;TZID=America/Denver:20260922T133000
DTSTAMP:20260421T231428
CREATED:20260416T174345Z
LAST-MODIFIED:20260416T174345Z
UID:12779-1790080200-1790083800@rooted303.org
SUMMARY:Holly Park - Residents Only
DESCRIPTION:
URL:https://rooted303.org/event/holly-park-residents-only-23/
END:VEVENT
BEGIN:VEVENT
DTSTART;TZID=America/Denver:20260922T120000
DTEND;TZID=America/Denver:20260922T130000
DTSTAMP:20260421T231428
CREATED:20260318T153354Z
LAST-MODIFIED:20260416T174345Z
UID:12618-1790078400-1790082000@rooted303.org
SUMMARY:Francis Heights - Mercy Housing Residents Only
DESCRIPTION:
URL:https://rooted303.org/event/francis-heights-mercy-housing-residents-only-69/
END:VEVENT
BEGIN:VEVENT
DTSTART;TZID=America/Denver:20260921T170000
DTEND;TZID=America/Denver:20260921T180000
DTSTAMP:20260421T231428
CREATED:20260318T153354Z
LAST-MODIFIED:20260416T174345Z
UID:12617-1790010000-1790013600@rooted303.org
SUMMARY:Nest 56 - Residents Only
DESCRIPTION:
URL:https://rooted303.org/event/nest-56-residents-only-96/
END:VEVENT
BEGIN:VEVENT
DTSTART;TZID=America/Denver:20260918T140000
DTEND;TZID=America/Denver:20260918T150000
DTSTAMP:20260421T231428
CREATED:20260318T153353Z
LAST-MODIFIED:20260416T174344Z
UID:12616-1789740000-1789743600@rooted303.org
SUMMARY:HWH - Residents Only
DESCRIPTION:
URL:https://rooted303.org/event/hwh-residents-only-67/
END:VEVENT
BEGIN:VEVENT
DTSTART;TZID=America/Denver:20260918T120000
DTEND;TZID=America/Denver:20260918T130000
DTSTAMP:20260421T231428
CREATED:20260318T153353Z
LAST-MODIFIED:20260416T174344Z
UID:12615-1789732800-1789736400@rooted303.org
SUMMARY:Francis Heights - Grief Group - Mercy Housing Residents Only
DESCRIPTION:
URL:https://rooted303.org/event/francis-heights-grief-group-mercy-housing-residents-only-69/
END:VEVENT
BEGIN:VEVENT
DTSTART;TZID=America/Denver:20260917T130000
DTEND;TZID=America/Denver:20260917T140000
DTSTAMP:20260421T231428
CREATED:20260318T153353Z
LAST-MODIFIED:20260416T174344Z
UID:12614-1789650000-1789653600@rooted303.org
SUMMARY:Friends & Family CRAFT Group (Virtual)
DESCRIPTION:Click here to Join  our Zoom Meeting! 
URL:https://rooted303.org/event/friends-family-craft-group-virtual-128/
LOCATION:Zoom
END:VEVENT
BEGIN:VEVENT
DTSTART;TZID=America/Denver:20260916T183000
DTEND;TZID=America/Denver:20260916T193000
DTSTAMP:20260421T231428
CREATED:20260318T153353Z
LAST-MODIFIED:20260416T174344Z
UID:12613-1789583400-1789587000@rooted303.org
SUMMARY:Friends & Family CRAFT Group
DESCRIPTION:
URL:https://rooted303.org/event/friends-family-craft-group-68/
LOCATION:5808 S Rapp St suite 100\, Littleton\, CO\, United States
END:VEVENT
BEGIN:VEVENT
DTSTART;TZID=America/Denver:20260916T163000
DTEND;TZID=America/Denver:20260916T173000
DTSTAMP:20260421T231428
CREATED:20260318T153353Z
LAST-MODIFIED:20260416T174344Z
UID:12612-1789576200-1789579800@rooted303.org
SUMMARY:THE ROSE
DESCRIPTION:
URL:https://rooted303.org/event/the-rose-31/
END:VEVENT
BEGIN:VEVENT
DTSTART;TZID=America/Denver:20260916T130000
DTEND;TZID=America/Denver:20260916T140000
DTSTAMP:20260421T231428
CREATED:20260318T153352Z
LAST-MODIFIED:20260416T174344Z
UID:12610-1789563600-1789567200@rooted303.org
SUMMARY:Francis Heights - Mindfulness and Meditation Group
DESCRIPTION:Join us every Wednesday at 1 PM!
URL:https://rooted303.org/event/francis-heights-mindfulness-and-meditation-group-12/
LOCATION:Francis Heights\, 3805 W 26th Ave\, Denver\, CO\, United States
END:VEVENT
BEGIN:VEVENT
DTSTART;TZID=America/Denver:20260916T123000
DTEND;TZID=America/Denver:20260916T133000
DTSTAMP:20260421T231428
CREATED:20260318T153352Z
LAST-MODIFIED:20260416T174344Z
UID:12611-1789561800-1789565400@rooted303.org
SUMMARY:Aromor - Mercy Housing Residents Only
DESCRIPTION:
URL:https://rooted303.org/event/aromor-mercy-housing-residents-only-68/
END:VEVENT
BEGIN:VEVENT
DTSTART;TZID=America/Denver:20260916T100000
DTEND;TZID=America/Denver:20260916T110000
DTSTAMP:20260421T231428
CREATED:20260318T153352Z
LAST-MODIFIED:20260416T174344Z
UID:12609-1789552800-1789556400@rooted303.org
SUMMARY:Clare of Assisi/Villa Maria - Mercy Housing
DESCRIPTION:
URL:https://rooted303.org/event/clare-of-assisi-villa-maria-mercy-housing-67/
END:VEVENT
BEGIN:VEVENT
DTSTART;TZID=America/Denver:20260915T140000
DTEND;TZID=America/Denver:20260915T150000
DTSTAMP:20260421T231428
CREATED:20260318T153352Z
LAST-MODIFIED:20260416T174344Z
UID:12608-1789480800-1789484400@rooted303.org
SUMMARY:Franconia - Mercy Housing Residents Only
DESCRIPTION:
URL:https://rooted303.org/event/franconia-mercy-housing-residents-only-68/
END:VEVENT
END:VCALENDAR