BEGIN:VCALENDAR
VERSION:2.0
PRODID:-//Rooted 303 - ECPv6.15.20//NONSGML v1.0//EN
CALSCALE:GREGORIAN
METHOD:PUBLISH
X-WR-CALNAME:Rooted 303
X-ORIGINAL-URL:https://rooted303.org
X-WR-CALDESC:Events for Rooted 303
REFRESH-INTERVAL;VALUE=DURATION:PT1H
X-Robots-Tag:noindex
X-PUBLISHED-TTL:PT1H
BEGIN:VTIMEZONE
TZID:America/Denver
BEGIN:DAYLIGHT
TZOFFSETFROM:-0700
TZOFFSETTO:-0600
TZNAME:MDT
DTSTART:20250309T090000
END:DAYLIGHT
BEGIN:STANDARD
TZOFFSETFROM:-0600
TZOFFSETTO:-0700
TZNAME:MST
DTSTART:20251102T080000
END:STANDARD
BEGIN:DAYLIGHT
TZOFFSETFROM:-0700
TZOFFSETTO:-0600
TZNAME:MDT
DTSTART:20260308T090000
END:DAYLIGHT
BEGIN:STANDARD
TZOFFSETFROM:-0600
TZOFFSETTO:-0700
TZNAME:MST
DTSTART:20261101T080000
END:STANDARD
BEGIN:DAYLIGHT
TZOFFSETFROM:-0700
TZOFFSETTO:-0600
TZNAME:MDT
DTSTART:20270314T090000
END:DAYLIGHT
BEGIN:STANDARD
TZOFFSETFROM:-0600
TZOFFSETTO:-0700
TZNAME:MST
DTSTART:20271107T080000
END:STANDARD
END:VTIMEZONE
BEGIN:VEVENT
DTSTART;TZID=America/Denver:20260327T140000
DTEND;TZID=America/Denver:20260327T150000
DTSTAMP:20260422T053135
CREATED:20251106T181445Z
LAST-MODIFIED:20260327T155815Z
UID:11326-1774620000-1774623600@rooted303.org
SUMMARY:HWH - Residents Only
DESCRIPTION:
URL:https://rooted303.org/event/hwh-residents-only-42/
END:VEVENT
BEGIN:VEVENT
DTSTART;TZID=America/Denver:20260327T120000
DTEND;TZID=America/Denver:20260327T150000
DTSTAMP:20260422T053135
CREATED:20251105T181352Z
LAST-MODIFIED:20260206T202837Z
UID:11319-1774612800-1774623600@rooted303.org
SUMMARY:Bridge House
DESCRIPTION:
URL:https://rooted303.org/event/bridge-house-172/
END:VEVENT
BEGIN:VEVENT
DTSTART;TZID=America/Denver:20260327T120000
DTEND;TZID=America/Denver:20260327T130000
DTSTAMP:20260422T053135
CREATED:20251106T181445Z
LAST-MODIFIED:20260327T155814Z
UID:11325-1774612800-1774616400@rooted303.org
SUMMARY:Francis Heights - Grief Group - Mercy Housing Residents Only
DESCRIPTION:
URL:https://rooted303.org/event/francis-heights-grief-group-mercy-housing-residents-only-44/
END:VEVENT
BEGIN:VEVENT
DTSTART;TZID=America/Denver:20260326T183000
DTEND;TZID=America/Denver:20260326T193000
DTSTAMP:20260422T053135
CREATED:20251124T201408Z
LAST-MODIFIED:20260206T202836Z
UID:11532-1774549800-1774553400@rooted303.org
SUMMARY:Friends & Family CRAFT Group (Virtual)
DESCRIPTION:Click here to Join  our Zoom Meeting! 
URL:https://rooted303.org/event/friends-family-craft-group-virtual-82/
LOCATION:Zoom
END:VEVENT
BEGIN:VEVENT
DTSTART;TZID=America/Denver:20260326T183000
DTEND;TZID=America/Denver:20260326T193000
DTSTAMP:20260422T053135
CREATED:20251117T185936Z
LAST-MODIFIED:20251123T200010Z
UID:11402-1774549800-1774553400@rooted303.org
SUMMARY:Friends & Family CRAFT Group (Virtual)
DESCRIPTION:Click here to Join  our Zoom Meeting! 
URL:https://rooted303.org/event/friends-family-craft-group-virtual-63/
LOCATION:Zoom
END:VEVENT
BEGIN:VEVENT
DTSTART;TZID=America/Denver:20260326T183000
DTEND;TZID=America/Denver:20260326T193000
DTSTAMP:20260422T053135
CREATED:20251105T181351Z
LAST-MODIFIED:20251116T185901Z
UID:11318-1774549800-1774553400@rooted303.org
SUMMARY:Friends & Family CRAFT Group (Virtual)
DESCRIPTION:────────── \nRooted 303 is inviting you to a scheduled Zoom meeting. \nJoin Zoom Meetinghttps://us02web.zoom.us/j/86491237169?pwd=UFVUVngvVVpPM0toMTBuSGo5UkF1dz09 \nMeeting ID: 864 9123 7169Passcode: 672219 \n— \nOne tap mobile+17193594580\,\,86491237169#\,\,\,\,*672219# US+12532158782\,\,86491237169#\,\,\,\,*672219# US (Tacoma) \n— \nDial by your location• +1 719 359 4580 US• +1 253 215 8782 US (Tacoma)• +1 346 248 7799 US (Houston)• +1 669 444 9171 US• +1 669 900 9128 US (San Jose)• +1 253 205 0468 US• +1 360 209 5623 US• +1 386 347 5053 US• +1 507 473 4847 US• +1 564 217 2000 US• +1 646 558 8656 US (New York)• +1 646 931 3860 US• +1 689 278 1000 US• +1 301 715 8592 US (Washington DC)• +1 305 224 1968 US• +1 309 205 3325 US• +1 312 626 6799 US (Chicago) \nMeeting ID: 864 9123 7169Passcode: 672219 \nFind your local number: https://us02web.zoom.us/u/kdf4Ajtvut \n──────────
URL:https://rooted303.org/event/friends-family-craft-group-virtual-43/
LOCATION:https://us02web.zoom.us/j/86491237169?pwd=UFVUVngvVVpPM0toMTBuSGo5UkF1dz09
END:VEVENT
BEGIN:VEVENT
DTSTART;TZID=America/Denver:20260326T130000
DTEND;TZID=America/Denver:20260326T140000
DTSTAMP:20260422T053135
CREATED:20260207T202845Z
LAST-MODIFIED:20260326T155814Z
UID:12170-1774530000-1774533600@rooted303.org
SUMMARY:Friends & Family CRAFT Group (Virtual)
DESCRIPTION:Click here to Join  our Zoom Meeting! 
URL:https://rooted303.org/event/friends-family-craft-group-virtual-103/
LOCATION:Zoom
END:VEVENT
BEGIN:VEVENT
DTSTART;TZID=America/Denver:20260326T120000
DTEND;TZID=America/Denver:20260326T130000
DTSTAMP:20260422T053135
CREATED:20251105T181351Z
LAST-MODIFIED:20260210T205829Z
UID:11316-1774526400-1774530000@rooted303.org
SUMMARY:Nest 56 - Residents Only
DESCRIPTION:
URL:https://rooted303.org/event/nest-56-residents-only-43/
END:VEVENT
BEGIN:VEVENT
DTSTART;TZID=America/Denver:20260326T090000
DTEND;TZID=America/Denver:20260326T120000
DTSTAMP:20260422T053135
CREATED:20251105T181351Z
LAST-MODIFIED:20260129T201340Z
UID:11317-1774515600-1774526400@rooted303.org
SUMMARY:Bridge House
DESCRIPTION:
URL:https://rooted303.org/event/bridge-house-171/
END:VEVENT
BEGIN:VEVENT
DTSTART;TZID=America/Denver:20260325T183000
DTEND;TZID=America/Denver:20260325T193000
DTSTAMP:20260422T053135
CREATED:20251105T181351Z
LAST-MODIFIED:20260325T155827Z
UID:11315-1774463400-1774467000@rooted303.org
SUMMARY:Friends & Family CRAFT Group
DESCRIPTION:
URL:https://rooted303.org/event/friends-family-craft-group-43/
LOCATION:5808 S Rapp St suite 100\, Littleton\, CO\, United States
END:VEVENT
BEGIN:VEVENT
DTSTART;TZID=America/Denver:20260325T163000
DTEND;TZID=America/Denver:20260325T173000
DTSTAMP:20260422T053135
CREATED:20260216T212821Z
LAST-MODIFIED:20260325T155826Z
UID:12485-1774456200-1774459800@rooted303.org
SUMMARY:THE ROSE
DESCRIPTION:
URL:https://rooted303.org/event/the-rose-6/
END:VEVENT
BEGIN:VEVENT
DTSTART;TZID=America/Denver:20260325T130000
DTEND;TZID=America/Denver:20260325T140000
DTSTAMP:20260422T053135
CREATED:20251210T215847Z
LAST-MODIFIED:20260325T155826Z
UID:11704-1774443600-1774447200@rooted303.org
SUMMARY:Francis Heights - Mindfulness and Meditation Group
DESCRIPTION:Join us every Wednesday at 1 PM!
URL:https://rooted303.org/event/mindfulness-and-meditation-group-15/
LOCATION:Francis Heights\, 3805 W 26th Ave\, Denver\, CO\, United States
END:VEVENT
BEGIN:VEVENT
DTSTART;TZID=America/Denver:20260325T123000
DTEND;TZID=America/Denver:20260325T133000
DTSTAMP:20260422T053135
CREATED:20251104T181454Z
LAST-MODIFIED:20260325T155826Z
UID:11312-1774441800-1774445400@rooted303.org
SUMMARY:Aromor - Mercy Housing Residents Only
DESCRIPTION:
URL:https://rooted303.org/event/aromor-mercy-housing-residents-only-43/
END:VEVENT
BEGIN:VEVENT
DTSTART;TZID=America/Denver:20260325T100000
DTEND;TZID=America/Denver:20260325T110000
DTSTAMP:20260422T053135
CREATED:20251102T175924Z
LAST-MODIFIED:20260325T155826Z
UID:11306-1774432800-1774436400@rooted303.org
SUMMARY:Clare of Assisi/Villa Maria - Mercy Housing
DESCRIPTION:
URL:https://rooted303.org/event/clare-of-assisi-villa-maria-mercy-housing-42/
END:VEVENT
BEGIN:VEVENT
DTSTART;TZID=America/Denver:20260325T090000
DTEND;TZID=America/Denver:20260325T100000
DTSTAMP:20260422T053135
CREATED:20260107T185842Z
LAST-MODIFIED:20260206T202836Z
UID:11900-1774429200-1774432800@rooted303.org
SUMMARY:Women's Recovery Group - Rooted & Rising Woman
DESCRIPTION:Women’s Recovery Group – Rooted & Rising Woman9 am – 10 amJoin us Here!
URL:https://rooted303.org/event/womens-recovery-group-rooted-rising-woman-15/
LOCATION:Hybrid
END:VEVENT
BEGIN:VEVENT
DTSTART;TZID=America/Denver:20260324T183000
DTEND;TZID=America/Denver:20260324T193000
DTSTAMP:20260422T053135
CREATED:20251102T175924Z
LAST-MODIFIED:20251124T201407Z
UID:11305-1774377000-1774380600@rooted303.org
SUMMARY:Rooted 303/Exposed Support Group
DESCRIPTION:
URL:https://rooted303.org/event/rooted-303-exposed-support-group-43/
END:VEVENT
BEGIN:VEVENT
DTSTART;TZID=America/Denver:20260324T140000
DTEND;TZID=America/Denver:20260324T150000
DTSTAMP:20260422T053135
CREATED:20251102T175923Z
LAST-MODIFIED:20260324T154359Z
UID:11304-1774360800-1774364400@rooted303.org
SUMMARY:Franconia - Mercy Housing Residents Only
DESCRIPTION:
URL:https://rooted303.org/event/franconia-mercy-housing-residents-only-43/
END:VEVENT
BEGIN:VEVENT
DTSTART;TZID=America/Denver:20260324T120000
DTEND;TZID=America/Denver:20260324T130000
DTSTAMP:20260422T053135
CREATED:20251031T174352Z
LAST-MODIFIED:20260324T154359Z
UID:11296-1774353600-1774357200@rooted303.org
SUMMARY:Francis Heights - Mercy Housing Residents Only
DESCRIPTION:
URL:https://rooted303.org/event/francis-heights-mercy-housing-residents-only-43/
END:VEVENT
BEGIN:VEVENT
DTSTART;TZID=America/Denver:20260324T090000
DTEND;TZID=America/Denver:20260324T120000
DTSTAMP:20260422T053135
CREATED:20251031T174352Z
LAST-MODIFIED:20260129T201339Z
UID:11297-1774342800-1774353600@rooted303.org
SUMMARY:Bridge House
DESCRIPTION:
URL:https://rooted303.org/event/bridge-house-170/
END:VEVENT
BEGIN:VEVENT
DTSTART;TZID=America/Denver:20260323T170000
DTEND;TZID=America/Denver:20260323T180000
DTSTAMP:20260422T053135
CREATED:20260211T205857Z
LAST-MODIFIED:20260323T154317Z
UID:12405-1774285200-1774288800@rooted303.org
SUMMARY:Nest 56 - Residents Only
DESCRIPTION:
URL:https://rooted303.org/event/nest-56-residents-only-70/
END:VEVENT
BEGIN:VEVENT
DTSTART;TZID=America/Denver:20260323T120000
DTEND;TZID=America/Denver:20260323T150000
DTSTAMP:20260422T053135
CREATED:20251031T174352Z
LAST-MODIFIED:20260206T202836Z
UID:11295-1774267200-1774278000@rooted303.org
SUMMARY:Bridge House
DESCRIPTION:
URL:https://rooted303.org/event/bridge-house-169/
END:VEVENT
BEGIN:VEVENT
DTSTART;TZID=America/Denver:20260323T111500
DTEND;TZID=America/Denver:20260323T121500
DTSTAMP:20260422T053135
CREATED:20251124T201405Z
LAST-MODIFIED:20251214T221342Z
UID:11531-1774264500-1774268100@rooted303.org
SUMMARY:Sacred Roots Community Group
DESCRIPTION:Open to all Spiritual/Religious PathsJoin Here 
URL:https://rooted303.org/event/sacred-roots-community-group-37/
LOCATION:Hybrid
END:VEVENT
BEGIN:VEVENT
DTSTART;TZID=America/Denver:20260323T101500
DTEND;TZID=America/Denver:20260323T111500
DTSTAMP:20260422T053135
CREATED:20251215T222840Z
LAST-MODIFIED:20260206T202836Z
UID:11746-1774260900-1774264500@rooted303.org
SUMMARY:Sacred Roots Community Group
DESCRIPTION:Open to all Spiritual/Religious PathsJoin Here!
URL:https://rooted303.org/event/sacred-roots-community-group-56/
LOCATION:Hybrid
END:VEVENT
BEGIN:VEVENT
DTSTART;TZID=America/Denver:20260323T101500
DTEND;TZID=America/Denver:20260323T111500
DTSTAMP:20260422T053135
CREATED:20251119T192920Z
LAST-MODIFIED:20251123T200008Z
UID:11466-1774260900-1774264500@rooted303.org
SUMMARY:Sacred Roots Community Group
DESCRIPTION:Open to all Spiritual/Religious PathsJoin Here 
URL:https://rooted303.org/event/sacred-roots-community-group-18/
LOCATION:Hybrid
END:VEVENT
BEGIN:VEVENT
DTSTART;TZID=America/Denver:20260320T140000
DTEND;TZID=America/Denver:20260320T150000
DTSTAMP:20260422T053135
CREATED:20251030T174418Z
LAST-MODIFIED:20260320T154315Z
UID:11290-1774015200-1774018800@rooted303.org
SUMMARY:HWH - Residents Only
DESCRIPTION:
URL:https://rooted303.org/event/hwh-residents-only-41/
END:VEVENT
BEGIN:VEVENT
DTSTART;TZID=America/Denver:20260320T120000
DTEND;TZID=America/Denver:20260320T150000
DTSTAMP:20260422T053135
CREATED:20251031T174351Z
LAST-MODIFIED:20260206T202835Z
UID:11293-1774008000-1774018800@rooted303.org
SUMMARY:Bridge House
DESCRIPTION:
URL:https://rooted303.org/event/bridge-house-168/
END:VEVENT
BEGIN:VEVENT
DTSTART;TZID=America/Denver:20260320T120000
DTEND;TZID=America/Denver:20260320T130000
DTSTAMP:20260422T053135
CREATED:20251030T174418Z
LAST-MODIFIED:20260320T154315Z
UID:11289-1774008000-1774011600@rooted303.org
SUMMARY:Francis Heights - Grief Group - Mercy Housing Residents Only
DESCRIPTION:
URL:https://rooted303.org/event/francis-heights-grief-group-mercy-housing-residents-only-43/
END:VEVENT
BEGIN:VEVENT
DTSTART;TZID=America/Denver:20260319T183000
DTEND;TZID=America/Denver:20260319T193000
DTSTAMP:20260422T053135
CREATED:20251124T201404Z
LAST-MODIFIED:20260206T202835Z
UID:11530-1773945000-1773948600@rooted303.org
SUMMARY:Friends & Family CRAFT Group (Virtual)
DESCRIPTION:Click here to Join  our Zoom Meeting! 
URL:https://rooted303.org/event/friends-family-craft-group-virtual-81/
LOCATION:Zoom
END:VEVENT
BEGIN:VEVENT
DTSTART;TZID=America/Denver:20260319T183000
DTEND;TZID=America/Denver:20260319T193000
DTSTAMP:20260422T053135
CREATED:20251117T185934Z
LAST-MODIFIED:20251123T200008Z
UID:11401-1773945000-1773948600@rooted303.org
SUMMARY:Friends & Family CRAFT Group (Virtual)
DESCRIPTION:Click here to Join  our Zoom Meeting! 
URL:https://rooted303.org/event/friends-family-craft-group-virtual-62/
LOCATION:Zoom
END:VEVENT
BEGIN:VEVENT
DTSTART;TZID=America/Denver:20260319T183000
DTEND;TZID=America/Denver:20260319T193000
DTSTAMP:20260422T053135
CREATED:20251029T174405Z
LAST-MODIFIED:20251116T185900Z
UID:11279-1773945000-1773948600@rooted303.org
SUMMARY:Friends & Family CRAFT Group (Virtual)
DESCRIPTION:────────── \nRooted 303 is inviting you to a scheduled Zoom meeting. \nJoin Zoom Meetinghttps://us02web.zoom.us/j/86491237169?pwd=UFVUVngvVVpPM0toMTBuSGo5UkF1dz09 \nMeeting ID: 864 9123 7169Passcode: 672219 \n— \nOne tap mobile+17193594580\,\,86491237169#\,\,\,\,*672219# US+12532158782\,\,86491237169#\,\,\,\,*672219# US (Tacoma) \n— \nDial by your location• +1 719 359 4580 US• +1 253 215 8782 US (Tacoma)• +1 346 248 7799 US (Houston)• +1 669 444 9171 US• +1 669 900 9128 US (San Jose)• +1 253 205 0468 US• +1 360 209 5623 US• +1 386 347 5053 US• +1 507 473 4847 US• +1 564 217 2000 US• +1 646 558 8656 US (New York)• +1 646 931 3860 US• +1 689 278 1000 US• +1 301 715 8592 US (Washington DC)• +1 305 224 1968 US• +1 309 205 3325 US• +1 312 626 6799 US (Chicago) \nMeeting ID: 864 9123 7169Passcode: 672219 \nFind your local number: https://us02web.zoom.us/u/kdf4Ajtvut \n──────────
URL:https://rooted303.org/event/friends-family-craft-group-virtual-42/
LOCATION:https://us02web.zoom.us/j/86491237169?pwd=UFVUVngvVVpPM0toMTBuSGo5UkF1dz09
END:VEVENT
END:VCALENDAR