BEGIN:VCALENDAR
VERSION:2.0
PRODID:-//Rooted 303 - ECPv6.15.20//NONSGML v1.0//EN
CALSCALE:GREGORIAN
METHOD:PUBLISH
X-WR-CALNAME:Rooted 303
X-ORIGINAL-URL:https://rooted303.org
X-WR-CALDESC:Events for Rooted 303
REFRESH-INTERVAL;VALUE=DURATION:PT1H
X-Robots-Tag:noindex
X-PUBLISHED-TTL:PT1H
BEGIN:VTIMEZONE
TZID:America/Denver
BEGIN:DAYLIGHT
TZOFFSETFROM:-0700
TZOFFSETTO:-0600
TZNAME:MDT
DTSTART:20250309T090000
END:DAYLIGHT
BEGIN:STANDARD
TZOFFSETFROM:-0600
TZOFFSETTO:-0700
TZNAME:MST
DTSTART:20251102T080000
END:STANDARD
BEGIN:DAYLIGHT
TZOFFSETFROM:-0700
TZOFFSETTO:-0600
TZNAME:MDT
DTSTART:20260308T090000
END:DAYLIGHT
BEGIN:STANDARD
TZOFFSETFROM:-0600
TZOFFSETTO:-0700
TZNAME:MST
DTSTART:20261101T080000
END:STANDARD
BEGIN:DAYLIGHT
TZOFFSETFROM:-0700
TZOFFSETTO:-0600
TZNAME:MDT
DTSTART:20270314T090000
END:DAYLIGHT
BEGIN:STANDARD
TZOFFSETFROM:-0600
TZOFFSETTO:-0700
TZNAME:MST
DTSTART:20271107T080000
END:STANDARD
END:VTIMEZONE
BEGIN:VEVENT
DTSTART;TZID=America/Denver:20260701T183000
DTEND;TZID=America/Denver:20260701T193000
DTSTAMP:20260422T214736
CREATED:20260207T202858Z
LAST-MODIFIED:20260416T174331Z
UID:12201-1782930600-1782934200@rooted303.org
SUMMARY:Friends & Family CRAFT Group
DESCRIPTION:
URL:https://rooted303.org/event/friends-family-craft-group-57/
LOCATION:5808 S Rapp St suite 100\, Littleton\, CO\, United States
END:VEVENT
BEGIN:VEVENT
DTSTART;TZID=America/Denver:20260701T163000
DTEND;TZID=America/Denver:20260701T173000
DTSTAMP:20260422T214736
CREATED:20260216T212842Z
LAST-MODIFIED:20260416T174331Z
UID:12499-1782923400-1782927000@rooted303.org
SUMMARY:THE ROSE
DESCRIPTION:
URL:https://rooted303.org/event/the-rose-20/
END:VEVENT
BEGIN:VEVENT
DTSTART;TZID=America/Denver:20260701T130000
DTEND;TZID=America/Denver:20260701T140000
DTSTAMP:20260422T214736
CREATED:20260207T202858Z
LAST-MODIFIED:20260416T174331Z
UID:12199-1782910800-1782914400@rooted303.org
SUMMARY:Francis Heights - Mindfulness and Meditation Group
DESCRIPTION:Join us every Wednesday at 1 PM!
URL:https://rooted303.org/event/francis-heights-mindfulness-and-meditation-group/
LOCATION:Francis Heights\, 3805 W 26th Ave\, Denver\, CO\, United States
END:VEVENT
BEGIN:VEVENT
DTSTART;TZID=America/Denver:20260701T123000
DTEND;TZID=America/Denver:20260701T133000
DTSTAMP:20260422T214736
CREATED:20260207T202858Z
LAST-MODIFIED:20260416T174331Z
UID:12200-1782909000-1782912600@rooted303.org
SUMMARY:Aromor - Mercy Housing Residents Only
DESCRIPTION:
URL:https://rooted303.org/event/aromor-mercy-housing-residents-only-57/
END:VEVENT
BEGIN:VEVENT
DTSTART;TZID=America/Denver:20260701T100000
DTEND;TZID=America/Denver:20260701T110000
DTSTAMP:20260422T214736
CREATED:20260206T202854Z
LAST-MODIFIED:20260416T174331Z
UID:12150-1782900000-1782903600@rooted303.org
SUMMARY:Clare of Assisi/Villa Maria - Mercy Housing
DESCRIPTION:
URL:https://rooted303.org/event/clare-of-assisi-villa-maria-mercy-housing-56/
END:VEVENT
BEGIN:VEVENT
DTSTART;TZID=America/Denver:20260701T090000
DTEND;TZID=America/Denver:20260701T100000
DTSTAMP:20260422T214736
CREATED:20260206T202854Z
LAST-MODIFIED:20260206T202854Z
UID:12149-1782896400-1782900000@rooted303.org
SUMMARY:Women's Recovery Group - Rooted & Rising Woman
DESCRIPTION:Women’s Recovery Group – Rooted & Rising Woman9 am – 10 amJoin us Here!
URL:https://rooted303.org/event/womens-recovery-group-rooted-rising-woman-29/
LOCATION:Hybrid
END:VEVENT
BEGIN:VEVENT
DTSTART;TZID=America/Denver:20260630T140000
DTEND;TZID=America/Denver:20260630T150000
DTSTAMP:20260422T214736
CREATED:20260206T202854Z
LAST-MODIFIED:20260416T174331Z
UID:12148-1782828000-1782831600@rooted303.org
SUMMARY:Franconia - Mercy Housing Residents Only
DESCRIPTION:
URL:https://rooted303.org/event/franconia-mercy-housing-residents-only-57/
END:VEVENT
BEGIN:VEVENT
DTSTART;TZID=America/Denver:20260630T123000
DTEND;TZID=America/Denver:20260630T133000
DTSTAMP:20260422T214736
CREATED:20260416T174330Z
LAST-MODIFIED:20260416T174330Z
UID:12767-1782822600-1782826200@rooted303.org
SUMMARY:Holly Park - Residents Only
DESCRIPTION:
URL:https://rooted303.org/event/holly-park-residents-only-11/
END:VEVENT
BEGIN:VEVENT
DTSTART;TZID=America/Denver:20260630T120000
DTEND;TZID=America/Denver:20260630T130000
DTSTAMP:20260422T214736
CREATED:20260205T202840Z
LAST-MODIFIED:20260416T174330Z
UID:12143-1782820800-1782824400@rooted303.org
SUMMARY:Francis Heights - Mercy Housing Residents Only
DESCRIPTION:
URL:https://rooted303.org/event/francis-heights-mercy-housing-residents-only-57/
END:VEVENT
BEGIN:VEVENT
DTSTART;TZID=America/Denver:20260629T170000
DTEND;TZID=America/Denver:20260629T180000
DTSTAMP:20260422T214736
CREATED:20260211T205911Z
LAST-MODIFIED:20260416T174330Z
UID:12419-1782752400-1782756000@rooted303.org
SUMMARY:Nest 56 - Residents Only
DESCRIPTION:
URL:https://rooted303.org/event/nest-56-residents-only-84/
END:VEVENT
BEGIN:VEVENT
DTSTART;TZID=America/Denver:20260629T120000
DTEND;TZID=America/Denver:20260629T150000
DTSTAMP:20260422T214736
CREATED:20260205T202840Z
LAST-MODIFIED:20260206T202853Z
UID:12142-1782734400-1782745200@rooted303.org
SUMMARY:Bridge House
DESCRIPTION:
URL:https://rooted303.org/event/bridge-house-219/
END:VEVENT
BEGIN:VEVENT
DTSTART;TZID=America/Denver:20260629T101500
DTEND;TZID=America/Denver:20260629T111500
DTSTAMP:20260422T214736
CREATED:20260205T202840Z
LAST-MODIFIED:20260206T202853Z
UID:12141-1782728100-1782731700@rooted303.org
SUMMARY:Sacred Roots Community Group
DESCRIPTION:Open to all Spiritual/Religious PathsJoin Here!
URL:https://rooted303.org/event/sacred-roots-community-group-70/
LOCATION:Hybrid
END:VEVENT
BEGIN:VEVENT
DTSTART;TZID=America/Denver:20260626T140000
DTEND;TZID=America/Denver:20260626T150000
DTSTAMP:20260422T214736
CREATED:20260204T202849Z
LAST-MODIFIED:20260416T174330Z
UID:12132-1782482400-1782486000@rooted303.org
SUMMARY:HWH - Residents Only
DESCRIPTION:
URL:https://rooted303.org/event/hwh-residents-only-55/
END:VEVENT
BEGIN:VEVENT
DTSTART;TZID=America/Denver:20260626T120000
DTEND;TZID=America/Denver:20260626T150000
DTSTAMP:20260422T214736
CREATED:20260204T202849Z
LAST-MODIFIED:20260206T202853Z
UID:12130-1782475200-1782486000@rooted303.org
SUMMARY:Bridge House
DESCRIPTION:
URL:https://rooted303.org/event/bridge-house-218/
END:VEVENT
BEGIN:VEVENT
DTSTART;TZID=America/Denver:20260626T120000
DTEND;TZID=America/Denver:20260626T130000
DTSTAMP:20260422T214736
CREATED:20260204T202849Z
LAST-MODIFIED:20260416T174330Z
UID:12131-1782475200-1782478800@rooted303.org
SUMMARY:Francis Heights - Grief Group - Mercy Housing Residents Only
DESCRIPTION:
URL:https://rooted303.org/event/francis-heights-grief-group-mercy-housing-residents-only-57/
END:VEVENT
BEGIN:VEVENT
DTSTART;TZID=America/Denver:20260625T183000
DTEND;TZID=America/Denver:20260625T193000
DTSTAMP:20260422T214736
CREATED:20260204T202849Z
LAST-MODIFIED:20260206T202853Z
UID:12129-1782412200-1782415800@rooted303.org
SUMMARY:Friends & Family CRAFT Group (Virtual)
DESCRIPTION:Click here to Join  our Zoom Meeting! 
URL:https://rooted303.org/event/friends-family-craft-group-virtual-96/
LOCATION:Zoom
END:VEVENT
BEGIN:VEVENT
DTSTART;TZID=America/Denver:20260625T150000
DTEND;TZID=America/Denver:20260625T160000
DTSTAMP:20260422T214736
CREATED:20260204T202849Z
LAST-MODIFIED:20260215T212832Z
UID:12128-1782399600-1782403200@rooted303.org
SUMMARY:The Rose - Residents Only
DESCRIPTION:
URL:https://rooted303.org/event/the-rose-residents-only-28/
END:VEVENT
BEGIN:VEVENT
DTSTART;TZID=America/Denver:20260625T130000
DTEND;TZID=America/Denver:20260625T140000
DTSTAMP:20260422T214736
CREATED:20260207T202858Z
LAST-MODIFIED:20260416T174330Z
UID:12196-1782392400-1782396000@rooted303.org
SUMMARY:Friends & Family CRAFT Group (Virtual)
DESCRIPTION:Click here to Join  our Zoom Meeting! 
URL:https://rooted303.org/event/friends-family-craft-group-virtual-116/
LOCATION:Zoom
END:VEVENT
BEGIN:VEVENT
DTSTART;TZID=America/Denver:20260625T120000
DTEND;TZID=America/Denver:20260625T130000
DTSTAMP:20260422T214736
CREATED:20260203T202855Z
LAST-MODIFIED:20260210T205839Z
UID:12124-1782388800-1782392400@rooted303.org
SUMMARY:Nest 56 - Residents Only
DESCRIPTION:
URL:https://rooted303.org/event/nest-56-residents-only-56/
END:VEVENT
BEGIN:VEVENT
DTSTART;TZID=America/Denver:20260624T183000
DTEND;TZID=America/Denver:20260624T193000
DTSTAMP:20260422T214736
CREATED:20260203T202855Z
LAST-MODIFIED:20260416T174330Z
UID:12123-1782325800-1782329400@rooted303.org
SUMMARY:Friends & Family CRAFT Group
DESCRIPTION:
URL:https://rooted303.org/event/friends-family-craft-group-56/
LOCATION:5808 S Rapp St suite 100\, Littleton\, CO\, United States
END:VEVENT
BEGIN:VEVENT
DTSTART;TZID=America/Denver:20260624T163000
DTEND;TZID=America/Denver:20260624T173000
DTSTAMP:20260422T214736
CREATED:20260216T212841Z
LAST-MODIFIED:20260416T174330Z
UID:12498-1782318600-1782322200@rooted303.org
SUMMARY:THE ROSE
DESCRIPTION:
URL:https://rooted303.org/event/the-rose-19/
END:VEVENT
BEGIN:VEVENT
DTSTART;TZID=America/Denver:20260624T130000
DTEND;TZID=America/Denver:20260624T140000
DTSTAMP:20260422T214736
CREATED:20260131T201419Z
LAST-MODIFIED:20260416T174330Z
UID:12113-1782306000-1782309600@rooted303.org
SUMMARY:Francis Heights - Mindfulness and Meditation Group
DESCRIPTION:Join us every Wednesday at 1 PM!
URL:https://rooted303.org/event/mindfulness-and-meditation-group-28/
LOCATION:Francis Heights\, 3805 W 26th Ave\, Denver\, CO\, United States
END:VEVENT
BEGIN:VEVENT
DTSTART;TZID=America/Denver:20260624T123000
DTEND;TZID=America/Denver:20260624T133000
DTSTAMP:20260422T214736
CREATED:20260201T201431Z
LAST-MODIFIED:20260416T174330Z
UID:12116-1782304200-1782307800@rooted303.org
SUMMARY:Aromor - Mercy Housing Residents Only
DESCRIPTION:
URL:https://rooted303.org/event/aromor-mercy-housing-residents-only-56/
END:VEVENT
BEGIN:VEVENT
DTSTART;TZID=America/Denver:20260624T100000
DTEND;TZID=America/Denver:20260624T110000
DTSTAMP:20260422T214736
CREATED:20260131T201419Z
LAST-MODIFIED:20260416T174330Z
UID:12111-1782295200-1782298800@rooted303.org
SUMMARY:Clare of Assisi/Villa Maria - Mercy Housing
DESCRIPTION:
URL:https://rooted303.org/event/clare-of-assisi-villa-maria-mercy-housing-55/
END:VEVENT
BEGIN:VEVENT
DTSTART;TZID=America/Denver:20260624T090000
DTEND;TZID=America/Denver:20260624T100000
DTSTAMP:20260422T214736
CREATED:20260130T201448Z
LAST-MODIFIED:20260206T202853Z
UID:12072-1782291600-1782295200@rooted303.org
SUMMARY:Women's Recovery Group - Rooted & Rising Woman
DESCRIPTION:Women’s Recovery Group – Rooted & Rising Woman9 am – 10 amJoin us Here!
URL:https://rooted303.org/event/womens-recovery-group-rooted-rising-woman-28/
LOCATION:Hybrid
END:VEVENT
BEGIN:VEVENT
DTSTART;TZID=America/Denver:20260623T140000
DTEND;TZID=America/Denver:20260623T150000
DTSTAMP:20260422T214736
CREATED:20260130T201447Z
LAST-MODIFIED:20260416T174329Z
UID:12071-1782223200-1782226800@rooted303.org
SUMMARY:Franconia - Mercy Housing Residents Only
DESCRIPTION:
URL:https://rooted303.org/event/franconia-mercy-housing-residents-only-56/
END:VEVENT
BEGIN:VEVENT
DTSTART;TZID=America/Denver:20260623T123000
DTEND;TZID=America/Denver:20260623T133000
DTSTAMP:20260422T214736
CREATED:20260416T174329Z
LAST-MODIFIED:20260416T174329Z
UID:12766-1782217800-1782221400@rooted303.org
SUMMARY:Holly Park - Residents Only
DESCRIPTION:
URL:https://rooted303.org/event/holly-park-residents-only-10/
END:VEVENT
BEGIN:VEVENT
DTSTART;TZID=America/Denver:20260623T120000
DTEND;TZID=America/Denver:20260623T130000
DTSTAMP:20260422T214736
CREATED:20260130T201447Z
LAST-MODIFIED:20260416T174329Z
UID:12070-1782216000-1782219600@rooted303.org
SUMMARY:Francis Heights - Mercy Housing Residents Only
DESCRIPTION:
URL:https://rooted303.org/event/francis-heights-mercy-housing-residents-only-56/
END:VEVENT
BEGIN:VEVENT
DTSTART;TZID=America/Denver:20260622T170000
DTEND;TZID=America/Denver:20260622T180000
DTSTAMP:20260422T214736
CREATED:20260211T205910Z
LAST-MODIFIED:20260416T174329Z
UID:12418-1782147600-1782151200@rooted303.org
SUMMARY:Nest 56 - Residents Only
DESCRIPTION:
URL:https://rooted303.org/event/nest-56-residents-only-83/
END:VEVENT
BEGIN:VEVENT
DTSTART;TZID=America/Denver:20260622T120000
DTEND;TZID=America/Denver:20260622T150000
DTSTAMP:20260422T214736
CREATED:20260130T201447Z
LAST-MODIFIED:20260206T202852Z
UID:12069-1782129600-1782140400@rooted303.org
SUMMARY:Bridge House
DESCRIPTION:
URL:https://rooted303.org/event/bridge-house-217/
END:VEVENT
END:VCALENDAR