BEGIN:VCALENDAR
VERSION:2.0
PRODID:-//Rooted 303 - ECPv6.15.20//NONSGML v1.0//EN
CALSCALE:GREGORIAN
METHOD:PUBLISH
X-WR-CALNAME:Rooted 303
X-ORIGINAL-URL:https://rooted303.org
X-WR-CALDESC:Events for Rooted 303
REFRESH-INTERVAL;VALUE=DURATION:PT1H
X-Robots-Tag:noindex
X-PUBLISHED-TTL:PT1H
BEGIN:VTIMEZONE
TZID:America/Denver
BEGIN:DAYLIGHT
TZOFFSETFROM:-0700
TZOFFSETTO:-0600
TZNAME:MDT
DTSTART:20250309T090000
END:DAYLIGHT
BEGIN:STANDARD
TZOFFSETFROM:-0600
TZOFFSETTO:-0700
TZNAME:MST
DTSTART:20251102T080000
END:STANDARD
BEGIN:DAYLIGHT
TZOFFSETFROM:-0700
TZOFFSETTO:-0600
TZNAME:MDT
DTSTART:20260308T090000
END:DAYLIGHT
BEGIN:STANDARD
TZOFFSETFROM:-0600
TZOFFSETTO:-0700
TZNAME:MST
DTSTART:20261101T080000
END:STANDARD
BEGIN:DAYLIGHT
TZOFFSETFROM:-0700
TZOFFSETTO:-0600
TZNAME:MDT
DTSTART:20270314T090000
END:DAYLIGHT
BEGIN:STANDARD
TZOFFSETFROM:-0600
TZOFFSETTO:-0700
TZNAME:MST
DTSTART:20271107T080000
END:STANDARD
END:VTIMEZONE
BEGIN:VEVENT
DTSTART;TZID=America/Denver:20260304T163000
DTEND;TZID=America/Denver:20260304T173000
DTSTAMP:20260422T163604
CREATED:20260216T212817Z
LAST-MODIFIED:20260304T222827Z
UID:12482-1772641800-1772645400@rooted303.org
SUMMARY:THE ROSE
DESCRIPTION:
URL:https://rooted303.org/event/the-rose-3/
END:VEVENT
BEGIN:VEVENT
DTSTART;TZID=America/Denver:20260304T123000
DTEND;TZID=America/Denver:20260304T133000
DTSTAMP:20260422T163604
CREATED:20251015T165854Z
LAST-MODIFIED:20260303T221339Z
UID:11197-1772627400-1772631000@rooted303.org
SUMMARY:Aromor - Mercy Housing Residents Only
DESCRIPTION:
URL:https://rooted303.org/event/aromor-mercy-housing-residents-only-40/
END:VEVENT
BEGIN:VEVENT
DTSTART;TZID=America/Denver:20260304T120000
DTEND;TZID=America/Denver:20260304T130000
DTSTAMP:20260422T163604
CREATED:20251210T215841Z
LAST-MODIFIED:20260303T221339Z
UID:11701-1772625600-1772629200@rooted303.org
SUMMARY:Francis Heights - Mindfulness and Meditation Group
DESCRIPTION:Join us every Wednesday at 1 PM!
URL:https://rooted303.org/event/mindfulness-and-meditation-group-12/
LOCATION:Francis Heights\, 3805 W 26th Ave\, Denver\, CO\, United States
END:VEVENT
BEGIN:VEVENT
DTSTART;TZID=America/Denver:20260304T100000
DTEND;TZID=America/Denver:20260304T110000
DTSTAMP:20260422T163604
CREATED:20251015T165854Z
LAST-MODIFIED:20260303T221338Z
UID:11196-1772618400-1772622000@rooted303.org
SUMMARY:Clare of Assisi/Villa Maria - Mercy Housing
DESCRIPTION:
URL:https://rooted303.org/event/clare-of-assisi-villa-maria-mercy-housing-39/
END:VEVENT
BEGIN:VEVENT
DTSTART;TZID=America/Denver:20260304T090000
DTEND;TZID=America/Denver:20260304T100000
DTSTAMP:20260422T163604
CREATED:20260107T185837Z
LAST-MODIFIED:20260206T202832Z
UID:11897-1772614800-1772618400@rooted303.org
SUMMARY:Women's Recovery Group - Rooted & Rising Woman
DESCRIPTION:Women’s Recovery Group – Rooted & Rising Woman9 am – 10 amJoin us Here!
URL:https://rooted303.org/event/womens-recovery-group-rooted-rising-woman-12/
LOCATION:Hybrid
END:VEVENT
BEGIN:VEVENT
DTSTART;TZID=America/Denver:20260303T183000
DTEND;TZID=America/Denver:20260303T193000
DTSTAMP:20260422T163604
CREATED:20251015T165854Z
LAST-MODIFIED:20251124T201358Z
UID:11195-1772562600-1772566200@rooted303.org
SUMMARY:Rooted 303/Exposed Support Group
DESCRIPTION:
URL:https://rooted303.org/event/rooted-303-exposed-support-group-40/
END:VEVENT
BEGIN:VEVENT
DTSTART;TZID=America/Denver:20260303T140000
DTEND;TZID=America/Denver:20260303T150000
DTSTAMP:20260422T163604
CREATED:20251011T165914Z
LAST-MODIFIED:20260302T221316Z
UID:11180-1772546400-1772550000@rooted303.org
SUMMARY:Franconia - Mercy Housing Residents Only
DESCRIPTION:
URL:https://rooted303.org/event/franconia-mercy-housing-residents-only-40/
END:VEVENT
BEGIN:VEVENT
DTSTART;TZID=America/Denver:20260303T120000
DTEND;TZID=America/Denver:20260303T130000
DTSTAMP:20260422T163604
CREATED:20251011T165914Z
LAST-MODIFIED:20260302T221316Z
UID:11178-1772539200-1772542800@rooted303.org
SUMMARY:Francis Heights - Mercy Housing Residents Only
DESCRIPTION:
URL:https://rooted303.org/event/francis-heights-mercy-housing-residents-only-40/
END:VEVENT
BEGIN:VEVENT
DTSTART;TZID=America/Denver:20260303T090000
DTEND;TZID=America/Denver:20260303T120000
DTSTAMP:20260422T163604
CREATED:20251011T165914Z
LAST-MODIFIED:20260129T201334Z
UID:11179-1772528400-1772539200@rooted303.org
SUMMARY:Bridge House
DESCRIPTION:
URL:https://rooted303.org/event/bridge-house-158/
END:VEVENT
BEGIN:VEVENT
DTSTART;TZID=America/Denver:20260302T170000
DTEND;TZID=America/Denver:20260302T180000
DTSTAMP:20260422T163604
CREATED:20260211T205854Z
LAST-MODIFIED:20260302T221316Z
UID:12402-1772470800-1772474400@rooted303.org
SUMMARY:Nest 56 - Residents Only
DESCRIPTION:
URL:https://rooted303.org/event/nest-56-residents-only-67/
END:VEVENT
BEGIN:VEVENT
DTSTART;TZID=America/Denver:20260302T120000
DTEND;TZID=America/Denver:20260302T150000
DTSTAMP:20260422T163604
CREATED:20251010T165920Z
LAST-MODIFIED:20260206T202832Z
UID:11173-1772452800-1772463600@rooted303.org
SUMMARY:Bridge House
DESCRIPTION:
URL:https://rooted303.org/event/bridge-house-157/
END:VEVENT
BEGIN:VEVENT
DTSTART;TZID=America/Denver:20260302T101500
DTEND;TZID=America/Denver:20260302T111500
DTSTAMP:20260422T163604
CREATED:20251215T222833Z
LAST-MODIFIED:20260206T202832Z
UID:11743-1772446500-1772450100@rooted303.org
SUMMARY:Sacred Roots Community Group
DESCRIPTION:Open to all Spiritual/Religious PathsJoin Here!
URL:https://rooted303.org/event/sacred-roots-community-group-53/
LOCATION:Hybrid
END:VEVENT
BEGIN:VEVENT
DTSTART;TZID=America/Denver:20260302T101500
DTEND;TZID=America/Denver:20260302T111500
DTSTAMP:20260422T163604
CREATED:20251124T201358Z
LAST-MODIFIED:20251214T221336Z
UID:11525-1772446500-1772450100@rooted303.org
SUMMARY:Sacred Roots Community Group
DESCRIPTION:Open to all Spiritual/Religious PathsJoin Here 
URL:https://rooted303.org/event/sacred-roots-community-group-34/
LOCATION:Hybrid
END:VEVENT
BEGIN:VEVENT
DTSTART;TZID=America/Denver:20260227T140000
DTEND;TZID=America/Denver:20260227T150000
DTSTAMP:20260422T163604
CREATED:20251010T165920Z
LAST-MODIFIED:20260227T214359Z
UID:11172-1772200800-1772204400@rooted303.org
SUMMARY:HWH - Residents Only
DESCRIPTION:
URL:https://rooted303.org/event/hwh-residents-only-38/
END:VEVENT
BEGIN:VEVENT
DTSTART;TZID=America/Denver:20260227T120000
DTEND;TZID=America/Denver:20260227T150000
DTSTAMP:20260422T163604
CREATED:20251009T164420Z
LAST-MODIFIED:20260206T202832Z
UID:11166-1772193600-1772204400@rooted303.org
SUMMARY:Bridge House
DESCRIPTION:
URL:https://rooted303.org/event/bridge-house-156/
END:VEVENT
BEGIN:VEVENT
DTSTART;TZID=America/Denver:20260227T120000
DTEND;TZID=America/Denver:20260227T130000
DTSTAMP:20260422T163604
CREATED:20251010T165920Z
LAST-MODIFIED:20260226T214342Z
UID:11171-1772193600-1772197200@rooted303.org
SUMMARY:Francis Heights - Grief Group - Mercy Housing Residents Only
DESCRIPTION:
URL:https://rooted303.org/event/francis-heights-grief-group-mercy-housing-residents-only-40/
CATEGORIES:Groups
END:VEVENT
BEGIN:VEVENT
DTSTART;TZID=America/Denver:20260226T183000
DTEND;TZID=America/Denver:20260226T193000
DTSTAMP:20260422T163604
CREATED:20251124T201357Z
LAST-MODIFIED:20260206T202832Z
UID:11524-1772130600-1772134200@rooted303.org
SUMMARY:Friends & Family CRAFT Group (Virtual)
DESCRIPTION:Click here to Join  our Zoom Meeting! 
URL:https://rooted303.org/event/friends-family-craft-group-virtual-78/
LOCATION:Zoom
END:VEVENT
BEGIN:VEVENT
DTSTART;TZID=America/Denver:20260226T183000
DTEND;TZID=America/Denver:20260226T193000
DTSTAMP:20260422T163604
CREATED:20251117T185928Z
LAST-MODIFIED:20251123T195959Z
UID:11398-1772130600-1772134200@rooted303.org
SUMMARY:Friends & Family CRAFT Group (Virtual)
DESCRIPTION:Click here to Join  our Zoom Meeting! 
URL:https://rooted303.org/event/friends-family-craft-group-virtual-59/
LOCATION:Zoom
END:VEVENT
BEGIN:VEVENT
DTSTART;TZID=America/Denver:20260226T183000
DTEND;TZID=America/Denver:20260226T193000
DTSTAMP:20260422T163604
CREATED:20251009T164420Z
LAST-MODIFIED:20251116T185853Z
UID:11165-1772130600-1772134200@rooted303.org
SUMMARY:Friends & Family CRAFT Group (Virtual)
DESCRIPTION:────────── \nRooted 303 is inviting you to a scheduled Zoom meeting. \nJoin Zoom Meetinghttps://us02web.zoom.us/j/86491237169?pwd=UFVUVngvVVpPM0toMTBuSGo5UkF1dz09 \nMeeting ID: 864 9123 7169Passcode: 672219 \n— \nOne tap mobile+17193594580\,\,86491237169#\,\,\,\,*672219# US+12532158782\,\,86491237169#\,\,\,\,*672219# US (Tacoma) \n— \nDial by your location• +1 719 359 4580 US• +1 253 215 8782 US (Tacoma)• +1 346 248 7799 US (Houston)• +1 669 444 9171 US• +1 669 900 9128 US (San Jose)• +1 253 205 0468 US• +1 360 209 5623 US• +1 386 347 5053 US• +1 507 473 4847 US• +1 564 217 2000 US• +1 646 558 8656 US (New York)• +1 646 931 3860 US• +1 689 278 1000 US• +1 301 715 8592 US (Washington DC)• +1 305 224 1968 US• +1 309 205 3325 US• +1 312 626 6799 US (Chicago) \nMeeting ID: 864 9123 7169Passcode: 672219 \nFind your local number: https://us02web.zoom.us/u/kdf4Ajtvut \n──────────
URL:https://rooted303.org/event/friends-family-craft-group-virtual-39/
LOCATION:https://us02web.zoom.us/j/86491237169?pwd=UFVUVngvVVpPM0toMTBuSGo5UkF1dz09
CATEGORIES:Groups
END:VEVENT
BEGIN:VEVENT
DTSTART;TZID=America/Denver:20260226T130000
DTEND;TZID=America/Denver:20260226T140000
DTSTAMP:20260422T163604
CREATED:20260207T202842Z
LAST-MODIFIED:20260225T214329Z
UID:12162-1772110800-1772114400@rooted303.org
SUMMARY:Friends & Family CRAFT Group (Virtual)
DESCRIPTION:Click here to Join  our Zoom Meeting! 
URL:https://rooted303.org/event/friends-family-craft-group-virtual-99/
LOCATION:Zoom
END:VEVENT
BEGIN:VEVENT
DTSTART;TZID=America/Denver:20260226T120000
DTEND;TZID=America/Denver:20260226T130000
DTSTAMP:20260422T163604
CREATED:20251008T164353Z
LAST-MODIFIED:20260210T205825Z
UID:11157-1772107200-1772110800@rooted303.org
SUMMARY:Nest 56 - Residents Only
DESCRIPTION:
URL:https://rooted303.org/event/nest-56-residents-only-39/
END:VEVENT
BEGIN:VEVENT
DTSTART;TZID=America/Denver:20260226T090000
DTEND;TZID=America/Denver:20260226T120000
DTSTAMP:20260422T163604
CREATED:20251009T164419Z
LAST-MODIFIED:20260129T201333Z
UID:11163-1772096400-1772107200@rooted303.org
SUMMARY:Bridge House
DESCRIPTION:
URL:https://rooted303.org/event/bridge-house-155/
END:VEVENT
BEGIN:VEVENT
DTSTART;TZID=America/Denver:20260225T183000
DTEND;TZID=America/Denver:20260225T193000
DTSTAMP:20260422T163604
CREATED:20251008T164353Z
LAST-MODIFIED:20260225T214329Z
UID:11156-1772044200-1772047800@rooted303.org
SUMMARY:Friends & Family CRAFT Group
DESCRIPTION:
URL:https://rooted303.org/event/friends-family-craft-group-39/
LOCATION:5808 S Rapp St suite 100\, Littleton\, CO\, United States
CATEGORIES:Groups
END:VEVENT
BEGIN:VEVENT
DTSTART;TZID=America/Denver:20260225T163000
DTEND;TZID=America/Denver:20260225T173000
DTSTAMP:20260422T163604
CREATED:20260216T212816Z
LAST-MODIFIED:20260225T214329Z
UID:12481-1772037000-1772040600@rooted303.org
SUMMARY:THE ROSE
DESCRIPTION:
URL:https://rooted303.org/event/the-rose-2/
END:VEVENT
BEGIN:VEVENT
DTSTART;TZID=America/Denver:20260225T123000
DTEND;TZID=America/Denver:20260225T133000
DTSTAMP:20260422T163604
CREATED:20251008T164352Z
LAST-MODIFIED:20260223T212814Z
UID:11155-1772022600-1772026200@rooted303.org
SUMMARY:Aromor - Mercy Housing Residents Only
DESCRIPTION:
URL:https://rooted303.org/event/aromor-mercy-housing-residents-only-39/
END:VEVENT
BEGIN:VEVENT
DTSTART;TZID=America/Denver:20260225T120000
DTEND;TZID=America/Denver:20260225T130000
DTSTAMP:20260422T163604
CREATED:20251210T215839Z
LAST-MODIFIED:20260223T212814Z
UID:11700-1772020800-1772024400@rooted303.org
SUMMARY:Francis Heights - Mindfulness and Meditation Group
DESCRIPTION:Join us every Wednesday at 1 PM!
URL:https://rooted303.org/event/mindfulness-and-meditation-group-11/
LOCATION:Francis Heights\, 3805 W 26th Ave\, Denver\, CO\, United States
END:VEVENT
BEGIN:VEVENT
DTSTART;TZID=America/Denver:20260225T100000
DTEND;TZID=America/Denver:20260225T110000
DTSTAMP:20260422T163604
CREATED:20251008T164352Z
LAST-MODIFIED:20260223T212814Z
UID:11154-1772013600-1772017200@rooted303.org
SUMMARY:Clare of Assisi/Villa Maria - Mercy Housing
DESCRIPTION:
URL:https://rooted303.org/event/clare-of-assisi-villa-maria-mercy-housing-38/
END:VEVENT
BEGIN:VEVENT
DTSTART;TZID=America/Denver:20260225T090000
DTEND;TZID=America/Denver:20260225T100000
DTSTAMP:20260422T163604
CREATED:20260107T185835Z
LAST-MODIFIED:20260206T202831Z
UID:11896-1772010000-1772013600@rooted303.org
SUMMARY:Women's Recovery Group - Rooted & Rising Woman
DESCRIPTION:Women’s Recovery Group – Rooted & Rising Woman9 am – 10 amJoin us Here!
URL:https://rooted303.org/event/womens-recovery-group-rooted-rising-woman-11/
LOCATION:Hybrid
END:VEVENT
BEGIN:VEVENT
DTSTART;TZID=America/Denver:20260224T183000
DTEND;TZID=America/Denver:20260224T193000
DTSTAMP:20260422T163604
CREATED:20251004T164419Z
LAST-MODIFIED:20251124T201356Z
UID:11142-1771957800-1771961400@rooted303.org
SUMMARY:Rooted 303/Exposed Support Group
DESCRIPTION:
URL:https://rooted303.org/event/rooted-303-exposed-support-group-39/
CATEGORIES:Groups
END:VEVENT
BEGIN:VEVENT
DTSTART;TZID=America/Denver:20260224T140000
DTEND;TZID=America/Denver:20260224T150000
DTSTAMP:20260422T163604
CREATED:20251004T164419Z
LAST-MODIFIED:20260223T212814Z
UID:11141-1771941600-1771945200@rooted303.org
SUMMARY:Franconia - Mercy Housing Residents Only
DESCRIPTION:
URL:https://rooted303.org/event/franconia-mercy-housing-residents-only-39/
END:VEVENT
END:VCALENDAR