BEGIN:VCALENDAR
VERSION:2.0
PRODID:-//Rooted 303 - ECPv6.15.20//NONSGML v1.0//EN
CALSCALE:GREGORIAN
METHOD:PUBLISH
X-WR-CALNAME:Rooted 303
X-ORIGINAL-URL:https://rooted303.org
X-WR-CALDESC:Events for Rooted 303
REFRESH-INTERVAL;VALUE=DURATION:PT1H
X-Robots-Tag:noindex
X-PUBLISHED-TTL:PT1H
BEGIN:VTIMEZONE
TZID:America/Denver
BEGIN:DAYLIGHT
TZOFFSETFROM:-0700
TZOFFSETTO:-0600
TZNAME:MDT
DTSTART:20250309T090000
END:DAYLIGHT
BEGIN:STANDARD
TZOFFSETFROM:-0600
TZOFFSETTO:-0700
TZNAME:MST
DTSTART:20251102T080000
END:STANDARD
BEGIN:DAYLIGHT
TZOFFSETFROM:-0700
TZOFFSETTO:-0600
TZNAME:MDT
DTSTART:20260308T090000
END:DAYLIGHT
BEGIN:STANDARD
TZOFFSETFROM:-0600
TZOFFSETTO:-0700
TZNAME:MST
DTSTART:20261101T080000
END:STANDARD
BEGIN:DAYLIGHT
TZOFFSETFROM:-0700
TZOFFSETTO:-0600
TZNAME:MDT
DTSTART:20270314T090000
END:DAYLIGHT
BEGIN:STANDARD
TZOFFSETFROM:-0600
TZOFFSETTO:-0700
TZNAME:MST
DTSTART:20271107T080000
END:STANDARD
END:VTIMEZONE
BEGIN:VEVENT
DTSTART;TZID=America/Denver:20260826T123000
DTEND;TZID=America/Denver:20260826T133000
DTSTAMP:20260422T170554
CREATED:20260209T204344Z
LAST-MODIFIED:20260416T174340Z
UID:12393-1787747400-1787751000@rooted303.org
SUMMARY:Aromor - Mercy Housing Residents Only
DESCRIPTION:
URL:https://rooted303.org/event/aromor-mercy-housing-residents-only-65/
END:VEVENT
BEGIN:VEVENT
DTSTART;TZID=America/Denver:20260826T130000
DTEND;TZID=America/Denver:20260826T140000
DTSTAMP:20260422T170554
CREATED:20260210T205847Z
LAST-MODIFIED:20260416T174340Z
UID:12396-1787749200-1787752800@rooted303.org
SUMMARY:Francis Heights - Mindfulness and Meditation Group
DESCRIPTION:Join us every Wednesday at 1 PM!
URL:https://rooted303.org/event/francis-heights-mindfulness-and-meditation-group-9/
LOCATION:Francis Heights\, 3805 W 26th Ave\, Denver\, CO\, United States
END:VEVENT
BEGIN:VEVENT
DTSTART;TZID=America/Denver:20260826T163000
DTEND;TZID=America/Denver:20260826T173000
DTSTAMP:20260422T170554
CREATED:20260218T212858Z
LAST-MODIFIED:20260416T174340Z
UID:12536-1787761800-1787765400@rooted303.org
SUMMARY:THE ROSE
DESCRIPTION:
URL:https://rooted303.org/event/the-rose-28/
END:VEVENT
BEGIN:VEVENT
DTSTART;TZID=America/Denver:20260826T183000
DTEND;TZID=America/Denver:20260826T193000
DTSTAMP:20260422T170554
CREATED:20260211T205920Z
LAST-MODIFIED:20260416T174340Z
UID:12429-1787769000-1787772600@rooted303.org
SUMMARY:Friends & Family CRAFT Group
DESCRIPTION:
URL:https://rooted303.org/event/friends-family-craft-group-65/
LOCATION:5808 S Rapp St suite 100\, Littleton\, CO\, United States
END:VEVENT
BEGIN:VEVENT
DTSTART;TZID=America/Denver:20260827T130000
DTEND;TZID=America/Denver:20260827T140000
DTSTAMP:20260422T170554
CREATED:20260211T205920Z
LAST-MODIFIED:20260416T174341Z
UID:12430-1787835600-1787839200@rooted303.org
SUMMARY:Friends & Family CRAFT Group (Virtual)
DESCRIPTION:Click here to Join  our Zoom Meeting! 
URL:https://rooted303.org/event/friends-family-craft-group-virtual-125/
LOCATION:Zoom
END:VEVENT
BEGIN:VEVENT
DTSTART;TZID=America/Denver:20260828T120000
DTEND;TZID=America/Denver:20260828T130000
DTSTAMP:20260422T170554
CREATED:20260211T205921Z
LAST-MODIFIED:20260416T174341Z
UID:12431-1787918400-1787922000@rooted303.org
SUMMARY:Francis Heights - Grief Group - Mercy Housing Residents Only
DESCRIPTION:
URL:https://rooted303.org/event/francis-heights-grief-group-mercy-housing-residents-only-66/
END:VEVENT
BEGIN:VEVENT
DTSTART;TZID=America/Denver:20260828T140000
DTEND;TZID=America/Denver:20260828T150000
DTSTAMP:20260422T170554
CREATED:20260211T205921Z
LAST-MODIFIED:20260416T174341Z
UID:12432-1787925600-1787929200@rooted303.org
SUMMARY:HWH - Residents Only
DESCRIPTION:
URL:https://rooted303.org/event/hwh-residents-only-64/
END:VEVENT
BEGIN:VEVENT
DTSTART;TZID=America/Denver:20260831T170000
DTEND;TZID=America/Denver:20260831T180000
DTSTAMP:20260422T170554
CREATED:20260211T205921Z
LAST-MODIFIED:20260416T174341Z
UID:12433-1788195600-1788199200@rooted303.org
SUMMARY:Nest 56 - Residents Only
DESCRIPTION:
URL:https://rooted303.org/event/nest-56-residents-only-93/
END:VEVENT
BEGIN:VEVENT
DTSTART;TZID=America/Denver:20260901T120000
DTEND;TZID=America/Denver:20260901T130000
DTSTAMP:20260422T170554
CREATED:20260212T211352Z
LAST-MODIFIED:20260416T174341Z
UID:12468-1788264000-1788267600@rooted303.org
SUMMARY:Francis Heights - Mercy Housing Residents Only
DESCRIPTION:
URL:https://rooted303.org/event/francis-heights-mercy-housing-residents-only-66/
END:VEVENT
BEGIN:VEVENT
DTSTART;TZID=America/Denver:20260901T123000
DTEND;TZID=America/Denver:20260901T133000
DTSTAMP:20260422T170554
CREATED:20260416T174341Z
LAST-MODIFIED:20260416T174341Z
UID:12776-1788265800-1788269400@rooted303.org
SUMMARY:Holly Park - Residents Only
DESCRIPTION:
URL:https://rooted303.org/event/holly-park-residents-only-20/
END:VEVENT
BEGIN:VEVENT
DTSTART;TZID=America/Denver:20260901T140000
DTEND;TZID=America/Denver:20260901T150000
DTSTAMP:20260422T170554
CREATED:20260212T211352Z
LAST-MODIFIED:20260416T174341Z
UID:12469-1788271200-1788274800@rooted303.org
SUMMARY:Franconia - Mercy Housing Residents Only
DESCRIPTION:
URL:https://rooted303.org/event/franconia-mercy-housing-residents-only-66/
END:VEVENT
BEGIN:VEVENT
DTSTART;TZID=America/Denver:20260902T100000
DTEND;TZID=America/Denver:20260902T110000
DTSTAMP:20260422T170554
CREATED:20260213T212855Z
LAST-MODIFIED:20260416T174342Z
UID:12473-1788343200-1788346800@rooted303.org
SUMMARY:Clare of Assisi/Villa Maria - Mercy Housing
DESCRIPTION:
URL:https://rooted303.org/event/clare-of-assisi-villa-maria-mercy-housing-65/
END:VEVENT
BEGIN:VEVENT
DTSTART;TZID=America/Denver:20260902T123000
DTEND;TZID=America/Denver:20260902T133000
DTSTAMP:20260422T170554
CREATED:20260214T212852Z
LAST-MODIFIED:20260416T174342Z
UID:12476-1788352200-1788355800@rooted303.org
SUMMARY:Aromor - Mercy Housing Residents Only
DESCRIPTION:
URL:https://rooted303.org/event/aromor-mercy-housing-residents-only-66/
END:VEVENT
BEGIN:VEVENT
DTSTART;TZID=America/Denver:20260902T130000
DTEND;TZID=America/Denver:20260902T140000
DTSTAMP:20260422T170554
CREATED:20260225T214358Z
LAST-MODIFIED:20260416T174342Z
UID:12545-1788354000-1788357600@rooted303.org
SUMMARY:Francis Heights - Mindfulness and Meditation Group
DESCRIPTION:Join us every Wednesday at 1 PM!
URL:https://rooted303.org/event/francis-heights-mindfulness-and-meditation-group-10/
LOCATION:Francis Heights\, 3805 W 26th Ave\, Denver\, CO\, United States
END:VEVENT
BEGIN:VEVENT
DTSTART;TZID=America/Denver:20260902T163000
DTEND;TZID=America/Denver:20260902T173000
DTSTAMP:20260422T170554
CREATED:20260225T214358Z
LAST-MODIFIED:20260416T174342Z
UID:12546-1788366600-1788370200@rooted303.org
SUMMARY:THE ROSE
DESCRIPTION:
URL:https://rooted303.org/event/the-rose-29/
END:VEVENT
BEGIN:VEVENT
DTSTART;TZID=America/Denver:20260902T183000
DTEND;TZID=America/Denver:20260902T193000
DTSTAMP:20260422T170554
CREATED:20260225T214358Z
LAST-MODIFIED:20260416T174342Z
UID:12547-1788373800-1788377400@rooted303.org
SUMMARY:Friends & Family CRAFT Group
DESCRIPTION:
URL:https://rooted303.org/event/friends-family-craft-group-66/
LOCATION:5808 S Rapp St suite 100\, Littleton\, CO\, United States
END:VEVENT
BEGIN:VEVENT
DTSTART;TZID=America/Denver:20260903T130000
DTEND;TZID=America/Denver:20260903T140000
DTSTAMP:20260422T170554
CREATED:20260225T214358Z
LAST-MODIFIED:20260416T174342Z
UID:12548-1788440400-1788444000@rooted303.org
SUMMARY:Friends & Family CRAFT Group (Virtual)
DESCRIPTION:Click here to Join  our Zoom Meeting! 
URL:https://rooted303.org/event/friends-family-craft-group-virtual-126/
LOCATION:Zoom
END:VEVENT
BEGIN:VEVENT
DTSTART;TZID=America/Denver:20260904T120000
DTEND;TZID=America/Denver:20260904T130000
DTSTAMP:20260422T170554
CREATED:20260226T214414Z
LAST-MODIFIED:20260416T174342Z
UID:12554-1788523200-1788526800@rooted303.org
SUMMARY:Francis Heights - Grief Group - Mercy Housing Residents Only
DESCRIPTION:
URL:https://rooted303.org/event/francis-heights-grief-group-mercy-housing-residents-only-67/
END:VEVENT
BEGIN:VEVENT
DTSTART;TZID=America/Denver:20260904T140000
DTEND;TZID=America/Denver:20260904T150000
DTSTAMP:20260422T170554
CREATED:20260226T214414Z
LAST-MODIFIED:20260416T174342Z
UID:12555-1788530400-1788534000@rooted303.org
SUMMARY:HWH - Residents Only
DESCRIPTION:
URL:https://rooted303.org/event/hwh-residents-only-65/
END:VEVENT
BEGIN:VEVENT
DTSTART;TZID=America/Denver:20260907T170000
DTEND;TZID=America/Denver:20260907T180000
DTSTAMP:20260422T170554
CREATED:20260226T214414Z
LAST-MODIFIED:20260416T174342Z
UID:12556-1788800400-1788804000@rooted303.org
SUMMARY:Nest 56 - Residents Only
DESCRIPTION:
URL:https://rooted303.org/event/nest-56-residents-only-94/
END:VEVENT
BEGIN:VEVENT
DTSTART;TZID=America/Denver:20260908T120000
DTEND;TZID=America/Denver:20260908T130000
DTSTAMP:20260422T170554
CREATED:20260227T214428Z
LAST-MODIFIED:20260416T174343Z
UID:12561-1788868800-1788872400@rooted303.org
SUMMARY:Francis Heights - Mercy Housing Residents Only
DESCRIPTION:
URL:https://rooted303.org/event/francis-heights-mercy-housing-residents-only-67/
END:VEVENT
BEGIN:VEVENT
DTSTART;TZID=America/Denver:20260908T123000
DTEND;TZID=America/Denver:20260908T133000
DTSTAMP:20260422T170554
CREATED:20260416T174343Z
LAST-MODIFIED:20260416T174343Z
UID:12777-1788870600-1788874200@rooted303.org
SUMMARY:Holly Park - Residents Only
DESCRIPTION:
URL:https://rooted303.org/event/holly-park-residents-only-21/
END:VEVENT
BEGIN:VEVENT
DTSTART;TZID=America/Denver:20260908T140000
DTEND;TZID=America/Denver:20260908T150000
DTSTAMP:20260422T170554
CREATED:20260228T215847Z
LAST-MODIFIED:20260416T174343Z
UID:12567-1788876000-1788879600@rooted303.org
SUMMARY:Franconia - Mercy Housing Residents Only
DESCRIPTION:
URL:https://rooted303.org/event/franconia-mercy-housing-residents-only-67/
END:VEVENT
BEGIN:VEVENT
DTSTART;TZID=America/Denver:20260909T100000
DTEND;TZID=America/Denver:20260909T110000
DTSTAMP:20260422T170554
CREATED:20260303T221408Z
LAST-MODIFIED:20260416T174343Z
UID:12585-1788948000-1788951600@rooted303.org
SUMMARY:Clare of Assisi/Villa Maria - Mercy Housing
DESCRIPTION:
URL:https://rooted303.org/event/clare-of-assisi-villa-maria-mercy-housing-66/
END:VEVENT
BEGIN:VEVENT
DTSTART;TZID=America/Denver:20260909T123000
DTEND;TZID=America/Denver:20260909T133000
DTSTAMP:20260422T170554
CREATED:20260303T221408Z
LAST-MODIFIED:20260416T174343Z
UID:12586-1788957000-1788960600@rooted303.org
SUMMARY:Aromor - Mercy Housing Residents Only
DESCRIPTION:
URL:https://rooted303.org/event/aromor-mercy-housing-residents-only-67/
END:VEVENT
BEGIN:VEVENT
DTSTART;TZID=America/Denver:20260909T130000
DTEND;TZID=America/Denver:20260909T140000
DTSTAMP:20260422T170554
CREATED:20260303T221409Z
LAST-MODIFIED:20260416T174343Z
UID:12587-1788958800-1788962400@rooted303.org
SUMMARY:Francis Heights - Mindfulness and Meditation Group
DESCRIPTION:Join us every Wednesday at 1 PM!
URL:https://rooted303.org/event/francis-heights-mindfulness-and-meditation-group-11/
LOCATION:Francis Heights\, 3805 W 26th Ave\, Denver\, CO\, United States
END:VEVENT
BEGIN:VEVENT
DTSTART;TZID=America/Denver:20260909T163000
DTEND;TZID=America/Denver:20260909T173000
DTSTAMP:20260422T170554
CREATED:20260304T222900Z
LAST-MODIFIED:20260416T174343Z
UID:12592-1788971400-1788975000@rooted303.org
SUMMARY:THE ROSE
DESCRIPTION:
URL:https://rooted303.org/event/the-rose-30/
END:VEVENT
BEGIN:VEVENT
DTSTART;TZID=America/Denver:20260909T183000
DTEND;TZID=America/Denver:20260909T193000
DTSTAMP:20260422T170554
CREATED:20260304T222900Z
LAST-MODIFIED:20260416T174343Z
UID:12593-1788978600-1788982200@rooted303.org
SUMMARY:Friends & Family CRAFT Group
DESCRIPTION:
URL:https://rooted303.org/event/friends-family-craft-group-67/
LOCATION:5808 S Rapp St suite 100\, Littleton\, CO\, United States
END:VEVENT
BEGIN:VEVENT
DTSTART;TZID=America/Denver:20260910T130000
DTEND;TZID=America/Denver:20260910T140000
DTSTAMP:20260422T170554
CREATED:20260304T222900Z
LAST-MODIFIED:20260416T174343Z
UID:12594-1789045200-1789048800@rooted303.org
SUMMARY:Friends & Family CRAFT Group (Virtual)
DESCRIPTION:Click here to Join  our Zoom Meeting! 
URL:https://rooted303.org/event/friends-family-craft-group-virtual-127/
LOCATION:Zoom
END:VEVENT
BEGIN:VEVENT
DTSTART;TZID=America/Denver:20260911T120000
DTEND;TZID=America/Denver:20260911T130000
DTSTAMP:20260422T170554
CREATED:20260305T222850Z
LAST-MODIFIED:20260416T174343Z
UID:12599-1789128000-1789131600@rooted303.org
SUMMARY:Francis Heights - Grief Group - Mercy Housing Residents Only
DESCRIPTION:
URL:https://rooted303.org/event/francis-heights-grief-group-mercy-housing-residents-only-68/
END:VEVENT
END:VCALENDAR