BEGIN:VCALENDAR
VERSION:2.0
PRODID:-//Rooted 303 - ECPv6.15.20//NONSGML v1.0//EN
CALSCALE:GREGORIAN
METHOD:PUBLISH
X-ORIGINAL-URL:https://rooted303.org
X-WR-CALDESC:Events for Rooted 303
REFRESH-INTERVAL;VALUE=DURATION:PT1H
X-Robots-Tag:noindex
X-PUBLISHED-TTL:PT1H
BEGIN:VTIMEZONE
TZID:America/Denver
BEGIN:DAYLIGHT
TZOFFSETFROM:-0700
TZOFFSETTO:-0600
TZNAME:MDT
DTSTART:20250309T090000
END:DAYLIGHT
BEGIN:STANDARD
TZOFFSETFROM:-0600
TZOFFSETTO:-0700
TZNAME:MST
DTSTART:20251102T080000
END:STANDARD
BEGIN:DAYLIGHT
TZOFFSETFROM:-0700
TZOFFSETTO:-0600
TZNAME:MDT
DTSTART:20260308T090000
END:DAYLIGHT
BEGIN:STANDARD
TZOFFSETFROM:-0600
TZOFFSETTO:-0700
TZNAME:MST
DTSTART:20261101T080000
END:STANDARD
BEGIN:DAYLIGHT
TZOFFSETFROM:-0700
TZOFFSETTO:-0600
TZNAME:MDT
DTSTART:20270314T090000
END:DAYLIGHT
BEGIN:STANDARD
TZOFFSETFROM:-0600
TZOFFSETTO:-0700
TZNAME:MST
DTSTART:20271107T080000
END:STANDARD
END:VTIMEZONE
BEGIN:VEVENT
DTSTART;TZID=America/Denver:20260724T120000
DTEND;TZID=America/Denver:20260724T130000
DTSTAMP:20260422T180529
CREATED:20260207T202906Z
LAST-MODIFIED:20260416T174334Z
UID:12236-1784894400-1784898000@rooted303.org
SUMMARY:Francis Heights - Grief Group - Mercy Housing Residents Only
DESCRIPTION:
URL:https://rooted303.org/event/francis-heights-grief-group-mercy-housing-residents-only-61/
END:VEVENT
BEGIN:VEVENT
DTSTART;TZID=America/Denver:20260724T140000
DTEND;TZID=America/Denver:20260724T150000
DTSTAMP:20260422T180529
CREATED:20260207T202906Z
LAST-MODIFIED:20260416T174335Z
UID:12237-1784901600-1784905200@rooted303.org
SUMMARY:HWH - Residents Only
DESCRIPTION:
URL:https://rooted303.org/event/hwh-residents-only-59/
END:VEVENT
BEGIN:VEVENT
DTSTART;TZID=America/Denver:20260727T170000
DTEND;TZID=America/Denver:20260727T180000
DTSTAMP:20260422T180529
CREATED:20260211T205916Z
LAST-MODIFIED:20260416T174335Z
UID:12423-1785171600-1785175200@rooted303.org
SUMMARY:Nest 56 - Residents Only
DESCRIPTION:
URL:https://rooted303.org/event/nest-56-residents-only-88/
END:VEVENT
BEGIN:VEVENT
DTSTART;TZID=America/Denver:20260728T120000
DTEND;TZID=America/Denver:20260728T130000
DTSTAMP:20260422T180529
CREATED:20260207T202907Z
LAST-MODIFIED:20260416T174335Z
UID:12238-1785240000-1785243600@rooted303.org
SUMMARY:Francis Heights - Mercy Housing Residents Only
DESCRIPTION:
URL:https://rooted303.org/event/francis-heights-mercy-housing-residents-only-61/
END:VEVENT
BEGIN:VEVENT
DTSTART;TZID=America/Denver:20260728T123000
DTEND;TZID=America/Denver:20260728T133000
DTSTAMP:20260422T180529
CREATED:20260416T174335Z
LAST-MODIFIED:20260416T174335Z
UID:12771-1785241800-1785245400@rooted303.org
SUMMARY:Holly Park - Residents Only
DESCRIPTION:
URL:https://rooted303.org/event/holly-park-residents-only-15/
END:VEVENT
BEGIN:VEVENT
DTSTART;TZID=America/Denver:20260728T140000
DTEND;TZID=America/Denver:20260728T150000
DTSTAMP:20260422T180529
CREATED:20260207T202907Z
LAST-MODIFIED:20260416T174335Z
UID:12239-1785247200-1785250800@rooted303.org
SUMMARY:Franconia - Mercy Housing Residents Only
DESCRIPTION:
URL:https://rooted303.org/event/franconia-mercy-housing-residents-only-61/
END:VEVENT
BEGIN:VEVENT
DTSTART;TZID=America/Denver:20260729T100000
DTEND;TZID=America/Denver:20260729T110000
DTSTAMP:20260422T180529
CREATED:20260207T202907Z
LAST-MODIFIED:20260416T174335Z
UID:12240-1785319200-1785322800@rooted303.org
SUMMARY:Clare of Assisi/Villa Maria - Mercy Housing
DESCRIPTION:
URL:https://rooted303.org/event/clare-of-assisi-villa-maria-mercy-housing-60/
END:VEVENT
BEGIN:VEVENT
DTSTART;TZID=America/Denver:20260729T123000
DTEND;TZID=America/Denver:20260729T133000
DTSTAMP:20260422T180529
CREATED:20260207T202907Z
LAST-MODIFIED:20260416T174335Z
UID:12241-1785328200-1785331800@rooted303.org
SUMMARY:Aromor - Mercy Housing Residents Only
DESCRIPTION:
URL:https://rooted303.org/event/aromor-mercy-housing-residents-only-61/
END:VEVENT
BEGIN:VEVENT
DTSTART;TZID=America/Denver:20260729T130000
DTEND;TZID=America/Denver:20260729T140000
DTSTAMP:20260422T180529
CREATED:20260207T202907Z
LAST-MODIFIED:20260416T174335Z
UID:12242-1785330000-1785333600@rooted303.org
SUMMARY:Francis Heights - Mindfulness and Meditation Group
DESCRIPTION:Join us every Wednesday at 1 PM!
URL:https://rooted303.org/event/francis-heights-mindfulness-and-meditation-group-5/
LOCATION:Francis Heights\, 3805 W 26th Ave\, Denver\, CO\, United States
END:VEVENT
BEGIN:VEVENT
DTSTART;TZID=America/Denver:20260729T163000
DTEND;TZID=America/Denver:20260729T173000
DTSTAMP:20260422T180529
CREATED:20260216T212847Z
LAST-MODIFIED:20260416T174335Z
UID:12503-1785342600-1785346200@rooted303.org
SUMMARY:THE ROSE
DESCRIPTION:
URL:https://rooted303.org/event/the-rose-24/
END:VEVENT
BEGIN:VEVENT
DTSTART;TZID=America/Denver:20260729T183000
DTEND;TZID=America/Denver:20260729T193000
DTSTAMP:20260422T180529
CREATED:20260207T202908Z
LAST-MODIFIED:20260416T174335Z
UID:12243-1785349800-1785353400@rooted303.org
SUMMARY:Friends & Family CRAFT Group
DESCRIPTION:
URL:https://rooted303.org/event/friends-family-craft-group-61/
LOCATION:5808 S Rapp St suite 100\, Littleton\, CO\, United States
END:VEVENT
BEGIN:VEVENT
DTSTART;TZID=America/Denver:20260730T120000
DTEND;TZID=America/Denver:20260730T130000
DTSTAMP:20260422T180529
CREATED:20260207T202908Z
LAST-MODIFIED:20260210T205844Z
UID:12245-1785412800-1785416400@rooted303.org
SUMMARY:Nest 56 - Residents Only
DESCRIPTION:
URL:https://rooted303.org/event/nest-56-residents-only-61/
END:VEVENT
BEGIN:VEVENT
DTSTART;TZID=America/Denver:20260730T130000
DTEND;TZID=America/Denver:20260730T140000
DTSTAMP:20260422T180529
CREATED:20260207T202908Z
LAST-MODIFIED:20260416T174335Z
UID:12244-1785416400-1785420000@rooted303.org
SUMMARY:Friends & Family CRAFT Group (Virtual)
DESCRIPTION:Click here to Join  our Zoom Meeting! 
URL:https://rooted303.org/event/friends-family-craft-group-virtual-121/
LOCATION:Zoom
END:VEVENT
BEGIN:VEVENT
DTSTART;TZID=America/Denver:20260731T120000
DTEND;TZID=America/Denver:20260731T130000
DTSTAMP:20260422T180529
CREATED:20260207T202908Z
LAST-MODIFIED:20260416T174336Z
UID:12246-1785499200-1785502800@rooted303.org
SUMMARY:Francis Heights - Grief Group - Mercy Housing Residents Only
DESCRIPTION:
URL:https://rooted303.org/event/francis-heights-grief-group-mercy-housing-residents-only-62/
END:VEVENT
BEGIN:VEVENT
DTSTART;TZID=America/Denver:20260731T140000
DTEND;TZID=America/Denver:20260731T150000
DTSTAMP:20260422T180529
CREATED:20260207T202908Z
LAST-MODIFIED:20260416T174336Z
UID:12247-1785506400-1785510000@rooted303.org
SUMMARY:HWH - Residents Only
DESCRIPTION:
URL:https://rooted303.org/event/hwh-residents-only-60/
END:VEVENT
BEGIN:VEVENT
DTSTART;TZID=America/Denver:20260803T170000
DTEND;TZID=America/Denver:20260803T180000
DTSTAMP:20260422T180529
CREATED:20260211T205917Z
LAST-MODIFIED:20260416T174336Z
UID:12424-1785776400-1785780000@rooted303.org
SUMMARY:Nest 56 - Residents Only
DESCRIPTION:
URL:https://rooted303.org/event/nest-56-residents-only-89/
END:VEVENT
BEGIN:VEVENT
DTSTART;TZID=America/Denver:20260804T120000
DTEND;TZID=America/Denver:20260804T130000
DTSTAMP:20260422T180529
CREATED:20260207T202908Z
LAST-MODIFIED:20260416T174336Z
UID:12248-1785844800-1785848400@rooted303.org
SUMMARY:Francis Heights - Mercy Housing Residents Only
DESCRIPTION:
URL:https://rooted303.org/event/francis-heights-mercy-housing-residents-only-62/
END:VEVENT
BEGIN:VEVENT
DTSTART;TZID=America/Denver:20260804T123000
DTEND;TZID=America/Denver:20260804T133000
DTSTAMP:20260422T180529
CREATED:20260416T174336Z
LAST-MODIFIED:20260416T174336Z
UID:12772-1785846600-1785850200@rooted303.org
SUMMARY:Holly Park - Residents Only
DESCRIPTION:
URL:https://rooted303.org/event/holly-park-residents-only-16/
END:VEVENT
BEGIN:VEVENT
DTSTART;TZID=America/Denver:20260804T140000
DTEND;TZID=America/Denver:20260804T150000
DTSTAMP:20260422T180529
CREATED:20260207T202908Z
LAST-MODIFIED:20260416T174336Z
UID:12249-1785852000-1785855600@rooted303.org
SUMMARY:Franconia - Mercy Housing Residents Only
DESCRIPTION:
URL:https://rooted303.org/event/franconia-mercy-housing-residents-only-62/
END:VEVENT
BEGIN:VEVENT
DTSTART;TZID=America/Denver:20260805T100000
DTEND;TZID=America/Denver:20260805T110000
DTSTAMP:20260422T180529
CREATED:20260207T202909Z
LAST-MODIFIED:20260416T174336Z
UID:12250-1785924000-1785927600@rooted303.org
SUMMARY:Clare of Assisi/Villa Maria - Mercy Housing
DESCRIPTION:
URL:https://rooted303.org/event/clare-of-assisi-villa-maria-mercy-housing-61/
END:VEVENT
BEGIN:VEVENT
DTSTART;TZID=America/Denver:20260805T123000
DTEND;TZID=America/Denver:20260805T133000
DTSTAMP:20260422T180529
CREATED:20260207T202909Z
LAST-MODIFIED:20260416T174336Z
UID:12251-1785933000-1785936600@rooted303.org
SUMMARY:Aromor - Mercy Housing Residents Only
DESCRIPTION:
URL:https://rooted303.org/event/aromor-mercy-housing-residents-only-62/
END:VEVENT
BEGIN:VEVENT
DTSTART;TZID=America/Denver:20260805T130000
DTEND;TZID=America/Denver:20260805T140000
DTSTAMP:20260422T180529
CREATED:20260207T202909Z
LAST-MODIFIED:20260416T174336Z
UID:12252-1785934800-1785938400@rooted303.org
SUMMARY:Francis Heights - Mindfulness and Meditation Group
DESCRIPTION:Join us every Wednesday at 1 PM!
URL:https://rooted303.org/event/francis-heights-mindfulness-and-meditation-group-6/
LOCATION:Francis Heights\, 3805 W 26th Ave\, Denver\, CO\, United States
END:VEVENT
BEGIN:VEVENT
DTSTART;TZID=America/Denver:20260805T163000
DTEND;TZID=America/Denver:20260805T173000
DTSTAMP:20260422T180529
CREATED:20260216T212849Z
LAST-MODIFIED:20260416T174336Z
UID:12504-1785947400-1785951000@rooted303.org
SUMMARY:THE ROSE
DESCRIPTION:
URL:https://rooted303.org/event/the-rose-25/
END:VEVENT
BEGIN:VEVENT
DTSTART;TZID=America/Denver:20260805T183000
DTEND;TZID=America/Denver:20260805T193000
DTSTAMP:20260422T180529
CREATED:20260207T202909Z
LAST-MODIFIED:20260416T174336Z
UID:12253-1785954600-1785958200@rooted303.org
SUMMARY:Friends & Family CRAFT Group
DESCRIPTION:
URL:https://rooted303.org/event/friends-family-craft-group-62/
LOCATION:5808 S Rapp St suite 100\, Littleton\, CO\, United States
END:VEVENT
BEGIN:VEVENT
DTSTART;TZID=America/Denver:20260806T120000
DTEND;TZID=America/Denver:20260806T130000
DTSTAMP:20260422T180529
CREATED:20260207T202909Z
LAST-MODIFIED:20260210T205845Z
UID:12254-1786017600-1786021200@rooted303.org
SUMMARY:Nest 56 - Residents Only
DESCRIPTION:
URL:https://rooted303.org/event/nest-56-residents-only-62/
END:VEVENT
BEGIN:VEVENT
DTSTART;TZID=America/Denver:20260806T130000
DTEND;TZID=America/Denver:20260806T140000
DTSTAMP:20260422T180529
CREATED:20260207T202909Z
LAST-MODIFIED:20260416T174337Z
UID:12255-1786021200-1786024800@rooted303.org
SUMMARY:Friends & Family CRAFT Group (Virtual)
DESCRIPTION:Click here to Join  our Zoom Meeting! 
URL:https://rooted303.org/event/friends-family-craft-group-virtual-122/
LOCATION:Zoom
END:VEVENT
BEGIN:VEVENT
DTSTART;TZID=America/Denver:20260806T150000
DTEND;TZID=America/Denver:20260806T160000
DTSTAMP:20260422T180529
CREATED:20260207T202910Z
LAST-MODIFIED:20260215T212839Z
UID:12256-1786028400-1786032000@rooted303.org
SUMMARY:The Rose - Residents Only
DESCRIPTION:
URL:https://rooted303.org/event/the-rose-residents-only-31/
END:VEVENT
BEGIN:VEVENT
DTSTART;TZID=America/Denver:20260807T120000
DTEND;TZID=America/Denver:20260807T130000
DTSTAMP:20260422T180529
CREATED:20260207T202910Z
LAST-MODIFIED:20260416T174337Z
UID:12257-1786104000-1786107600@rooted303.org
SUMMARY:Francis Heights - Grief Group - Mercy Housing Residents Only
DESCRIPTION:
URL:https://rooted303.org/event/francis-heights-grief-group-mercy-housing-residents-only-63/
END:VEVENT
BEGIN:VEVENT
DTSTART;TZID=America/Denver:20260807T140000
DTEND;TZID=America/Denver:20260807T150000
DTSTAMP:20260422T180529
CREATED:20260207T202910Z
LAST-MODIFIED:20260416T174337Z
UID:12258-1786111200-1786114800@rooted303.org
SUMMARY:HWH - Residents Only
DESCRIPTION:
URL:https://rooted303.org/event/hwh-residents-only-61/
END:VEVENT
BEGIN:VEVENT
DTSTART;TZID=America/Denver:20260810T170000
DTEND;TZID=America/Denver:20260810T180000
DTSTAMP:20260422T180529
CREATED:20260211T205918Z
LAST-MODIFIED:20260416T174337Z
UID:12425-1786381200-1786384800@rooted303.org
SUMMARY:Nest 56 - Residents Only
DESCRIPTION:
URL:https://rooted303.org/event/nest-56-residents-only-90/
END:VEVENT
END:VCALENDAR