BEGIN:VCALENDAR
VERSION:2.0
PRODID:-//Rooted 303 - ECPv6.15.20//NONSGML v1.0//EN
CALSCALE:GREGORIAN
METHOD:PUBLISH
X-WR-CALNAME:Rooted 303
X-ORIGINAL-URL:https://rooted303.org
X-WR-CALDESC:Events for Rooted 303
REFRESH-INTERVAL;VALUE=DURATION:PT1H
X-Robots-Tag:noindex
X-PUBLISHED-TTL:PT1H
BEGIN:VTIMEZONE
TZID:America/Denver
BEGIN:DAYLIGHT
TZOFFSETFROM:-0700
TZOFFSETTO:-0600
TZNAME:MDT
DTSTART:20250309T090000
END:DAYLIGHT
BEGIN:STANDARD
TZOFFSETFROM:-0600
TZOFFSETTO:-0700
TZNAME:MST
DTSTART:20251102T080000
END:STANDARD
BEGIN:DAYLIGHT
TZOFFSETFROM:-0700
TZOFFSETTO:-0600
TZNAME:MDT
DTSTART:20260308T090000
END:DAYLIGHT
BEGIN:STANDARD
TZOFFSETFROM:-0600
TZOFFSETTO:-0700
TZNAME:MST
DTSTART:20261101T080000
END:STANDARD
BEGIN:DAYLIGHT
TZOFFSETFROM:-0700
TZOFFSETTO:-0600
TZNAME:MDT
DTSTART:20270314T090000
END:DAYLIGHT
BEGIN:STANDARD
TZOFFSETFROM:-0600
TZOFFSETTO:-0700
TZNAME:MST
DTSTART:20271107T080000
END:STANDARD
END:VTIMEZONE
BEGIN:VEVENT
DTSTART;TZID=America/Denver:20260807T120000
DTEND;TZID=America/Denver:20260807T130000
DTSTAMP:20260421T195436
CREATED:20260207T202910Z
LAST-MODIFIED:20260416T174337Z
UID:12257-1786104000-1786107600@rooted303.org
SUMMARY:Francis Heights - Grief Group - Mercy Housing Residents Only
DESCRIPTION:
URL:https://rooted303.org/event/francis-heights-grief-group-mercy-housing-residents-only-63/
END:VEVENT
BEGIN:VEVENT
DTSTART;TZID=America/Denver:20260807T140000
DTEND;TZID=America/Denver:20260807T150000
DTSTAMP:20260421T195436
CREATED:20260207T202910Z
LAST-MODIFIED:20260416T174337Z
UID:12258-1786111200-1786114800@rooted303.org
SUMMARY:HWH - Residents Only
DESCRIPTION:
URL:https://rooted303.org/event/hwh-residents-only-61/
END:VEVENT
BEGIN:VEVENT
DTSTART;TZID=America/Denver:20260810T170000
DTEND;TZID=America/Denver:20260810T180000
DTSTAMP:20260421T195436
CREATED:20260211T205918Z
LAST-MODIFIED:20260416T174337Z
UID:12425-1786381200-1786384800@rooted303.org
SUMMARY:Nest 56 - Residents Only
DESCRIPTION:
URL:https://rooted303.org/event/nest-56-residents-only-90/
END:VEVENT
BEGIN:VEVENT
DTSTART;TZID=America/Denver:20260811T120000
DTEND;TZID=America/Denver:20260811T130000
DTSTAMP:20260421T195436
CREATED:20260207T202910Z
LAST-MODIFIED:20260416T174337Z
UID:12259-1786449600-1786453200@rooted303.org
SUMMARY:Francis Heights - Mercy Housing Residents Only
DESCRIPTION:
URL:https://rooted303.org/event/francis-heights-mercy-housing-residents-only-63/
END:VEVENT
BEGIN:VEVENT
DTSTART;TZID=America/Denver:20260811T123000
DTEND;TZID=America/Denver:20260811T133000
DTSTAMP:20260421T195436
CREATED:20260416T174337Z
LAST-MODIFIED:20260416T174337Z
UID:12773-1786451400-1786455000@rooted303.org
SUMMARY:Holly Park - Residents Only
DESCRIPTION:
URL:https://rooted303.org/event/holly-park-residents-only-17/
END:VEVENT
BEGIN:VEVENT
DTSTART;TZID=America/Denver:20260811T140000
DTEND;TZID=America/Denver:20260811T150000
DTSTAMP:20260421T195436
CREATED:20260207T202910Z
LAST-MODIFIED:20260416T174337Z
UID:12260-1786456800-1786460400@rooted303.org
SUMMARY:Franconia - Mercy Housing Residents Only
DESCRIPTION:
URL:https://rooted303.org/event/franconia-mercy-housing-residents-only-63/
END:VEVENT
BEGIN:VEVENT
DTSTART;TZID=America/Denver:20260812T100000
DTEND;TZID=America/Denver:20260812T110000
DTSTAMP:20260421T195436
CREATED:20260207T202910Z
LAST-MODIFIED:20260416T174337Z
UID:12261-1786528800-1786532400@rooted303.org
SUMMARY:Clare of Assisi/Villa Maria - Mercy Housing
DESCRIPTION:
URL:https://rooted303.org/event/clare-of-assisi-villa-maria-mercy-housing-62/
END:VEVENT
BEGIN:VEVENT
DTSTART;TZID=America/Denver:20260812T123000
DTEND;TZID=America/Denver:20260812T133000
DTSTAMP:20260421T195436
CREATED:20260207T202911Z
LAST-MODIFIED:20260416T174337Z
UID:12262-1786537800-1786541400@rooted303.org
SUMMARY:Aromor - Mercy Housing Residents Only
DESCRIPTION:
URL:https://rooted303.org/event/aromor-mercy-housing-residents-only-63/
END:VEVENT
BEGIN:VEVENT
DTSTART;TZID=America/Denver:20260812T130000
DTEND;TZID=America/Denver:20260812T140000
DTSTAMP:20260421T195436
CREATED:20260207T202911Z
LAST-MODIFIED:20260416T174337Z
UID:12263-1786539600-1786543200@rooted303.org
SUMMARY:Francis Heights - Mindfulness and Meditation Group
DESCRIPTION:Join us every Wednesday at 1 PM!
URL:https://rooted303.org/event/francis-heights-mindfulness-and-meditation-group-7/
LOCATION:Francis Heights\, 3805 W 26th Ave\, Denver\, CO\, United States
END:VEVENT
BEGIN:VEVENT
DTSTART;TZID=America/Denver:20260812T163000
DTEND;TZID=America/Denver:20260812T173000
DTSTAMP:20260421T195436
CREATED:20260216T212850Z
LAST-MODIFIED:20260416T174337Z
UID:12505-1786552200-1786555800@rooted303.org
SUMMARY:THE ROSE
DESCRIPTION:
URL:https://rooted303.org/event/the-rose-26/
END:VEVENT
BEGIN:VEVENT
DTSTART;TZID=America/Denver:20260812T183000
DTEND;TZID=America/Denver:20260812T193000
DTSTAMP:20260421T195436
CREATED:20260207T202911Z
LAST-MODIFIED:20260416T174337Z
UID:12264-1786559400-1786563000@rooted303.org
SUMMARY:Friends & Family CRAFT Group
DESCRIPTION:
URL:https://rooted303.org/event/friends-family-craft-group-63/
LOCATION:5808 S Rapp St suite 100\, Littleton\, CO\, United States
END:VEVENT
BEGIN:VEVENT
DTSTART;TZID=America/Denver:20260813T120000
DTEND;TZID=America/Denver:20260813T130000
DTSTAMP:20260421T195436
CREATED:20260207T202911Z
LAST-MODIFIED:20260210T205846Z
UID:12265-1786622400-1786626000@rooted303.org
SUMMARY:Nest 56 - Residents Only
DESCRIPTION:
URL:https://rooted303.org/event/nest-56-residents-only-63/
END:VEVENT
BEGIN:VEVENT
DTSTART;TZID=America/Denver:20260813T130000
DTEND;TZID=America/Denver:20260813T140000
DTSTAMP:20260421T195436
CREATED:20260207T202911Z
LAST-MODIFIED:20260416T174338Z
UID:12266-1786626000-1786629600@rooted303.org
SUMMARY:Friends & Family CRAFT Group (Virtual)
DESCRIPTION:Click here to Join  our Zoom Meeting! 
URL:https://rooted303.org/event/friends-family-craft-group-virtual-123/
LOCATION:Zoom
END:VEVENT
BEGIN:VEVENT
DTSTART;TZID=America/Denver:20260814T120000
DTEND;TZID=America/Denver:20260814T130000
DTSTAMP:20260421T195436
CREATED:20260207T202912Z
LAST-MODIFIED:20260416T174338Z
UID:12267-1786708800-1786712400@rooted303.org
SUMMARY:Francis Heights - Grief Group - Mercy Housing Residents Only
DESCRIPTION:
URL:https://rooted303.org/event/francis-heights-grief-group-mercy-housing-residents-only-64/
END:VEVENT
BEGIN:VEVENT
DTSTART;TZID=America/Denver:20260814T140000
DTEND;TZID=America/Denver:20260814T150000
DTSTAMP:20260421T195436
CREATED:20260207T202912Z
LAST-MODIFIED:20260416T174338Z
UID:12268-1786716000-1786719600@rooted303.org
SUMMARY:HWH - Residents Only
DESCRIPTION:
URL:https://rooted303.org/event/hwh-residents-only-62/
END:VEVENT
BEGIN:VEVENT
DTSTART;TZID=America/Denver:20260817T170000
DTEND;TZID=America/Denver:20260817T180000
DTSTAMP:20260421T195436
CREATED:20260211T205919Z
LAST-MODIFIED:20260416T174338Z
UID:12426-1786986000-1786989600@rooted303.org
SUMMARY:Nest 56 - Residents Only
DESCRIPTION:
URL:https://rooted303.org/event/nest-56-residents-only-91/
END:VEVENT
BEGIN:VEVENT
DTSTART;TZID=America/Denver:20260818T120000
DTEND;TZID=America/Denver:20260818T130000
DTSTAMP:20260421T195436
CREATED:20260207T202912Z
LAST-MODIFIED:20260416T174338Z
UID:12269-1787054400-1787058000@rooted303.org
SUMMARY:Francis Heights - Mercy Housing Residents Only
DESCRIPTION:
URL:https://rooted303.org/event/francis-heights-mercy-housing-residents-only-64/
END:VEVENT
BEGIN:VEVENT
DTSTART;TZID=America/Denver:20260818T123000
DTEND;TZID=America/Denver:20260818T133000
DTSTAMP:20260421T195436
CREATED:20260416T174338Z
LAST-MODIFIED:20260416T174338Z
UID:12774-1787056200-1787059800@rooted303.org
SUMMARY:Holly Park - Residents Only
DESCRIPTION:
URL:https://rooted303.org/event/holly-park-residents-only-18/
END:VEVENT
BEGIN:VEVENT
DTSTART;TZID=America/Denver:20260818T140000
DTEND;TZID=America/Denver:20260818T150000
DTSTAMP:20260421T195436
CREATED:20260207T202912Z
LAST-MODIFIED:20260416T174338Z
UID:12270-1787061600-1787065200@rooted303.org
SUMMARY:Franconia - Mercy Housing Residents Only
DESCRIPTION:
URL:https://rooted303.org/event/franconia-mercy-housing-residents-only-64/
END:VEVENT
BEGIN:VEVENT
DTSTART;TZID=America/Denver:20260819T100000
DTEND;TZID=America/Denver:20260819T110000
DTSTAMP:20260421T195436
CREATED:20260207T202912Z
LAST-MODIFIED:20260416T174338Z
UID:12271-1787133600-1787137200@rooted303.org
SUMMARY:Clare of Assisi/Villa Maria - Mercy Housing
DESCRIPTION:
URL:https://rooted303.org/event/clare-of-assisi-villa-maria-mercy-housing-63/
END:VEVENT
BEGIN:VEVENT
DTSTART;TZID=America/Denver:20260819T123000
DTEND;TZID=America/Denver:20260819T133000
DTSTAMP:20260421T195436
CREATED:20260207T202912Z
LAST-MODIFIED:20260416T174338Z
UID:12273-1787142600-1787146200@rooted303.org
SUMMARY:Aromor - Mercy Housing Residents Only
DESCRIPTION:
URL:https://rooted303.org/event/aromor-mercy-housing-residents-only-64/
END:VEVENT
BEGIN:VEVENT
DTSTART;TZID=America/Denver:20260819T130000
DTEND;TZID=America/Denver:20260819T140000
DTSTAMP:20260421T195436
CREATED:20260207T202912Z
LAST-MODIFIED:20260416T174338Z
UID:12272-1787144400-1787148000@rooted303.org
SUMMARY:Francis Heights - Mindfulness and Meditation Group
DESCRIPTION:Join us every Wednesday at 1 PM!
URL:https://rooted303.org/event/francis-heights-mindfulness-and-meditation-group-8/
LOCATION:Francis Heights\, 3805 W 26th Ave\, Denver\, CO\, United States
END:VEVENT
BEGIN:VEVENT
DTSTART;TZID=America/Denver:20260819T163000
DTEND;TZID=America/Denver:20260819T173000
DTSTAMP:20260421T195436
CREATED:20260216T212852Z
LAST-MODIFIED:20260416T174338Z
UID:12506-1787157000-1787160600@rooted303.org
SUMMARY:THE ROSE
DESCRIPTION:
URL:https://rooted303.org/event/the-rose-27/
END:VEVENT
BEGIN:VEVENT
DTSTART;TZID=America/Denver:20260819T183000
DTEND;TZID=America/Denver:20260819T193000
DTSTAMP:20260421T195436
CREATED:20260207T202913Z
LAST-MODIFIED:20260416T174339Z
UID:12274-1787164200-1787167800@rooted303.org
SUMMARY:Friends & Family CRAFT Group
DESCRIPTION:
URL:https://rooted303.org/event/friends-family-craft-group-64/
LOCATION:5808 S Rapp St suite 100\, Littleton\, CO\, United States
END:VEVENT
BEGIN:VEVENT
DTSTART;TZID=America/Denver:20260820T120000
DTEND;TZID=America/Denver:20260820T130000
DTSTAMP:20260421T195436
CREATED:20260207T202913Z
LAST-MODIFIED:20260210T205846Z
UID:12275-1787227200-1787230800@rooted303.org
SUMMARY:Nest 56 - Residents Only
DESCRIPTION:
URL:https://rooted303.org/event/nest-56-residents-only-64/
END:VEVENT
BEGIN:VEVENT
DTSTART;TZID=America/Denver:20260820T130000
DTEND;TZID=America/Denver:20260820T140000
DTSTAMP:20260421T195436
CREATED:20260207T202913Z
LAST-MODIFIED:20260416T174339Z
UID:12276-1787230800-1787234400@rooted303.org
SUMMARY:Friends & Family CRAFT Group (Virtual)
DESCRIPTION:Click here to Join  our Zoom Meeting! 
URL:https://rooted303.org/event/friends-family-craft-group-virtual-124/
LOCATION:Zoom
END:VEVENT
BEGIN:VEVENT
DTSTART;TZID=America/Denver:20260820T150000
DTEND;TZID=America/Denver:20260820T160000
DTSTAMP:20260421T195436
CREATED:20260207T202913Z
LAST-MODIFIED:20260215T212840Z
UID:12277-1787238000-1787241600@rooted303.org
SUMMARY:The Rose - Residents Only
DESCRIPTION:
URL:https://rooted303.org/event/the-rose-residents-only-32/
END:VEVENT
BEGIN:VEVENT
DTSTART;TZID=America/Denver:20260821T120000
DTEND;TZID=America/Denver:20260821T130000
DTSTAMP:20260421T195436
CREATED:20260207T202913Z
LAST-MODIFIED:20260416T174339Z
UID:12278-1787313600-1787317200@rooted303.org
SUMMARY:Francis Heights - Grief Group - Mercy Housing Residents Only
DESCRIPTION:
URL:https://rooted303.org/event/francis-heights-grief-group-mercy-housing-residents-only-65/
END:VEVENT
BEGIN:VEVENT
DTSTART;TZID=America/Denver:20260821T140000
DTEND;TZID=America/Denver:20260821T150000
DTSTAMP:20260421T195436
CREATED:20260207T202913Z
LAST-MODIFIED:20260416T174340Z
UID:12279-1787320800-1787324400@rooted303.org
SUMMARY:HWH - Residents Only
DESCRIPTION:
URL:https://rooted303.org/event/hwh-residents-only-63/
END:VEVENT
BEGIN:VEVENT
DTSTART;TZID=America/Denver:20260824T170000
DTEND;TZID=America/Denver:20260824T180000
DTSTAMP:20260421T195436
CREATED:20260211T205920Z
LAST-MODIFIED:20260416T174340Z
UID:12427-1787590800-1787594400@rooted303.org
SUMMARY:Nest 56 - Residents Only
DESCRIPTION:
URL:https://rooted303.org/event/nest-56-residents-only-92/
END:VEVENT
END:VCALENDAR