BEGIN:VCALENDAR
VERSION:2.0
PRODID:-//Rooted 303 - ECPv6.15.20//NONSGML v1.0//EN
CALSCALE:GREGORIAN
METHOD:PUBLISH
X-WR-CALNAME:Rooted 303
X-ORIGINAL-URL:https://rooted303.org
X-WR-CALDESC:Events for Rooted 303
REFRESH-INTERVAL;VALUE=DURATION:PT1H
X-Robots-Tag:noindex
X-PUBLISHED-TTL:PT1H
BEGIN:VTIMEZONE
TZID:America/Denver
BEGIN:DAYLIGHT
TZOFFSETFROM:-0700
TZOFFSETTO:-0600
TZNAME:MDT
DTSTART:20250309T090000
END:DAYLIGHT
BEGIN:STANDARD
TZOFFSETFROM:-0600
TZOFFSETTO:-0700
TZNAME:MST
DTSTART:20251102T080000
END:STANDARD
BEGIN:DAYLIGHT
TZOFFSETFROM:-0700
TZOFFSETTO:-0600
TZNAME:MDT
DTSTART:20260308T090000
END:DAYLIGHT
BEGIN:STANDARD
TZOFFSETFROM:-0600
TZOFFSETTO:-0700
TZNAME:MST
DTSTART:20261101T080000
END:STANDARD
BEGIN:DAYLIGHT
TZOFFSETFROM:-0700
TZOFFSETTO:-0600
TZNAME:MDT
DTSTART:20270314T090000
END:DAYLIGHT
BEGIN:STANDARD
TZOFFSETFROM:-0600
TZOFFSETTO:-0700
TZNAME:MST
DTSTART:20271107T080000
END:STANDARD
END:VTIMEZONE
BEGIN:VEVENT
DTSTART;TZID=America/Denver:20260218T123000
DTEND;TZID=America/Denver:20260218T133000
DTSTAMP:20260422T221757
CREATED:20251001T164407Z
LAST-MODIFIED:20260217T212828Z
UID:11115-1771417800-1771421400@rooted303.org
SUMMARY:Aromor - Mercy Housing Residents Only
DESCRIPTION:
URL:https://rooted303.org/event/aromor-mercy-housing-residents-only-38/
LOCATION:CO
END:VEVENT
BEGIN:VEVENT
DTSTART;TZID=America/Denver:20260218T120000
DTEND;TZID=America/Denver:20260218T130000
DTSTAMP:20260422T221757
CREATED:20251210T215838Z
LAST-MODIFIED:20260217T212828Z
UID:11699-1771416000-1771419600@rooted303.org
SUMMARY:Francis Heights - Mindfulness and Meditation Group
DESCRIPTION:Join us every Wednesday at 1 PM!
URL:https://rooted303.org/event/mindfulness-and-meditation-group-10/
LOCATION:Francis Heights\, 3805 W 26th Ave\, Denver\, CO\, United States
END:VEVENT
BEGIN:VEVENT
DTSTART;TZID=America/Denver:20260218T100000
DTEND;TZID=America/Denver:20260218T110000
DTSTAMP:20260422T221757
CREATED:20250930T164358Z
LAST-MODIFIED:20260217T212828Z
UID:11112-1771408800-1771412400@rooted303.org
SUMMARY:Clare of Assisi/Villa Maria - Mercy Housing
DESCRIPTION:
URL:https://rooted303.org/event/clare-of-assisi-villa-maria-mercy-housing-37/
LOCATION:CO
END:VEVENT
BEGIN:VEVENT
DTSTART;TZID=America/Denver:20260218T090000
DTEND;TZID=America/Denver:20260218T100000
DTSTAMP:20260422T221757
CREATED:20260107T185833Z
LAST-MODIFIED:20260206T202830Z
UID:11894-1771405200-1771408800@rooted303.org
SUMMARY:Women's Recovery Group - Rooted & Rising Woman
DESCRIPTION:Women’s Recovery Group – Rooted & Rising Woman9 am – 10 amJoin us Here!
URL:https://rooted303.org/event/womens-recovery-group-rooted-rising-woman-9/
LOCATION:Hybrid
END:VEVENT
BEGIN:VEVENT
DTSTART;TZID=America/Denver:20260218T090000
DTEND;TZID=America/Denver:20260218T100000
DTSTAMP:20260422T221757
CREATED:20260107T185833Z
LAST-MODIFIED:20260217T212827Z
UID:11895-1771405200-1771408800@rooted303.org
SUMMARY:Women's Recovery Group - Rooted & Rising Women
DESCRIPTION:Women’s Recovery Group – Rooted & Rising Women9 am – 10 amJoin us Here!
URL:https://rooted303.org/event/womens-recovery-group-rooted-rising-woman-10/
LOCATION:Hybrid
END:VEVENT
BEGIN:VEVENT
DTSTART;TZID=America/Denver:20260217T183000
DTEND;TZID=America/Denver:20260217T193000
DTSTAMP:20260422T221757
CREATED:20250928T162914Z
LAST-MODIFIED:20251124T201353Z
UID:11108-1771353000-1771356600@rooted303.org
SUMMARY:Rooted 303/Exposed Support Group
DESCRIPTION:
URL:https://rooted303.org/event/rooted-303-exposed-support-group-38/
LOCATION:CO
CATEGORIES:Groups
END:VEVENT
BEGIN:VEVENT
DTSTART;TZID=America/Denver:20260217T140000
DTEND;TZID=America/Denver:20260217T150000
DTSTAMP:20260422T221757
CREATED:20250927T162847Z
LAST-MODIFIED:20260217T212827Z
UID:11103-1771336800-1771340400@rooted303.org
SUMMARY:Franconia - Mercy Housing Residents Only
DESCRIPTION:
URL:https://rooted303.org/event/franconia-mercy-housing-residents-only-38/
LOCATION:CO
END:VEVENT
BEGIN:VEVENT
DTSTART;TZID=America/Denver:20260217T120000
DTEND;TZID=America/Denver:20260217T130000
DTSTAMP:20260422T221757
CREATED:20250927T162846Z
LAST-MODIFIED:20260216T212814Z
UID:11101-1771329600-1771333200@rooted303.org
SUMMARY:Francis Heights - Mercy Housing Residents Only
DESCRIPTION:
URL:https://rooted303.org/event/francis-heights-mercy-housing-residents-only-38/
LOCATION:CO
END:VEVENT
BEGIN:VEVENT
DTSTART;TZID=America/Denver:20260217T090000
DTEND;TZID=America/Denver:20260217T120000
DTSTAMP:20260422T221757
CREATED:20250927T162847Z
LAST-MODIFIED:20260129T201330Z
UID:11102-1771318800-1771329600@rooted303.org
SUMMARY:Bridge House
DESCRIPTION:
URL:https://rooted303.org/event/bridge-house-150/
LOCATION:CO
END:VEVENT
BEGIN:VEVENT
DTSTART;TZID=America/Denver:20260216T170000
DTEND;TZID=America/Denver:20260216T180000
DTSTAMP:20260422T221757
CREATED:20260211T205853Z
LAST-MODIFIED:20260216T212813Z
UID:12400-1771261200-1771264800@rooted303.org
SUMMARY:Nest 56 - Residents Only
DESCRIPTION:
URL:https://rooted303.org/event/nest-56-residents-only-65/
LOCATION:CO
END:VEVENT
BEGIN:VEVENT
DTSTART;TZID=America/Denver:20260216T120000
DTEND;TZID=America/Denver:20260216T150000
DTSTAMP:20260422T221757
CREATED:20250926T162939Z
LAST-MODIFIED:20260206T202830Z
UID:11096-1771243200-1771254000@rooted303.org
SUMMARY:Bridge House
DESCRIPTION:
URL:https://rooted303.org/event/bridge-house-149/
LOCATION:CO
END:VEVENT
BEGIN:VEVENT
DTSTART;TZID=America/Denver:20260216T101500
DTEND;TZID=America/Denver:20260216T111500
DTSTAMP:20260422T221757
CREATED:20251215T222828Z
LAST-MODIFIED:20260206T202829Z
UID:11741-1771236900-1771240500@rooted303.org
SUMMARY:Sacred Roots Community Group
DESCRIPTION:Open to all Spiritual/Religious PathsJoin Here!
URL:https://rooted303.org/event/sacred-roots-community-group-51/
LOCATION:Hybrid
END:VEVENT
BEGIN:VEVENT
DTSTART;TZID=America/Denver:20260216T101500
DTEND;TZID=America/Denver:20260216T111500
DTSTAMP:20260422T221757
CREATED:20251124T201353Z
LAST-MODIFIED:20251214T221333Z
UID:11521-1771236900-1771240500@rooted303.org
SUMMARY:Sacred Roots Community Group
DESCRIPTION:Open to all Spiritual/Religious PathsJoin Here 
URL:https://rooted303.org/event/sacred-roots-community-group-32/
LOCATION:Hybrid
END:VEVENT
BEGIN:VEVENT
DTSTART;TZID=America/Denver:20260213T140000
DTEND;TZID=America/Denver:20260213T150000
DTSTAMP:20260422T221757
CREATED:20250926T162938Z
LAST-MODIFIED:20260213T212829Z
UID:11095-1770991200-1770994800@rooted303.org
SUMMARY:HWH - Residents Only
DESCRIPTION:
URL:https://rooted303.org/event/hwh-residents-only-36/
LOCATION:CO
END:VEVENT
BEGIN:VEVENT
DTSTART;TZID=America/Denver:20260213T120000
DTEND;TZID=America/Denver:20260213T150000
DTSTAMP:20260422T221757
CREATED:20250926T162938Z
LAST-MODIFIED:20260206T202829Z
UID:11093-1770984000-1770994800@rooted303.org
SUMMARY:Bridge House
DESCRIPTION:
URL:https://rooted303.org/event/bridge-house-148/
LOCATION:CO
END:VEVENT
BEGIN:VEVENT
DTSTART;TZID=America/Denver:20260213T120000
DTEND;TZID=America/Denver:20260213T130000
DTSTAMP:20260422T221757
CREATED:20250925T162903Z
LAST-MODIFIED:20260212T211324Z
UID:11089-1770984000-1770987600@rooted303.org
SUMMARY:Francis Heights - Grief Group - Mercy Housing Residents Only
DESCRIPTION:
URL:https://rooted303.org/event/francis-heights-grief-group-mercy-housing-residents-only-38/
LOCATION:CO
CATEGORIES:Groups
END:VEVENT
BEGIN:VEVENT
DTSTART;TZID=America/Denver:20260212T183000
DTEND;TZID=America/Denver:20260212T193000
DTSTAMP:20260422T221757
CREATED:20251124T201352Z
LAST-MODIFIED:20260206T202829Z
UID:11520-1770921000-1770924600@rooted303.org
SUMMARY:Friends & Family CRAFT Group (Virtual)
DESCRIPTION:Click here to Join  our Zoom Meeting! 
URL:https://rooted303.org/event/friends-family-craft-group-virtual-76/
LOCATION:Zoom
END:VEVENT
BEGIN:VEVENT
DTSTART;TZID=America/Denver:20260212T183000
DTEND;TZID=America/Denver:20260212T193000
DTSTAMP:20260422T221757
CREATED:20251117T185924Z
LAST-MODIFIED:20251123T195955Z
UID:11396-1770921000-1770924600@rooted303.org
SUMMARY:Friends & Family CRAFT Group (Virtual)
DESCRIPTION:Click here to Join  our Zoom Meeting! 
URL:https://rooted303.org/event/friends-family-craft-group-virtual-57/
LOCATION:Zoom
END:VEVENT
BEGIN:VEVENT
DTSTART;TZID=America/Denver:20260212T183000
DTEND;TZID=America/Denver:20260212T193000
DTSTAMP:20260422T221757
CREATED:20250925T162903Z
LAST-MODIFIED:20251116T185849Z
UID:11088-1770921000-1770924600@rooted303.org
SUMMARY:Friends & Family CRAFT Group (Virtual)
DESCRIPTION:────────── \nRooted 303 is inviting you to a scheduled Zoom meeting. \nJoin Zoom Meetinghttps://us02web.zoom.us/j/86491237169?pwd=UFVUVngvVVpPM0toMTBuSGo5UkF1dz09 \nMeeting ID: 864 9123 7169Passcode: 672219 \n— \nOne tap mobile+17193594580\,\,86491237169#\,\,\,\,*672219# US+12532158782\,\,86491237169#\,\,\,\,*672219# US (Tacoma) \n— \nDial by your location• +1 719 359 4580 US• +1 253 215 8782 US (Tacoma)• +1 346 248 7799 US (Houston)• +1 669 444 9171 US• +1 669 900 9128 US (San Jose)• +1 253 205 0468 US• +1 360 209 5623 US• +1 386 347 5053 US• +1 507 473 4847 US• +1 564 217 2000 US• +1 646 558 8656 US (New York)• +1 646 931 3860 US• +1 689 278 1000 US• +1 301 715 8592 US (Washington DC)• +1 305 224 1968 US• +1 309 205 3325 US• +1 312 626 6799 US (Chicago) \nMeeting ID: 864 9123 7169Passcode: 672219 \nFind your local number: https://us02web.zoom.us/u/kdf4Ajtvut \n──────────
URL:https://rooted303.org/event/friends-family-craft-group-virtual-37/
LOCATION:https://us02web.zoom.us/j/86491237169?pwd=UFVUVngvVVpPM0toMTBuSGo5UkF1dz09
CATEGORIES:Groups
END:VEVENT
BEGIN:VEVENT
DTSTART;TZID=America/Denver:20260212T130000
DTEND;TZID=America/Denver:20260212T140000
DTSTAMP:20260422T221757
CREATED:20260207T202840Z
LAST-MODIFIED:20260211T205852Z
UID:12156-1770901200-1770904800@rooted303.org
SUMMARY:Friends & Family CRAFT Group (Virtual)
DESCRIPTION:Click here to Join  our Zoom Meeting! 
URL:https://rooted303.org/event/friends-family-craft-group-virtual-97/
LOCATION:Zoom
END:VEVENT
BEGIN:VEVENT
DTSTART;TZID=America/Denver:20260212T120000
DTEND;TZID=America/Denver:20260212T130000
DTSTAMP:20260422T221757
CREATED:20250924T162853Z
LAST-MODIFIED:20260210T205823Z
UID:11081-1770897600-1770901200@rooted303.org
SUMMARY:Nest 56 - Residents Only
DESCRIPTION:
URL:https://rooted303.org/event/nest-56-residents-only-37/
LOCATION:CO
END:VEVENT
BEGIN:VEVENT
DTSTART;TZID=America/Denver:20260212T090000
DTEND;TZID=America/Denver:20260212T120000
DTSTAMP:20260422T221757
CREATED:20250925T162903Z
LAST-MODIFIED:20260129T201329Z
UID:11086-1770886800-1770897600@rooted303.org
SUMMARY:Bridge House
DESCRIPTION:
URL:https://rooted303.org/event/bridge-house-147/
LOCATION:CO
END:VEVENT
BEGIN:VEVENT
DTSTART;TZID=America/Denver:20260211T183000
DTEND;TZID=America/Denver:20260211T193000
DTSTAMP:20260422T221757
CREATED:20250924T162853Z
LAST-MODIFIED:20260211T205852Z
UID:11080-1770834600-1770838200@rooted303.org
SUMMARY:Friends & Family CRAFT Group
DESCRIPTION:
URL:https://rooted303.org/event/friends-family-craft-group-37/
LOCATION:5808 S Rapp St suite 100\, Littleton\, CO\, United States
CATEGORIES:Groups
END:VEVENT
BEGIN:VEVENT
DTSTART;TZID=America/Denver:20260211T123000
DTEND;TZID=America/Denver:20260211T133000
DTSTAMP:20260422T221757
CREATED:20250924T162852Z
LAST-MODIFIED:20260210T205823Z
UID:11079-1770813000-1770816600@rooted303.org
SUMMARY:Aromor - Mercy Housing Residents Only
DESCRIPTION:
URL:https://rooted303.org/event/aromor-mercy-housing-residents-only-37/
LOCATION:CO
END:VEVENT
BEGIN:VEVENT
DTSTART;TZID=America/Denver:20260211T120000
DTEND;TZID=America/Denver:20260211T130000
DTSTAMP:20260422T221757
CREATED:20251210T215836Z
LAST-MODIFIED:20260210T205823Z
UID:11698-1770811200-1770814800@rooted303.org
SUMMARY:Francis Heights - Mindfulness and Meditation Group
DESCRIPTION:Join us every Wednesday at 1 PM!
URL:https://rooted303.org/event/mindfulness-and-meditation-group-9/
LOCATION:Francis Heights\, 3805 W 26th Ave\, Denver\, CO\, United States
END:VEVENT
BEGIN:VEVENT
DTSTART;TZID=America/Denver:20260211T100000
DTEND;TZID=America/Denver:20260211T110000
DTSTAMP:20260422T221757
CREATED:20250924T162852Z
LAST-MODIFIED:20260210T205823Z
UID:11078-1770804000-1770807600@rooted303.org
SUMMARY:Clare of Assisi/Villa Maria - Mercy Housing
DESCRIPTION:
URL:https://rooted303.org/event/clare-of-assisi-villa-maria-mercy-housing-36/
LOCATION:CO
END:VEVENT
BEGIN:VEVENT
DTSTART;TZID=America/Denver:20260211T090000
DTEND;TZID=America/Denver:20260211T100000
DTSTAMP:20260422T221757
CREATED:20260107T185832Z
LAST-MODIFIED:20260206T202829Z
UID:11892-1770800400-1770804000@rooted303.org
SUMMARY:Women's Recovery Group - Rooted & Rising Woman
DESCRIPTION:Women’s Recovery Group – Rooted & Rising Woman9 am – 10 amJoin us Here!
URL:https://rooted303.org/event/womens-recovery-group-rooted-rising-woman-7/
LOCATION:Hybrid
END:VEVENT
BEGIN:VEVENT
DTSTART;TZID=America/Denver:20260211T090000
DTEND;TZID=America/Denver:20260211T100000
DTSTAMP:20260422T221757
CREATED:20260107T185832Z
LAST-MODIFIED:20260210T205823Z
UID:11893-1770800400-1770804000@rooted303.org
SUMMARY:Women's Recovery Group - Rooted & Rising Women
DESCRIPTION:Women’s Recovery Group – Rooted & Rising Women9 am – 10 amJoin us Here!
URL:https://rooted303.org/event/womens-recovery-group-rooted-rising-woman-8/
LOCATION:Hybrid
END:VEVENT
BEGIN:VEVENT
DTSTART;TZID=America/Denver:20260210T183000
DTEND;TZID=America/Denver:20260210T193000
DTSTAMP:20260422T221757
CREATED:20250923T162956Z
LAST-MODIFIED:20251124T201352Z
UID:11075-1770748200-1770751800@rooted303.org
SUMMARY:Rooted 303/Exposed Support Group
DESCRIPTION:
URL:https://rooted303.org/event/rooted-303-exposed-support-group-37/
LOCATION:CO
CATEGORIES:Groups
END:VEVENT
BEGIN:VEVENT
DTSTART;TZID=America/Denver:20260210T140000
DTEND;TZID=America/Denver:20260210T150000
DTSTAMP:20260422T221757
CREATED:20250921T162849Z
LAST-MODIFIED:20260210T205823Z
UID:11071-1770732000-1770735600@rooted303.org
SUMMARY:Franconia - Mercy Housing Residents Only
DESCRIPTION:
URL:https://rooted303.org/event/franconia-mercy-housing-residents-only-37/
LOCATION:CO
END:VEVENT
END:VCALENDAR