BEGIN:VCALENDAR
VERSION:2.0
PRODID:-//Rooted 303 - ECPv6.15.20//NONSGML v1.0//EN
CALSCALE:GREGORIAN
METHOD:PUBLISH
X-WR-CALNAME:Rooted 303
X-ORIGINAL-URL:https://rooted303.org
X-WR-CALDESC:Events for Rooted 303
REFRESH-INTERVAL;VALUE=DURATION:PT1H
X-Robots-Tag:noindex
X-PUBLISHED-TTL:PT1H
BEGIN:VTIMEZONE
TZID:America/Denver
BEGIN:DAYLIGHT
TZOFFSETFROM:-0700
TZOFFSETTO:-0600
TZNAME:MDT
DTSTART:20250309T090000
END:DAYLIGHT
BEGIN:STANDARD
TZOFFSETFROM:-0600
TZOFFSETTO:-0700
TZNAME:MST
DTSTART:20251102T080000
END:STANDARD
BEGIN:DAYLIGHT
TZOFFSETFROM:-0700
TZOFFSETTO:-0600
TZNAME:MDT
DTSTART:20260308T090000
END:DAYLIGHT
BEGIN:STANDARD
TZOFFSETFROM:-0600
TZOFFSETTO:-0700
TZNAME:MST
DTSTART:20261101T080000
END:STANDARD
BEGIN:DAYLIGHT
TZOFFSETFROM:-0700
TZOFFSETTO:-0600
TZNAME:MDT
DTSTART:20270314T090000
END:DAYLIGHT
BEGIN:STANDARD
TZOFFSETFROM:-0600
TZOFFSETTO:-0700
TZNAME:MST
DTSTART:20271107T080000
END:STANDARD
END:VTIMEZONE
BEGIN:VEVENT
DTSTART;TZID=America/Denver:20260403T120000
DTEND;TZID=America/Denver:20260403T130000
DTSTAMP:20260423T023257
CREATED:20251113T184423Z
LAST-MODIFIED:20260403T164314Z
UID:11361-1775217600-1775221200@rooted303.org
SUMMARY:Francis Heights - Grief Group - Mercy Housing Residents Only
DESCRIPTION:
URL:https://rooted303.org/event/francis-heights-grief-group-mercy-housing-residents-only-45/
END:VEVENT
BEGIN:VEVENT
DTSTART;TZID=America/Denver:20260402T183000
DTEND;TZID=America/Denver:20260402T193000
DTSTAMP:20260423T023257
CREATED:20251124T201410Z
LAST-MODIFIED:20260206T202838Z
UID:11534-1775154600-1775158200@rooted303.org
SUMMARY:Friends & Family CRAFT Group (Virtual)
DESCRIPTION:Click here to Join  our Zoom Meeting! 
URL:https://rooted303.org/event/friends-family-craft-group-virtual-83/
LOCATION:Zoom
END:VEVENT
BEGIN:VEVENT
DTSTART;TZID=America/Denver:20260402T183000
DTEND;TZID=America/Denver:20260402T193000
DTSTAMP:20260423T023257
CREATED:20251117T185940Z
LAST-MODIFIED:20251123T200012Z
UID:11403-1775154600-1775158200@rooted303.org
SUMMARY:Friends & Family CRAFT Group (Virtual)
DESCRIPTION:Click here to Join  our Zoom Meeting! 
URL:https://rooted303.org/event/friends-family-craft-group-virtual-64/
LOCATION:Zoom
END:VEVENT
BEGIN:VEVENT
DTSTART;TZID=America/Denver:20260402T183000
DTEND;TZID=America/Denver:20260402T193000
DTSTAMP:20260423T023257
CREATED:20251112T184423Z
LAST-MODIFIED:20251116T185904Z
UID:11354-1775154600-1775158200@rooted303.org
SUMMARY:Friends & Family CRAFT Group (Virtual)
DESCRIPTION:────────── \nRooted 303 is inviting you to a scheduled Zoom meeting. \nJoin Zoom Meetinghttps://us02web.zoom.us/j/86491237169?pwd=UFVUVngvVVpPM0toMTBuSGo5UkF1dz09 \nMeeting ID: 864 9123 7169Passcode: 672219 \n— \nOne tap mobile+17193594580\,\,86491237169#\,\,\,\,*672219# US+12532158782\,\,86491237169#\,\,\,\,*672219# US (Tacoma) \n— \nDial by your location• +1 719 359 4580 US• +1 253 215 8782 US (Tacoma)• +1 346 248 7799 US (Houston)• +1 669 444 9171 US• +1 669 900 9128 US (San Jose)• +1 253 205 0468 US• +1 360 209 5623 US• +1 386 347 5053 US• +1 507 473 4847 US• +1 564 217 2000 US• +1 646 558 8656 US (New York)• +1 646 931 3860 US• +1 689 278 1000 US• +1 301 715 8592 US (Washington DC)• +1 305 224 1968 US• +1 309 205 3325 US• +1 312 626 6799 US (Chicago) \nMeeting ID: 864 9123 7169Passcode: 672219 \nFind your local number: https://us02web.zoom.us/u/kdf4Ajtvut \n──────────
URL:https://rooted303.org/event/friends-family-craft-group-virtual-44/
LOCATION:https://us02web.zoom.us/j/86491237169?pwd=UFVUVngvVVpPM0toMTBuSGo5UkF1dz09
END:VEVENT
BEGIN:VEVENT
DTSTART;TZID=America/Denver:20260402T150000
DTEND;TZID=America/Denver:20260402T160000
DTSTAMP:20260423T023257
CREATED:20251112T184423Z
LAST-MODIFIED:20260215T212822Z
UID:11353-1775142000-1775145600@rooted303.org
SUMMARY:The Rose - Residents Only
DESCRIPTION:
URL:https://rooted303.org/event/the-rose-residents-only-22/
END:VEVENT
BEGIN:VEVENT
DTSTART;TZID=America/Denver:20260402T130000
DTEND;TZID=America/Denver:20260402T140000
DTSTAMP:20260423T023257
CREATED:20260207T202846Z
LAST-MODIFIED:20260402T162818Z
UID:12172-1775134800-1775138400@rooted303.org
SUMMARY:Friends & Family CRAFT Group (Virtual)
DESCRIPTION:Click here to Join  our Zoom Meeting! 
URL:https://rooted303.org/event/friends-family-craft-group-virtual-104/
LOCATION:Zoom
END:VEVENT
BEGIN:VEVENT
DTSTART;TZID=America/Denver:20260402T120000
DTEND;TZID=America/Denver:20260402T130000
DTSTAMP:20260423T023257
CREATED:20251112T184422Z
LAST-MODIFIED:20260210T205830Z
UID:11351-1775131200-1775134800@rooted303.org
SUMMARY:Nest 56 - Residents Only
DESCRIPTION:
URL:https://rooted303.org/event/nest-56-residents-only-44/
END:VEVENT
BEGIN:VEVENT
DTSTART;TZID=America/Denver:20260402T090000
DTEND;TZID=America/Denver:20260402T120000
DTSTAMP:20260423T023257
CREATED:20251112T184423Z
LAST-MODIFIED:20260129T201342Z
UID:11352-1775120400-1775131200@rooted303.org
SUMMARY:Bridge House
DESCRIPTION:
URL:https://rooted303.org/event/bridge-house-175/
END:VEVENT
BEGIN:VEVENT
DTSTART;TZID=America/Denver:20260401T183000
DTEND;TZID=America/Denver:20260401T193000
DTSTAMP:20260423T023257
CREATED:20251112T184422Z
LAST-MODIFIED:20260401T161312Z
UID:11350-1775068200-1775071800@rooted303.org
SUMMARY:Friends & Family CRAFT Group
DESCRIPTION:
URL:https://rooted303.org/event/friends-family-craft-group-44/
LOCATION:5808 S Rapp St suite 100\, Littleton\, CO\, United States
END:VEVENT
BEGIN:VEVENT
DTSTART;TZID=America/Denver:20260401T163000
DTEND;TZID=America/Denver:20260401T173000
DTSTAMP:20260423T023257
CREATED:20260216T212823Z
LAST-MODIFIED:20260401T161312Z
UID:12486-1775061000-1775064600@rooted303.org
SUMMARY:THE ROSE
DESCRIPTION:
URL:https://rooted303.org/event/the-rose-7/
END:VEVENT
BEGIN:VEVENT
DTSTART;TZID=America/Denver:20260401T130000
DTEND;TZID=America/Denver:20260401T140000
DTSTAMP:20260423T023257
CREATED:20251210T215848Z
LAST-MODIFIED:20260401T161311Z
UID:11705-1775048400-1775052000@rooted303.org
SUMMARY:Francis Heights - Mindfulness and Meditation Group
DESCRIPTION:Join us every Wednesday at 1 PM!
URL:https://rooted303.org/event/mindfulness-and-meditation-group-16/
LOCATION:Francis Heights\, 3805 W 26th Ave\, Denver\, CO\, United States
END:VEVENT
BEGIN:VEVENT
DTSTART;TZID=America/Denver:20260401T123000
DTEND;TZID=America/Denver:20260401T133000
DTSTAMP:20260423T023257
CREATED:20251111T182959Z
LAST-MODIFIED:20260401T161311Z
UID:11347-1775046600-1775050200@rooted303.org
SUMMARY:Aromor - Mercy Housing Residents Only
DESCRIPTION:
URL:https://rooted303.org/event/aromor-mercy-housing-residents-only-44/
END:VEVENT
BEGIN:VEVENT
DTSTART;TZID=America/Denver:20260401T100000
DTEND;TZID=America/Denver:20260401T110000
DTSTAMP:20260423T023257
CREATED:20251108T182921Z
LAST-MODIFIED:20260401T161311Z
UID:11340-1775037600-1775041200@rooted303.org
SUMMARY:Clare of Assisi/Villa Maria - Mercy Housing
DESCRIPTION:
URL:https://rooted303.org/event/clare-of-assisi-villa-maria-mercy-housing-43/
END:VEVENT
BEGIN:VEVENT
DTSTART;TZID=America/Denver:20260401T090000
DTEND;TZID=America/Denver:20260401T100000
DTSTAMP:20260423T023257
CREATED:20260107T185844Z
LAST-MODIFIED:20260206T202837Z
UID:11901-1775034000-1775037600@rooted303.org
SUMMARY:Women's Recovery Group - Rooted & Rising Woman
DESCRIPTION:Women’s Recovery Group – Rooted & Rising Woman9 am – 10 amJoin us Here!
URL:https://rooted303.org/event/womens-recovery-group-rooted-rising-woman-16/
LOCATION:Hybrid
END:VEVENT
BEGIN:VEVENT
DTSTART;TZID=America/Denver:20260331T183000
DTEND;TZID=America/Denver:20260331T193000
DTSTAMP:20260423T023257
CREATED:20251108T182921Z
LAST-MODIFIED:20251124T201409Z
UID:11339-1774981800-1774985400@rooted303.org
SUMMARY:Rooted 303/Exposed Support Group
DESCRIPTION:
URL:https://rooted303.org/event/rooted-303-exposed-support-group-44/
END:VEVENT
BEGIN:VEVENT
DTSTART;TZID=America/Denver:20260331T140000
DTEND;TZID=America/Denver:20260331T150000
DTSTAMP:20260423T023257
CREATED:20251108T182921Z
LAST-MODIFIED:20260331T161316Z
UID:11338-1774965600-1774969200@rooted303.org
SUMMARY:Franconia - Mercy Housing Residents Only
DESCRIPTION:
URL:https://rooted303.org/event/franconia-mercy-housing-residents-only-44/
END:VEVENT
BEGIN:VEVENT
DTSTART;TZID=America/Denver:20260331T120000
DTEND;TZID=America/Denver:20260331T130000
DTSTAMP:20260423T023257
CREATED:20251107T181443Z
LAST-MODIFIED:20260331T161316Z
UID:11332-1774958400-1774962000@rooted303.org
SUMMARY:Francis Heights - Mercy Housing Residents Only
DESCRIPTION:
URL:https://rooted303.org/event/francis-heights-mercy-housing-residents-only-44/
END:VEVENT
BEGIN:VEVENT
DTSTART;TZID=America/Denver:20260331T090000
DTEND;TZID=America/Denver:20260331T120000
DTSTAMP:20260423T023257
CREATED:20251107T181443Z
LAST-MODIFIED:20260129T201341Z
UID:11333-1774947600-1774958400@rooted303.org
SUMMARY:Bridge House
DESCRIPTION:
URL:https://rooted303.org/event/bridge-house-174/
END:VEVENT
BEGIN:VEVENT
DTSTART;TZID=America/Denver:20260330T170000
DTEND;TZID=America/Denver:20260330T180000
DTSTAMP:20260423T023257
CREATED:20260211T205858Z
LAST-MODIFIED:20260330T161324Z
UID:12406-1774890000-1774893600@rooted303.org
SUMMARY:Nest 56 - Residents Only
DESCRIPTION:
URL:https://rooted303.org/event/nest-56-residents-only-71/
END:VEVENT
BEGIN:VEVENT
DTSTART;TZID=America/Denver:20260330T120000
DTEND;TZID=America/Denver:20260330T150000
DTSTAMP:20260423T023257
CREATED:20251107T181443Z
LAST-MODIFIED:20260206T202837Z
UID:11331-1774872000-1774882800@rooted303.org
SUMMARY:Bridge House
DESCRIPTION:
URL:https://rooted303.org/event/bridge-house-173/
END:VEVENT
BEGIN:VEVENT
DTSTART;TZID=America/Denver:20260330T111500
DTEND;TZID=America/Denver:20260330T121500
DTSTAMP:20260423T023257
CREATED:20251124T201409Z
LAST-MODIFIED:20251214T221344Z
UID:11533-1774869300-1774872900@rooted303.org
SUMMARY:Sacred Roots Community Group
DESCRIPTION:Open to all Spiritual/Religious PathsJoin Here 
URL:https://rooted303.org/event/sacred-roots-community-group-38/
LOCATION:Hybrid
END:VEVENT
BEGIN:VEVENT
DTSTART;TZID=America/Denver:20260330T101500
DTEND;TZID=America/Denver:20260330T111500
DTSTAMP:20260423T023257
CREATED:20251215T222841Z
LAST-MODIFIED:20260206T202837Z
UID:11747-1774865700-1774869300@rooted303.org
SUMMARY:Sacred Roots Community Group
DESCRIPTION:Open to all Spiritual/Religious PathsJoin Here!
URL:https://rooted303.org/event/sacred-roots-community-group-57/
LOCATION:Hybrid
END:VEVENT
BEGIN:VEVENT
DTSTART;TZID=America/Denver:20260330T101500
DTEND;TZID=America/Denver:20260330T111500
DTSTAMP:20260423T023257
CREATED:20251119T192921Z
LAST-MODIFIED:20251123T200011Z
UID:11468-1774865700-1774869300@rooted303.org
SUMMARY:Sacred Roots Community Group
DESCRIPTION:Open to all Spiritual/Religious PathsJoin Here 
URL:https://rooted303.org/event/sacred-roots-community-group-19/
LOCATION:Hybrid
END:VEVENT
BEGIN:VEVENT
DTSTART;TZID=America/Denver:20260327T140000
DTEND;TZID=America/Denver:20260327T150000
DTSTAMP:20260423T023257
CREATED:20251106T181445Z
LAST-MODIFIED:20260327T155815Z
UID:11326-1774620000-1774623600@rooted303.org
SUMMARY:HWH - Residents Only
DESCRIPTION:
URL:https://rooted303.org/event/hwh-residents-only-42/
END:VEVENT
BEGIN:VEVENT
DTSTART;TZID=America/Denver:20260327T120000
DTEND;TZID=America/Denver:20260327T150000
DTSTAMP:20260423T023257
CREATED:20251105T181352Z
LAST-MODIFIED:20260206T202837Z
UID:11319-1774612800-1774623600@rooted303.org
SUMMARY:Bridge House
DESCRIPTION:
URL:https://rooted303.org/event/bridge-house-172/
END:VEVENT
BEGIN:VEVENT
DTSTART;TZID=America/Denver:20260327T120000
DTEND;TZID=America/Denver:20260327T130000
DTSTAMP:20260423T023257
CREATED:20251106T181445Z
LAST-MODIFIED:20260327T155814Z
UID:11325-1774612800-1774616400@rooted303.org
SUMMARY:Francis Heights - Grief Group - Mercy Housing Residents Only
DESCRIPTION:
URL:https://rooted303.org/event/francis-heights-grief-group-mercy-housing-residents-only-44/
END:VEVENT
BEGIN:VEVENT
DTSTART;TZID=America/Denver:20260326T183000
DTEND;TZID=America/Denver:20260326T193000
DTSTAMP:20260423T023257
CREATED:20251124T201408Z
LAST-MODIFIED:20260206T202836Z
UID:11532-1774549800-1774553400@rooted303.org
SUMMARY:Friends & Family CRAFT Group (Virtual)
DESCRIPTION:Click here to Join  our Zoom Meeting! 
URL:https://rooted303.org/event/friends-family-craft-group-virtual-82/
LOCATION:Zoom
END:VEVENT
BEGIN:VEVENT
DTSTART;TZID=America/Denver:20260326T183000
DTEND;TZID=America/Denver:20260326T193000
DTSTAMP:20260423T023257
CREATED:20251117T185936Z
LAST-MODIFIED:20251123T200010Z
UID:11402-1774549800-1774553400@rooted303.org
SUMMARY:Friends & Family CRAFT Group (Virtual)
DESCRIPTION:Click here to Join  our Zoom Meeting! 
URL:https://rooted303.org/event/friends-family-craft-group-virtual-63/
LOCATION:Zoom
END:VEVENT
BEGIN:VEVENT
DTSTART;TZID=America/Denver:20260326T183000
DTEND;TZID=America/Denver:20260326T193000
DTSTAMP:20260423T023257
CREATED:20251105T181351Z
LAST-MODIFIED:20251116T185901Z
UID:11318-1774549800-1774553400@rooted303.org
SUMMARY:Friends & Family CRAFT Group (Virtual)
DESCRIPTION:────────── \nRooted 303 is inviting you to a scheduled Zoom meeting. \nJoin Zoom Meetinghttps://us02web.zoom.us/j/86491237169?pwd=UFVUVngvVVpPM0toMTBuSGo5UkF1dz09 \nMeeting ID: 864 9123 7169Passcode: 672219 \n— \nOne tap mobile+17193594580\,\,86491237169#\,\,\,\,*672219# US+12532158782\,\,86491237169#\,\,\,\,*672219# US (Tacoma) \n— \nDial by your location• +1 719 359 4580 US• +1 253 215 8782 US (Tacoma)• +1 346 248 7799 US (Houston)• +1 669 444 9171 US• +1 669 900 9128 US (San Jose)• +1 253 205 0468 US• +1 360 209 5623 US• +1 386 347 5053 US• +1 507 473 4847 US• +1 564 217 2000 US• +1 646 558 8656 US (New York)• +1 646 931 3860 US• +1 689 278 1000 US• +1 301 715 8592 US (Washington DC)• +1 305 224 1968 US• +1 309 205 3325 US• +1 312 626 6799 US (Chicago) \nMeeting ID: 864 9123 7169Passcode: 672219 \nFind your local number: https://us02web.zoom.us/u/kdf4Ajtvut \n──────────
URL:https://rooted303.org/event/friends-family-craft-group-virtual-43/
LOCATION:https://us02web.zoom.us/j/86491237169?pwd=UFVUVngvVVpPM0toMTBuSGo5UkF1dz09
END:VEVENT
BEGIN:VEVENT
DTSTART;TZID=America/Denver:20260326T130000
DTEND;TZID=America/Denver:20260326T140000
DTSTAMP:20260423T023257
CREATED:20260207T202845Z
LAST-MODIFIED:20260326T155814Z
UID:12170-1774530000-1774533600@rooted303.org
SUMMARY:Friends & Family CRAFT Group (Virtual)
DESCRIPTION:Click here to Join  our Zoom Meeting! 
URL:https://rooted303.org/event/friends-family-craft-group-virtual-103/
LOCATION:Zoom
END:VEVENT
END:VCALENDAR