BEGIN:VCALENDAR
VERSION:2.0
PRODID:-//Rooted 303 - ECPv6.15.20//NONSGML v1.0//EN
CALSCALE:GREGORIAN
METHOD:PUBLISH
X-WR-CALNAME:Rooted 303
X-ORIGINAL-URL:https://rooted303.org
X-WR-CALDESC:Events for Rooted 303
REFRESH-INTERVAL;VALUE=DURATION:PT1H
X-Robots-Tag:noindex
X-PUBLISHED-TTL:PT1H
BEGIN:VTIMEZONE
TZID:America/Denver
BEGIN:DAYLIGHT
TZOFFSETFROM:-0700
TZOFFSETTO:-0600
TZNAME:MDT
DTSTART:20250309T090000
END:DAYLIGHT
BEGIN:STANDARD
TZOFFSETFROM:-0600
TZOFFSETTO:-0700
TZNAME:MST
DTSTART:20251102T080000
END:STANDARD
BEGIN:DAYLIGHT
TZOFFSETFROM:-0700
TZOFFSETTO:-0600
TZNAME:MDT
DTSTART:20260308T090000
END:DAYLIGHT
BEGIN:STANDARD
TZOFFSETFROM:-0600
TZOFFSETTO:-0700
TZNAME:MST
DTSTART:20261101T080000
END:STANDARD
BEGIN:DAYLIGHT
TZOFFSETFROM:-0700
TZOFFSETTO:-0600
TZNAME:MDT
DTSTART:20270314T090000
END:DAYLIGHT
BEGIN:STANDARD
TZOFFSETFROM:-0600
TZOFFSETTO:-0700
TZNAME:MST
DTSTART:20271107T080000
END:STANDARD
END:VTIMEZONE
BEGIN:VEVENT
DTSTART;TZID=America/Denver:20260127T183000
DTEND;TZID=America/Denver:20260127T193000
DTSTAMP:20260425T080130
CREATED:20250919T162115Z
LAST-MODIFIED:20251124T201347Z
UID:10816-1769538600-1769542200@rooted303.org
SUMMARY:Rooted 303/Exposed Support Group
DESCRIPTION:
URL:https://rooted303.org/event/rooted-303-exposed-support-group-35/
CATEGORIES:Groups
END:VEVENT
BEGIN:VEVENT
DTSTART;TZID=America/Denver:20260127T140000
DTEND;TZID=America/Denver:20260127T150000
DTSTAMP:20260425T080130
CREATED:20250919T162114Z
LAST-MODIFIED:20260127T195838Z
UID:10815-1769522400-1769526000@rooted303.org
SUMMARY:Franconia - Mercy Housing Residents Only
DESCRIPTION:
URL:https://rooted303.org/event/franconia-mercy-housing-residents-only-35/
END:VEVENT
BEGIN:VEVENT
DTSTART;TZID=America/Denver:20260127T120000
DTEND;TZID=America/Denver:20260127T130000
DTSTAMP:20260425T080130
CREATED:20250919T162114Z
LAST-MODIFIED:20260127T195838Z
UID:10813-1769515200-1769518800@rooted303.org
SUMMARY:Francis Heights - Mercy Housing Residents Only
DESCRIPTION:
URL:https://rooted303.org/event/francis-heights-mercy-housing-residents-only-35/
END:VEVENT
BEGIN:VEVENT
DTSTART;TZID=America/Denver:20260127T090000
DTEND;TZID=America/Denver:20260127T120000
DTSTAMP:20260425T080130
CREATED:20250919T162114Z
LAST-MODIFIED:20260126T195815Z
UID:10814-1769504400-1769515200@rooted303.org
SUMMARY:Bridge House
DESCRIPTION:
URL:https://rooted303.org/event/bridge-house-138/
END:VEVENT
BEGIN:VEVENT
DTSTART;TZID=America/Denver:20260126T120000
DTEND;TZID=America/Denver:20260126T150000
DTSTAMP:20260425T080130
CREATED:20250919T162113Z
LAST-MODIFIED:20260126T195815Z
UID:10812-1769428800-1769439600@rooted303.org
SUMMARY:Bridge House
DESCRIPTION:
URL:https://rooted303.org/event/bridge-house-137/
END:VEVENT
BEGIN:VEVENT
DTSTART;TZID=America/Denver:20260126T101500
DTEND;TZID=America/Denver:20260126T111500
DTSTAMP:20260425T080130
CREATED:20251215T222824Z
LAST-MODIFIED:20260125T195814Z
UID:11738-1769422500-1769426100@rooted303.org
SUMMARY:Sacred Roots Community Group
DESCRIPTION:Open to all Spiritual/Religious PathsJoin Here!
URL:https://rooted303.org/event/sacred-roots-community-group-48/
LOCATION:Hybrid
END:VEVENT
BEGIN:VEVENT
DTSTART;TZID=America/Denver:20260126T101500
DTEND;TZID=America/Denver:20260126T111500
DTSTAMP:20260425T080130
CREATED:20251124T201347Z
LAST-MODIFIED:20251214T221328Z
UID:11515-1769422500-1769426100@rooted303.org
SUMMARY:Sacred Roots Community Group
DESCRIPTION:Open to all Spiritual/Religious PathsJoin Here 
URL:https://rooted303.org/event/sacred-roots-community-group-29/
LOCATION:Hybrid
END:VEVENT
BEGIN:VEVENT
DTSTART;TZID=America/Denver:20260123T140000
DTEND;TZID=America/Denver:20260123T150000
DTSTAMP:20260425T080130
CREATED:20250919T162113Z
LAST-MODIFIED:20260123T194319Z
UID:10811-1769176800-1769180400@rooted303.org
SUMMARY:HWH - Residents Only
DESCRIPTION:
URL:https://rooted303.org/event/hwh-residents-only-33/
END:VEVENT
BEGIN:VEVENT
DTSTART;TZID=America/Denver:20260123T120000
DTEND;TZID=America/Denver:20260123T150000
DTSTAMP:20260425T080130
CREATED:20250919T162113Z
LAST-MODIFIED:20260123T194319Z
UID:10809-1769169600-1769180400@rooted303.org
SUMMARY:Bridge House
DESCRIPTION:
URL:https://rooted303.org/event/bridge-house-136/
END:VEVENT
BEGIN:VEVENT
DTSTART;TZID=America/Denver:20260123T120000
DTEND;TZID=America/Denver:20260123T130000
DTSTAMP:20260425T080130
CREATED:20250919T162113Z
LAST-MODIFIED:20260123T194319Z
UID:10810-1769169600-1769173200@rooted303.org
SUMMARY:Francis Heights - Grief Group - Mercy Housing Residents Only
DESCRIPTION:
URL:https://rooted303.org/event/francis-heights-grief-group-mercy-housing-residents-only-35/
CATEGORIES:Groups
END:VEVENT
BEGIN:VEVENT
DTSTART;TZID=America/Denver:20260122T183000
DTEND;TZID=America/Denver:20260122T193000
DTSTAMP:20260425T080130
CREATED:20251124T201345Z
LAST-MODIFIED:20260122T194322Z
UID:11514-1769106600-1769110200@rooted303.org
SUMMARY:Friends & Family CRAFT Group (Virtual)
DESCRIPTION:Click here to Join  our Zoom Meeting! 
URL:https://rooted303.org/event/friends-family-craft-group-virtual-73/
LOCATION:Zoom
END:VEVENT
BEGIN:VEVENT
DTSTART;TZID=America/Denver:20260122T183000
DTEND;TZID=America/Denver:20260122T193000
DTSTAMP:20260425T080130
CREATED:20251117T185916Z
LAST-MODIFIED:20251123T195949Z
UID:11393-1769106600-1769110200@rooted303.org
SUMMARY:Friends & Family CRAFT Group (Virtual)
DESCRIPTION:Click here to Join  our Zoom Meeting! 
URL:https://rooted303.org/event/friends-family-craft-group-virtual-54/
LOCATION:Zoom
END:VEVENT
BEGIN:VEVENT
DTSTART;TZID=America/Denver:20260122T183000
DTEND;TZID=America/Denver:20260122T193000
DTSTAMP:20260425T080130
CREATED:20250919T162112Z
LAST-MODIFIED:20251116T185843Z
UID:10808-1769106600-1769110200@rooted303.org
SUMMARY:Friends & Family CRAFT Group (Virtual)
DESCRIPTION:────────── \nRooted 303 is inviting you to a scheduled Zoom meeting. \nJoin Zoom Meetinghttps://us02web.zoom.us/j/86491237169?pwd=UFVUVngvVVpPM0toMTBuSGo5UkF1dz09 \nMeeting ID: 864 9123 7169Passcode: 672219 \n— \nOne tap mobile+17193594580\,\,86491237169#\,\,\,\,*672219# US+12532158782\,\,86491237169#\,\,\,\,*672219# US (Tacoma) \n— \nDial by your location• +1 719 359 4580 US• +1 253 215 8782 US (Tacoma)• +1 346 248 7799 US (Houston)• +1 669 444 9171 US• +1 669 900 9128 US (San Jose)• +1 253 205 0468 US• +1 360 209 5623 US• +1 386 347 5053 US• +1 507 473 4847 US• +1 564 217 2000 US• +1 646 558 8656 US (New York)• +1 646 931 3860 US• +1 689 278 1000 US• +1 301 715 8592 US (Washington DC)• +1 305 224 1968 US• +1 309 205 3325 US• +1 312 626 6799 US (Chicago) \nMeeting ID: 864 9123 7169Passcode: 672219 \nFind your local number: https://us02web.zoom.us/u/kdf4Ajtvut \n──────────
URL:https://rooted303.org/event/friends-family-craft-group-virtual-34/
LOCATION:https://us02web.zoom.us/j/86491237169?pwd=UFVUVngvVVpPM0toMTBuSGo5UkF1dz09
CATEGORIES:Groups
END:VEVENT
BEGIN:VEVENT
DTSTART;TZID=America/Denver:20260122T150000
DTEND;TZID=America/Denver:20260122T160000
DTSTAMP:20260425T080130
CREATED:20250919T162112Z
LAST-MODIFIED:20260122T194322Z
UID:10807-1769094000-1769097600@rooted303.org
SUMMARY:The Rose - Residents Only
DESCRIPTION:
URL:https://rooted303.org/event/the-rose-residents-only-17/
END:VEVENT
BEGIN:VEVENT
DTSTART;TZID=America/Denver:20260122T120000
DTEND;TZID=America/Denver:20260122T130000
DTSTAMP:20260425T080130
CREATED:20250919T162111Z
LAST-MODIFIED:20260122T194322Z
UID:10805-1769083200-1769086800@rooted303.org
SUMMARY:Nest 56 - Residents Only
DESCRIPTION:
URL:https://rooted303.org/event/nest-56-residents-only-34/
END:VEVENT
BEGIN:VEVENT
DTSTART;TZID=America/Denver:20260122T090000
DTEND;TZID=America/Denver:20260122T120000
DTSTAMP:20260425T080130
CREATED:20250919T162112Z
LAST-MODIFIED:20260121T192813Z
UID:10806-1769072400-1769083200@rooted303.org
SUMMARY:Bridge House
DESCRIPTION:
URL:https://rooted303.org/event/bridge-house-135/
END:VEVENT
BEGIN:VEVENT
DTSTART;TZID=America/Denver:20260121T183000
DTEND;TZID=America/Denver:20260121T193000
DTSTAMP:20260425T080130
CREATED:20250919T162111Z
LAST-MODIFIED:20260121T192813Z
UID:10804-1769020200-1769023800@rooted303.org
SUMMARY:Friends & Family CRAFT Group
DESCRIPTION:
URL:https://rooted303.org/event/friends-family-craft-group-34/
LOCATION:5933 S Fairfield St\, Littleton\, CO\, United States
CATEGORIES:Groups
END:VEVENT
BEGIN:VEVENT
DTSTART;TZID=America/Denver:20260121T123000
DTEND;TZID=America/Denver:20260121T133000
DTSTAMP:20260425T080130
CREATED:20250919T162111Z
LAST-MODIFIED:20260121T192813Z
UID:10803-1768998600-1769002200@rooted303.org
SUMMARY:Aromor - Mercy Housing Residents Only
DESCRIPTION:
URL:https://rooted303.org/event/aromor-mercy-housing-residents-only-34/
END:VEVENT
BEGIN:VEVENT
DTSTART;TZID=America/Denver:20260121T120000
DTEND;TZID=America/Denver:20260121T130000
DTSTAMP:20260425T080130
CREATED:20251210T215831Z
LAST-MODIFIED:20260121T192813Z
UID:11695-1768996800-1769000400@rooted303.org
SUMMARY:Mindfulness and Meditation Group
DESCRIPTION:Join us every Wednesday at 1 PM!
URL:https://rooted303.org/event/mindfulness-and-meditation-group-6/
LOCATION:Francis Height\, 3805 W 26th Ave\, Denver\, CO\, United States
END:VEVENT
BEGIN:VEVENT
DTSTART;TZID=America/Denver:20260121T100000
DTEND;TZID=America/Denver:20260121T110000
DTSTAMP:20260425T080130
CREATED:20250919T162109Z
LAST-MODIFIED:20260120T192825Z
UID:10802-1768989600-1768993200@rooted303.org
SUMMARY:Clare of Assisi/Villa Maria - Mercy Housing
DESCRIPTION:
URL:https://rooted303.org/event/clare-of-assisi-villa-maria-mercy-housing-33/
END:VEVENT
BEGIN:VEVENT
DTSTART;TZID=America/Denver:20260121T090000
DTEND;TZID=America/Denver:20260121T100000
DTSTAMP:20260425T080130
CREATED:20260107T185826Z
LAST-MODIFIED:20260120T192825Z
UID:11887-1768986000-1768989600@rooted303.org
SUMMARY:Women's Recovery Group - Rooted & Rising Woman
DESCRIPTION:Women’s Recovery Group – Rooted & Rising Woman9 am – 10 amJoin us Here!
URL:https://rooted303.org/event/womens-recovery-group-rooted-rising-woman-2/
LOCATION:Hybrid
END:VEVENT
BEGIN:VEVENT
DTSTART;TZID=America/Denver:20260120T183000
DTEND;TZID=America/Denver:20260120T193000
DTSTAMP:20260425T080130
CREATED:20250919T162109Z
LAST-MODIFIED:20251124T201344Z
UID:10801-1768933800-1768937400@rooted303.org
SUMMARY:Rooted 303/Exposed Support Group
DESCRIPTION:
URL:https://rooted303.org/event/rooted-303-exposed-support-group-34/
CATEGORIES:Groups
END:VEVENT
BEGIN:VEVENT
DTSTART;TZID=America/Denver:20260120T140000
DTEND;TZID=America/Denver:20260120T150000
DTSTAMP:20260425T080130
CREATED:20250919T162109Z
LAST-MODIFIED:20260120T192825Z
UID:10800-1768917600-1768921200@rooted303.org
SUMMARY:Franconia - Mercy Housing Residents Only
DESCRIPTION:
URL:https://rooted303.org/event/franconia-mercy-housing-residents-only-34/
END:VEVENT
BEGIN:VEVENT
DTSTART;TZID=America/Denver:20260120T120000
DTEND;TZID=America/Denver:20260120T130000
DTSTAMP:20260425T080130
CREATED:20250919T162109Z
LAST-MODIFIED:20260120T192825Z
UID:10798-1768910400-1768914000@rooted303.org
SUMMARY:Francis Heights - Mercy Housing Residents Only
DESCRIPTION:
URL:https://rooted303.org/event/francis-heights-mercy-housing-residents-only-34/
END:VEVENT
BEGIN:VEVENT
DTSTART;TZID=America/Denver:20260120T090000
DTEND;TZID=America/Denver:20260120T120000
DTSTAMP:20260425T080130
CREATED:20250919T162109Z
LAST-MODIFIED:20260119T192814Z
UID:10799-1768899600-1768910400@rooted303.org
SUMMARY:Bridge House
DESCRIPTION:
URL:https://rooted303.org/event/bridge-house-134/
END:VEVENT
BEGIN:VEVENT
DTSTART;TZID=America/Denver:20260119T120000
DTEND;TZID=America/Denver:20260119T150000
DTSTAMP:20260425T080130
CREATED:20250919T162108Z
LAST-MODIFIED:20260119T192814Z
UID:10797-1768824000-1768834800@rooted303.org
SUMMARY:Bridge House
DESCRIPTION:
URL:https://rooted303.org/event/bridge-house-133/
END:VEVENT
BEGIN:VEVENT
DTSTART;TZID=America/Denver:20260119T101500
DTEND;TZID=America/Denver:20260119T111500
DTSTAMP:20260425T080130
CREATED:20251215T222822Z
LAST-MODIFIED:20260118T192833Z
UID:11737-1768817700-1768821300@rooted303.org
SUMMARY:Sacred Roots Community Group
DESCRIPTION:Open to all Spiritual/Religious PathsJoin Here!
URL:https://rooted303.org/event/sacred-roots-community-group-47/
LOCATION:Hybrid
END:VEVENT
BEGIN:VEVENT
DTSTART;TZID=America/Denver:20260119T101500
DTEND;TZID=America/Denver:20260119T111500
DTSTAMP:20260425T080130
CREATED:20251124T201343Z
LAST-MODIFIED:20251214T221327Z
UID:11513-1768817700-1768821300@rooted303.org
SUMMARY:Sacred Roots Community Group
DESCRIPTION:Open to all Spiritual/Religious PathsJoin Here 
URL:https://rooted303.org/event/sacred-roots-community-group-28/
LOCATION:Hybrid
END:VEVENT
BEGIN:VEVENT
DTSTART;TZID=America/Denver:20260116T140000
DTEND;TZID=America/Denver:20260116T150000
DTSTAMP:20260425T080130
CREATED:20250919T162108Z
LAST-MODIFIED:20260116T192819Z
UID:10796-1768572000-1768575600@rooted303.org
SUMMARY:HWH - Residents Only
DESCRIPTION:
URL:https://rooted303.org/event/hwh-residents-only-32/
END:VEVENT
BEGIN:VEVENT
DTSTART;TZID=America/Denver:20260116T120000
DTEND;TZID=America/Denver:20260116T150000
DTSTAMP:20260425T080130
CREATED:20250919T162108Z
LAST-MODIFIED:20260116T192819Z
UID:10794-1768564800-1768575600@rooted303.org
SUMMARY:Bridge House
DESCRIPTION:
URL:https://rooted303.org/event/bridge-house-132/
END:VEVENT
END:VCALENDAR