BEGIN:VCALENDAR
VERSION:2.0
PRODID:-//Rooted 303 - ECPv6.15.20//NONSGML v1.0//EN
CALSCALE:GREGORIAN
METHOD:PUBLISH
X-WR-CALNAME:Rooted 303
X-ORIGINAL-URL:https://rooted303.org
X-WR-CALDESC:Events for Rooted 303
REFRESH-INTERVAL;VALUE=DURATION:PT1H
X-Robots-Tag:noindex
X-PUBLISHED-TTL:PT1H
BEGIN:VTIMEZONE
TZID:America/Denver
BEGIN:DAYLIGHT
TZOFFSETFROM:-0700
TZOFFSETTO:-0600
TZNAME:MDT
DTSTART:20250309T090000
END:DAYLIGHT
BEGIN:STANDARD
TZOFFSETFROM:-0600
TZOFFSETTO:-0700
TZNAME:MST
DTSTART:20251102T080000
END:STANDARD
BEGIN:DAYLIGHT
TZOFFSETFROM:-0700
TZOFFSETTO:-0600
TZNAME:MDT
DTSTART:20260308T090000
END:DAYLIGHT
BEGIN:STANDARD
TZOFFSETFROM:-0600
TZOFFSETTO:-0700
TZNAME:MST
DTSTART:20261101T080000
END:STANDARD
BEGIN:DAYLIGHT
TZOFFSETFROM:-0700
TZOFFSETTO:-0600
TZNAME:MDT
DTSTART:20270314T090000
END:DAYLIGHT
BEGIN:STANDARD
TZOFFSETFROM:-0600
TZOFFSETTO:-0700
TZNAME:MST
DTSTART:20271107T080000
END:STANDARD
END:VTIMEZONE
BEGIN:VEVENT
DTSTART;TZID=America/Denver:20260313T140000
DTEND;TZID=America/Denver:20260313T150000
DTSTAMP:20260423T115317
CREATED:20251023T171359Z
LAST-MODIFIED:20260305T222819Z
UID:11250-1773410400-1773414000@rooted303.org
SUMMARY:HWH - Residents Only
DESCRIPTION:
URL:https://rooted303.org/event/hwh-residents-only-40/
END:VEVENT
BEGIN:VEVENT
DTSTART;TZID=America/Denver:20260313T120000
DTEND;TZID=America/Denver:20260313T150000
DTSTAMP:20260423T115317
CREATED:20251024T172905Z
LAST-MODIFIED:20260206T202834Z
UID:11252-1773403200-1773414000@rooted303.org
SUMMARY:Bridge House
DESCRIPTION:
URL:https://rooted303.org/event/bridge-house-164/
END:VEVENT
BEGIN:VEVENT
DTSTART;TZID=America/Denver:20260313T120000
DTEND;TZID=America/Denver:20260313T130000
DTSTAMP:20260423T115317
CREATED:20251023T171359Z
LAST-MODIFIED:20260305T222819Z
UID:11249-1773403200-1773406800@rooted303.org
SUMMARY:Francis Heights - Grief Group - Mercy Housing Residents Only
DESCRIPTION:
URL:https://rooted303.org/event/francis-heights-grief-group-mercy-housing-residents-only-42/
END:VEVENT
BEGIN:VEVENT
DTSTART;TZID=America/Denver:20260312T183000
DTEND;TZID=America/Denver:20260312T193000
DTSTAMP:20260423T115317
CREATED:20251124T201402Z
LAST-MODIFIED:20260206T202834Z
UID:11528-1773340200-1773343800@rooted303.org
SUMMARY:Friends & Family CRAFT Group (Virtual)
DESCRIPTION:Click here to Join  our Zoom Meeting! 
URL:https://rooted303.org/event/friends-family-craft-group-virtual-80/
LOCATION:Zoom
END:VEVENT
BEGIN:VEVENT
DTSTART;TZID=America/Denver:20260312T183000
DTEND;TZID=America/Denver:20260312T193000
DTSTAMP:20260423T115317
CREATED:20251117T185931Z
LAST-MODIFIED:20251123T200004Z
UID:11400-1773340200-1773343800@rooted303.org
SUMMARY:Friends & Family CRAFT Group (Virtual)
DESCRIPTION:Click here to Join  our Zoom Meeting! 
URL:https://rooted303.org/event/friends-family-craft-group-virtual-61/
LOCATION:Zoom
END:VEVENT
BEGIN:VEVENT
DTSTART;TZID=America/Denver:20260312T183000
DTEND;TZID=America/Denver:20260312T193000
DTSTAMP:20260423T115317
CREATED:20251022T171428Z
LAST-MODIFIED:20251116T185857Z
UID:11242-1773340200-1773343800@rooted303.org
SUMMARY:Friends & Family CRAFT Group (Virtual)
DESCRIPTION:────────── \nRooted 303 is inviting you to a scheduled Zoom meeting. \nJoin Zoom Meetinghttps://us02web.zoom.us/j/86491237169?pwd=UFVUVngvVVpPM0toMTBuSGo5UkF1dz09 \nMeeting ID: 864 9123 7169Passcode: 672219 \n— \nOne tap mobile+17193594580\,\,86491237169#\,\,\,\,*672219# US+12532158782\,\,86491237169#\,\,\,\,*672219# US (Tacoma) \n— \nDial by your location• +1 719 359 4580 US• +1 253 215 8782 US (Tacoma)• +1 346 248 7799 US (Houston)• +1 669 444 9171 US• +1 669 900 9128 US (San Jose)• +1 253 205 0468 US• +1 360 209 5623 US• +1 386 347 5053 US• +1 507 473 4847 US• +1 564 217 2000 US• +1 646 558 8656 US (New York)• +1 646 931 3860 US• +1 689 278 1000 US• +1 301 715 8592 US (Washington DC)• +1 305 224 1968 US• +1 309 205 3325 US• +1 312 626 6799 US (Chicago) \nMeeting ID: 864 9123 7169Passcode: 672219 \nFind your local number: https://us02web.zoom.us/u/kdf4Ajtvut \n──────────
URL:https://rooted303.org/event/friends-family-craft-group-virtual-41/
LOCATION:https://us02web.zoom.us/j/86491237169?pwd=UFVUVngvVVpPM0toMTBuSGo5UkF1dz09
END:VEVENT
BEGIN:VEVENT
DTSTART;TZID=America/Denver:20260312T130000
DTEND;TZID=America/Denver:20260312T140000
DTSTAMP:20260423T115317
CREATED:20260207T202844Z
LAST-MODIFIED:20260305T222819Z
UID:12166-1773320400-1773324000@rooted303.org
SUMMARY:Friends & Family CRAFT Group (Virtual)
DESCRIPTION:Click here to Join  our Zoom Meeting! 
URL:https://rooted303.org/event/friends-family-craft-group-virtual-101/
LOCATION:Zoom
END:VEVENT
BEGIN:VEVENT
DTSTART;TZID=America/Denver:20260312T120000
DTEND;TZID=America/Denver:20260312T130000
DTSTAMP:20260423T115317
CREATED:20251022T171428Z
LAST-MODIFIED:20260210T205827Z
UID:11240-1773316800-1773320400@rooted303.org
SUMMARY:Nest 56 - Residents Only
DESCRIPTION:
URL:https://rooted303.org/event/nest-56-residents-only-41/
END:VEVENT
BEGIN:VEVENT
DTSTART;TZID=America/Denver:20260312T090000
DTEND;TZID=America/Denver:20260312T120000
DTSTAMP:20260423T115317
CREATED:20251022T171428Z
LAST-MODIFIED:20260129T201337Z
UID:11241-1773306000-1773316800@rooted303.org
SUMMARY:Bridge House
DESCRIPTION:
URL:https://rooted303.org/event/bridge-house-163/
END:VEVENT
BEGIN:VEVENT
DTSTART;TZID=America/Denver:20260311T183000
DTEND;TZID=America/Denver:20260311T193000
DTSTAMP:20260423T115317
CREATED:20251022T171428Z
LAST-MODIFIED:20260305T222819Z
UID:11239-1773253800-1773257400@rooted303.org
SUMMARY:Friends & Family CRAFT Group
DESCRIPTION:
URL:https://rooted303.org/event/friends-family-craft-group-41/
LOCATION:5808 S Rapp St suite 100\, Littleton\, CO\, United States
END:VEVENT
BEGIN:VEVENT
DTSTART;TZID=America/Denver:20260311T163000
DTEND;TZID=America/Denver:20260311T173000
DTSTAMP:20260423T115317
CREATED:20260216T212819Z
LAST-MODIFIED:20260305T222819Z
UID:12483-1773246600-1773250200@rooted303.org
SUMMARY:THE ROSE
DESCRIPTION:
URL:https://rooted303.org/event/the-rose-4/
END:VEVENT
BEGIN:VEVENT
DTSTART;TZID=America/Denver:20260311T130000
DTEND;TZID=America/Denver:20260311T140000
DTSTAMP:20260423T115317
CREATED:20251210T215843Z
LAST-MODIFIED:20260305T222819Z
UID:11702-1773234000-1773237600@rooted303.org
SUMMARY:Francis Heights - Mindfulness and Meditation Group
DESCRIPTION:Join us every Wednesday at 1 PM!
URL:https://rooted303.org/event/mindfulness-and-meditation-group-13/
LOCATION:Francis Heights\, 3805 W 26th Ave\, Denver\, CO\, United States
END:VEVENT
BEGIN:VEVENT
DTSTART;TZID=America/Denver:20260311T123000
DTEND;TZID=America/Denver:20260311T133000
DTSTAMP:20260423T115317
CREATED:20251022T171427Z
LAST-MODIFIED:20260305T222819Z
UID:11238-1773232200-1773235800@rooted303.org
SUMMARY:Aromor - Mercy Housing Residents Only
DESCRIPTION:
URL:https://rooted303.org/event/aromor-mercy-housing-residents-only-41/
END:VEVENT
BEGIN:VEVENT
DTSTART;TZID=America/Denver:20260311T100000
DTEND;TZID=America/Denver:20260311T110000
DTSTAMP:20260423T115317
CREATED:20251021T165850Z
LAST-MODIFIED:20260305T222819Z
UID:11233-1773223200-1773226800@rooted303.org
SUMMARY:Clare of Assisi/Villa Maria - Mercy Housing
DESCRIPTION:
URL:https://rooted303.org/event/clare-of-assisi-villa-maria-mercy-housing-40/
END:VEVENT
BEGIN:VEVENT
DTSTART;TZID=America/Denver:20260311T090000
DTEND;TZID=America/Denver:20260311T100000
DTSTAMP:20260423T115317
CREATED:20260107T185838Z
LAST-MODIFIED:20260206T202834Z
UID:11898-1773219600-1773223200@rooted303.org
SUMMARY:Women's Recovery Group - Rooted & Rising Woman
DESCRIPTION:Women’s Recovery Group – Rooted & Rising Woman9 am – 10 amJoin us Here!
URL:https://rooted303.org/event/womens-recovery-group-rooted-rising-woman-13/
LOCATION:Hybrid
END:VEVENT
BEGIN:VEVENT
DTSTART;TZID=America/Denver:20260310T183000
DTEND;TZID=America/Denver:20260310T193000
DTSTAMP:20260423T115317
CREATED:20251019T165854Z
LAST-MODIFIED:20251124T201401Z
UID:11229-1773167400-1773171000@rooted303.org
SUMMARY:Rooted 303/Exposed Support Group
DESCRIPTION:
URL:https://rooted303.org/event/rooted-303-exposed-support-group-41/
END:VEVENT
BEGIN:VEVENT
DTSTART;TZID=America/Denver:20260310T140000
DTEND;TZID=America/Denver:20260310T150000
DTSTAMP:20260423T115317
CREATED:20251018T165900Z
LAST-MODIFIED:20260305T222819Z
UID:11224-1773151200-1773154800@rooted303.org
SUMMARY:Franconia - Mercy Housing Residents Only
DESCRIPTION:
URL:https://rooted303.org/event/franconia-mercy-housing-residents-only-41/
END:VEVENT
BEGIN:VEVENT
DTSTART;TZID=America/Denver:20260310T120000
DTEND;TZID=America/Denver:20260310T130000
DTSTAMP:20260423T115317
CREATED:20251018T165900Z
LAST-MODIFIED:20260305T222819Z
UID:11222-1773144000-1773147600@rooted303.org
SUMMARY:Francis Heights - Mercy Housing Residents Only
DESCRIPTION:
URL:https://rooted303.org/event/francis-heights-mercy-housing-residents-only-41/
END:VEVENT
BEGIN:VEVENT
DTSTART;TZID=America/Denver:20260310T090000
DTEND;TZID=America/Denver:20260310T120000
DTSTAMP:20260423T115317
CREATED:20251018T165900Z
LAST-MODIFIED:20260129T201336Z
UID:11223-1773133200-1773144000@rooted303.org
SUMMARY:Bridge House
DESCRIPTION:
URL:https://rooted303.org/event/bridge-house-162/
END:VEVENT
BEGIN:VEVENT
DTSTART;TZID=America/Denver:20260309T170000
DTEND;TZID=America/Denver:20260309T180000
DTSTAMP:20260423T115317
CREATED:20260211T205855Z
LAST-MODIFIED:20260305T222819Z
UID:12403-1773075600-1773079200@rooted303.org
SUMMARY:Nest 56 - Residents Only
DESCRIPTION:
URL:https://rooted303.org/event/nest-56-residents-only-68/
END:VEVENT
BEGIN:VEVENT
DTSTART;TZID=America/Denver:20260309T120000
DTEND;TZID=America/Denver:20260309T150000
DTSTAMP:20260423T115317
CREATED:20251017T165940Z
LAST-MODIFIED:20260206T202833Z
UID:11216-1773057600-1773068400@rooted303.org
SUMMARY:Bridge House
DESCRIPTION:
URL:https://rooted303.org/event/bridge-house-161/
END:VEVENT
BEGIN:VEVENT
DTSTART;TZID=America/Denver:20260309T111500
DTEND;TZID=America/Denver:20260309T121500
DTSTAMP:20260423T115317
CREATED:20251124T201400Z
LAST-MODIFIED:20251214T221338Z
UID:11527-1773054900-1773058500@rooted303.org
SUMMARY:Sacred Roots Community Group
DESCRIPTION:Open to all Spiritual/Religious PathsJoin Here 
URL:https://rooted303.org/event/sacred-roots-community-group-35/
LOCATION:Hybrid
END:VEVENT
BEGIN:VEVENT
DTSTART;TZID=America/Denver:20260309T101500
DTEND;TZID=America/Denver:20260309T111500
DTSTAMP:20260423T115317
CREATED:20251215T222836Z
LAST-MODIFIED:20260206T202833Z
UID:11744-1773051300-1773054900@rooted303.org
SUMMARY:Sacred Roots Community Group
DESCRIPTION:Open to all Spiritual/Religious PathsJoin Here!
URL:https://rooted303.org/event/sacred-roots-community-group-54/
LOCATION:Hybrid
END:VEVENT
BEGIN:VEVENT
DTSTART;TZID=America/Denver:20260309T101500
DTEND;TZID=America/Denver:20260309T111500
DTSTAMP:20260423T115317
CREATED:20251119T192916Z
LAST-MODIFIED:20251123T200002Z
UID:11462-1773051300-1773054900@rooted303.org
SUMMARY:Sacred Roots Community Group
DESCRIPTION:Open to all Spiritual/Religious PathsJoin Here 
URL:https://rooted303.org/event/sacred-roots-community-group-16/
LOCATION:Hybrid
END:VEVENT
BEGIN:VEVENT
DTSTART;TZID=America/Denver:20260306T140000
DTEND;TZID=America/Denver:20260306T150000
DTSTAMP:20260423T115317
CREATED:20251017T165940Z
LAST-MODIFIED:20260305T222818Z
UID:11215-1772805600-1772809200@rooted303.org
SUMMARY:HWH - Residents Only
DESCRIPTION:
URL:https://rooted303.org/event/hwh-residents-only-39/
END:VEVENT
BEGIN:VEVENT
DTSTART;TZID=America/Denver:20260306T120000
DTEND;TZID=America/Denver:20260306T150000
DTSTAMP:20260423T115317
CREATED:20251017T165940Z
LAST-MODIFIED:20260206T202833Z
UID:11213-1772798400-1772809200@rooted303.org
SUMMARY:Bridge House
DESCRIPTION:
URL:https://rooted303.org/event/bridge-house-160/
END:VEVENT
BEGIN:VEVENT
DTSTART;TZID=America/Denver:20260306T120000
DTEND;TZID=America/Denver:20260306T130000
DTSTAMP:20260423T115317
CREATED:20251017T165940Z
LAST-MODIFIED:20260305T222818Z
UID:11214-1772798400-1772802000@rooted303.org
SUMMARY:Francis Heights - Grief Group - Mercy Housing Residents Only
DESCRIPTION:
URL:https://rooted303.org/event/francis-heights-grief-group-mercy-housing-residents-only-41/
END:VEVENT
BEGIN:VEVENT
DTSTART;TZID=America/Denver:20260305T183000
DTEND;TZID=America/Denver:20260305T193000
DTSTAMP:20260423T115317
CREATED:20251124T201359Z
LAST-MODIFIED:20260206T202833Z
UID:11526-1772735400-1772739000@rooted303.org
SUMMARY:Friends & Family CRAFT Group (Virtual)
DESCRIPTION:Click here to Join  our Zoom Meeting! 
URL:https://rooted303.org/event/friends-family-craft-group-virtual-79/
LOCATION:Zoom
END:VEVENT
BEGIN:VEVENT
DTSTART;TZID=America/Denver:20260305T183000
DTEND;TZID=America/Denver:20260305T193000
DTSTAMP:20260423T115317
CREATED:20251117T185929Z
LAST-MODIFIED:20251123T200001Z
UID:11399-1772735400-1772739000@rooted303.org
SUMMARY:Friends & Family CRAFT Group (Virtual)
DESCRIPTION:Click here to Join  our Zoom Meeting! 
URL:https://rooted303.org/event/friends-family-craft-group-virtual-60/
LOCATION:Zoom
END:VEVENT
BEGIN:VEVENT
DTSTART;TZID=America/Denver:20260305T183000
DTEND;TZID=America/Denver:20260305T193000
DTSTAMP:20260423T115317
CREATED:20251016T165855Z
LAST-MODIFIED:20251116T185856Z
UID:11208-1772735400-1772739000@rooted303.org
SUMMARY:Friends & Family CRAFT Group (Virtual)
DESCRIPTION:────────── \nRooted 303 is inviting you to a scheduled Zoom meeting. \nJoin Zoom Meetinghttps://us02web.zoom.us/j/86491237169?pwd=UFVUVngvVVpPM0toMTBuSGo5UkF1dz09 \nMeeting ID: 864 9123 7169Passcode: 672219 \n— \nOne tap mobile+17193594580\,\,86491237169#\,\,\,\,*672219# US+12532158782\,\,86491237169#\,\,\,\,*672219# US (Tacoma) \n— \nDial by your location• +1 719 359 4580 US• +1 253 215 8782 US (Tacoma)• +1 346 248 7799 US (Houston)• +1 669 444 9171 US• +1 669 900 9128 US (San Jose)• +1 253 205 0468 US• +1 360 209 5623 US• +1 386 347 5053 US• +1 507 473 4847 US• +1 564 217 2000 US• +1 646 558 8656 US (New York)• +1 646 931 3860 US• +1 689 278 1000 US• +1 301 715 8592 US (Washington DC)• +1 305 224 1968 US• +1 309 205 3325 US• +1 312 626 6799 US (Chicago) \nMeeting ID: 864 9123 7169Passcode: 672219 \nFind your local number: https://us02web.zoom.us/u/kdf4Ajtvut \n──────────
URL:https://rooted303.org/event/friends-family-craft-group-virtual-40/
LOCATION:https://us02web.zoom.us/j/86491237169?pwd=UFVUVngvVVpPM0toMTBuSGo5UkF1dz09
END:VEVENT
END:VCALENDAR