BEGIN:VCALENDAR
VERSION:2.0
PRODID:-//Rooted 303 - ECPv6.15.20//NONSGML v1.0//EN
CALSCALE:GREGORIAN
METHOD:PUBLISH
X-WR-CALNAME:Rooted 303
X-ORIGINAL-URL:https://rooted303.org
X-WR-CALDESC:Events for Rooted 303
REFRESH-INTERVAL;VALUE=DURATION:PT1H
X-Robots-Tag:noindex
X-PUBLISHED-TTL:PT1H
BEGIN:VTIMEZONE
TZID:America/Denver
BEGIN:DAYLIGHT
TZOFFSETFROM:-0700
TZOFFSETTO:-0600
TZNAME:MDT
DTSTART:20250309T090000
END:DAYLIGHT
BEGIN:STANDARD
TZOFFSETFROM:-0600
TZOFFSETTO:-0700
TZNAME:MST
DTSTART:20251102T080000
END:STANDARD
BEGIN:DAYLIGHT
TZOFFSETFROM:-0700
TZOFFSETTO:-0600
TZNAME:MDT
DTSTART:20260308T090000
END:DAYLIGHT
BEGIN:STANDARD
TZOFFSETFROM:-0600
TZOFFSETTO:-0700
TZNAME:MST
DTSTART:20261101T080000
END:STANDARD
BEGIN:DAYLIGHT
TZOFFSETFROM:-0700
TZOFFSETTO:-0600
TZNAME:MDT
DTSTART:20270314T090000
END:DAYLIGHT
BEGIN:STANDARD
TZOFFSETFROM:-0600
TZOFFSETTO:-0700
TZNAME:MST
DTSTART:20271107T080000
END:STANDARD
END:VTIMEZONE
BEGIN:VEVENT
DTSTART;TZID=America/Denver:20260713T170000
DTEND;TZID=America/Denver:20260713T180000
DTSTAMP:20260421T201740
CREATED:20260211T205914Z
LAST-MODIFIED:20260416T174332Z
UID:12421-1783962000-1783965600@rooted303.org
SUMMARY:Nest 56 - Residents Only
DESCRIPTION:
URL:https://rooted303.org/event/nest-56-residents-only-86/
END:VEVENT
BEGIN:VEVENT
DTSTART;TZID=America/Denver:20260714T120000
DTEND;TZID=America/Denver:20260714T130000
DTSTAMP:20260421T201740
CREATED:20260207T202902Z
LAST-MODIFIED:20260416T174332Z
UID:12217-1784030400-1784034000@rooted303.org
SUMMARY:Francis Heights - Mercy Housing Residents Only
DESCRIPTION:
URL:https://rooted303.org/event/francis-heights-mercy-housing-residents-only-59/
END:VEVENT
BEGIN:VEVENT
DTSTART;TZID=America/Denver:20260714T123000
DTEND;TZID=America/Denver:20260714T133000
DTSTAMP:20260421T201740
CREATED:20260416T174333Z
LAST-MODIFIED:20260416T174333Z
UID:12769-1784032200-1784035800@rooted303.org
SUMMARY:Holly Park - Residents Only
DESCRIPTION:
URL:https://rooted303.org/event/holly-park-residents-only-13/
END:VEVENT
BEGIN:VEVENT
DTSTART;TZID=America/Denver:20260714T140000
DTEND;TZID=America/Denver:20260714T150000
DTSTAMP:20260421T201740
CREATED:20260207T202903Z
LAST-MODIFIED:20260416T174333Z
UID:12218-1784037600-1784041200@rooted303.org
SUMMARY:Franconia - Mercy Housing Residents Only
DESCRIPTION:
URL:https://rooted303.org/event/franconia-mercy-housing-residents-only-59/
END:VEVENT
BEGIN:VEVENT
DTSTART;TZID=America/Denver:20260715T100000
DTEND;TZID=America/Denver:20260715T110000
DTSTAMP:20260421T201740
CREATED:20260207T202903Z
LAST-MODIFIED:20260416T174333Z
UID:12219-1784109600-1784113200@rooted303.org
SUMMARY:Clare of Assisi/Villa Maria - Mercy Housing
DESCRIPTION:
URL:https://rooted303.org/event/clare-of-assisi-villa-maria-mercy-housing-58/
END:VEVENT
BEGIN:VEVENT
DTSTART;TZID=America/Denver:20260715T123000
DTEND;TZID=America/Denver:20260715T133000
DTSTAMP:20260421T201740
CREATED:20260207T202903Z
LAST-MODIFIED:20260416T174333Z
UID:12221-1784118600-1784122200@rooted303.org
SUMMARY:Aromor - Mercy Housing Residents Only
DESCRIPTION:
URL:https://rooted303.org/event/aromor-mercy-housing-residents-only-59/
END:VEVENT
BEGIN:VEVENT
DTSTART;TZID=America/Denver:20260715T130000
DTEND;TZID=America/Denver:20260715T140000
DTSTAMP:20260421T201740
CREATED:20260207T202903Z
LAST-MODIFIED:20260416T174333Z
UID:12220-1784120400-1784124000@rooted303.org
SUMMARY:Francis Heights - Mindfulness and Meditation Group
DESCRIPTION:Join us every Wednesday at 1 PM!
URL:https://rooted303.org/event/francis-heights-mindfulness-and-meditation-group-3/
LOCATION:Francis Heights\, 3805 W 26th Ave\, Denver\, CO\, United States
END:VEVENT
BEGIN:VEVENT
DTSTART;TZID=America/Denver:20260715T163000
DTEND;TZID=America/Denver:20260715T173000
DTSTAMP:20260421T201740
CREATED:20260216T212845Z
LAST-MODIFIED:20260416T174333Z
UID:12501-1784133000-1784136600@rooted303.org
SUMMARY:THE ROSE
DESCRIPTION:
URL:https://rooted303.org/event/the-rose-22/
END:VEVENT
BEGIN:VEVENT
DTSTART;TZID=America/Denver:20260715T183000
DTEND;TZID=America/Denver:20260715T193000
DTSTAMP:20260421T201740
CREATED:20260207T202903Z
LAST-MODIFIED:20260416T174333Z
UID:12222-1784140200-1784143800@rooted303.org
SUMMARY:Friends & Family CRAFT Group
DESCRIPTION:
URL:https://rooted303.org/event/friends-family-craft-group-59/
LOCATION:5808 S Rapp St suite 100\, Littleton\, CO\, United States
END:VEVENT
BEGIN:VEVENT
DTSTART;TZID=America/Denver:20260716T120000
DTEND;TZID=America/Denver:20260716T130000
DTSTAMP:20260421T201740
CREATED:20260207T202904Z
LAST-MODIFIED:20260210T205842Z
UID:12223-1784203200-1784206800@rooted303.org
SUMMARY:Nest 56 - Residents Only
DESCRIPTION:
URL:https://rooted303.org/event/nest-56-residents-only-59/
END:VEVENT
BEGIN:VEVENT
DTSTART;TZID=America/Denver:20260716T130000
DTEND;TZID=America/Denver:20260716T140000
DTSTAMP:20260421T201740
CREATED:20260207T202904Z
LAST-MODIFIED:20260416T174333Z
UID:12224-1784206800-1784210400@rooted303.org
SUMMARY:Friends & Family CRAFT Group (Virtual)
DESCRIPTION:Click here to Join  our Zoom Meeting! 
URL:https://rooted303.org/event/friends-family-craft-group-virtual-119/
LOCATION:Zoom
END:VEVENT
BEGIN:VEVENT
DTSTART;TZID=America/Denver:20260717T120000
DTEND;TZID=America/Denver:20260717T130000
DTSTAMP:20260421T201740
CREATED:20260207T202904Z
LAST-MODIFIED:20260416T174333Z
UID:12225-1784289600-1784293200@rooted303.org
SUMMARY:Francis Heights - Grief Group - Mercy Housing Residents Only
DESCRIPTION:
URL:https://rooted303.org/event/francis-heights-grief-group-mercy-housing-residents-only-60/
END:VEVENT
BEGIN:VEVENT
DTSTART;TZID=America/Denver:20260717T140000
DTEND;TZID=America/Denver:20260717T150000
DTSTAMP:20260421T201740
CREATED:20260207T202904Z
LAST-MODIFIED:20260416T174333Z
UID:12226-1784296800-1784300400@rooted303.org
SUMMARY:HWH - Residents Only
DESCRIPTION:
URL:https://rooted303.org/event/hwh-residents-only-58/
END:VEVENT
BEGIN:VEVENT
DTSTART;TZID=America/Denver:20260720T170000
DTEND;TZID=America/Denver:20260720T180000
DTSTAMP:20260421T201740
CREATED:20260211T205915Z
LAST-MODIFIED:20260416T174334Z
UID:12422-1784566800-1784570400@rooted303.org
SUMMARY:Nest 56 - Residents Only
DESCRIPTION:
URL:https://rooted303.org/event/nest-56-residents-only-87/
END:VEVENT
BEGIN:VEVENT
DTSTART;TZID=America/Denver:20260721T120000
DTEND;TZID=America/Denver:20260721T130000
DTSTAMP:20260421T201740
CREATED:20260207T202904Z
LAST-MODIFIED:20260416T174334Z
UID:12227-1784635200-1784638800@rooted303.org
SUMMARY:Francis Heights - Mercy Housing Residents Only
DESCRIPTION:
URL:https://rooted303.org/event/francis-heights-mercy-housing-residents-only-60/
END:VEVENT
BEGIN:VEVENT
DTSTART;TZID=America/Denver:20260721T123000
DTEND;TZID=America/Denver:20260721T133000
DTSTAMP:20260421T201740
CREATED:20260416T174334Z
LAST-MODIFIED:20260416T174334Z
UID:12770-1784637000-1784640600@rooted303.org
SUMMARY:Holly Park - Residents Only
DESCRIPTION:
URL:https://rooted303.org/event/holly-park-residents-only-14/
END:VEVENT
BEGIN:VEVENT
DTSTART;TZID=America/Denver:20260721T140000
DTEND;TZID=America/Denver:20260721T150000
DTSTAMP:20260421T201740
CREATED:20260207T202905Z
LAST-MODIFIED:20260416T174334Z
UID:12228-1784642400-1784646000@rooted303.org
SUMMARY:Franconia - Mercy Housing Residents Only
DESCRIPTION:
URL:https://rooted303.org/event/franconia-mercy-housing-residents-only-60/
END:VEVENT
BEGIN:VEVENT
DTSTART;TZID=America/Denver:20260722T100000
DTEND;TZID=America/Denver:20260722T110000
DTSTAMP:20260421T201740
CREATED:20260207T202905Z
LAST-MODIFIED:20260416T174334Z
UID:12229-1784714400-1784718000@rooted303.org
SUMMARY:Clare of Assisi/Villa Maria - Mercy Housing
DESCRIPTION:
URL:https://rooted303.org/event/clare-of-assisi-villa-maria-mercy-housing-59/
END:VEVENT
BEGIN:VEVENT
DTSTART;TZID=America/Denver:20260722T123000
DTEND;TZID=America/Denver:20260722T133000
DTSTAMP:20260421T201740
CREATED:20260207T202905Z
LAST-MODIFIED:20260416T174334Z
UID:12230-1784723400-1784727000@rooted303.org
SUMMARY:Aromor - Mercy Housing Residents Only
DESCRIPTION:
URL:https://rooted303.org/event/aromor-mercy-housing-residents-only-60/
END:VEVENT
BEGIN:VEVENT
DTSTART;TZID=America/Denver:20260722T130000
DTEND;TZID=America/Denver:20260722T140000
DTSTAMP:20260421T201740
CREATED:20260207T202905Z
LAST-MODIFIED:20260416T174334Z
UID:12231-1784725200-1784728800@rooted303.org
SUMMARY:Francis Heights - Mindfulness and Meditation Group
DESCRIPTION:Join us every Wednesday at 1 PM!
URL:https://rooted303.org/event/francis-heights-mindfulness-and-meditation-group-4/
LOCATION:Francis Heights\, 3805 W 26th Ave\, Denver\, CO\, United States
END:VEVENT
BEGIN:VEVENT
DTSTART;TZID=America/Denver:20260722T163000
DTEND;TZID=America/Denver:20260722T173000
DTSTAMP:20260421T201740
CREATED:20260216T212846Z
LAST-MODIFIED:20260416T174334Z
UID:12502-1784737800-1784741400@rooted303.org
SUMMARY:THE ROSE
DESCRIPTION:
URL:https://rooted303.org/event/the-rose-23/
END:VEVENT
BEGIN:VEVENT
DTSTART;TZID=America/Denver:20260722T183000
DTEND;TZID=America/Denver:20260722T193000
DTSTAMP:20260421T201740
CREATED:20260207T202905Z
LAST-MODIFIED:20260416T174334Z
UID:12232-1784745000-1784748600@rooted303.org
SUMMARY:Friends & Family CRAFT Group
DESCRIPTION:
URL:https://rooted303.org/event/friends-family-craft-group-60/
LOCATION:5808 S Rapp St suite 100\, Littleton\, CO\, United States
END:VEVENT
BEGIN:VEVENT
DTSTART;TZID=America/Denver:20260723T120000
DTEND;TZID=America/Denver:20260723T130000
DTSTAMP:20260421T201740
CREATED:20260207T202905Z
LAST-MODIFIED:20260210T205842Z
UID:12233-1784808000-1784811600@rooted303.org
SUMMARY:Nest 56 - Residents Only
DESCRIPTION:
URL:https://rooted303.org/event/nest-56-residents-only-60/
END:VEVENT
BEGIN:VEVENT
DTSTART;TZID=America/Denver:20260723T130000
DTEND;TZID=America/Denver:20260723T140000
DTSTAMP:20260421T201740
CREATED:20260207T202906Z
LAST-MODIFIED:20260416T174334Z
UID:12234-1784811600-1784815200@rooted303.org
SUMMARY:Friends & Family CRAFT Group (Virtual)
DESCRIPTION:Click here to Join  our Zoom Meeting! 
URL:https://rooted303.org/event/friends-family-craft-group-virtual-120/
LOCATION:Zoom
END:VEVENT
BEGIN:VEVENT
DTSTART;TZID=America/Denver:20260723T150000
DTEND;TZID=America/Denver:20260723T160000
DTSTAMP:20260421T201740
CREATED:20260207T202906Z
LAST-MODIFIED:20260215T212835Z
UID:12235-1784818800-1784822400@rooted303.org
SUMMARY:The Rose - Residents Only
DESCRIPTION:
URL:https://rooted303.org/event/the-rose-residents-only-30/
END:VEVENT
BEGIN:VEVENT
DTSTART;TZID=America/Denver:20260724T120000
DTEND;TZID=America/Denver:20260724T130000
DTSTAMP:20260421T201740
CREATED:20260207T202906Z
LAST-MODIFIED:20260416T174334Z
UID:12236-1784894400-1784898000@rooted303.org
SUMMARY:Francis Heights - Grief Group - Mercy Housing Residents Only
DESCRIPTION:
URL:https://rooted303.org/event/francis-heights-grief-group-mercy-housing-residents-only-61/
END:VEVENT
BEGIN:VEVENT
DTSTART;TZID=America/Denver:20260724T140000
DTEND;TZID=America/Denver:20260724T150000
DTSTAMP:20260421T201740
CREATED:20260207T202906Z
LAST-MODIFIED:20260416T174335Z
UID:12237-1784901600-1784905200@rooted303.org
SUMMARY:HWH - Residents Only
DESCRIPTION:
URL:https://rooted303.org/event/hwh-residents-only-59/
END:VEVENT
BEGIN:VEVENT
DTSTART;TZID=America/Denver:20260727T170000
DTEND;TZID=America/Denver:20260727T180000
DTSTAMP:20260421T201740
CREATED:20260211T205916Z
LAST-MODIFIED:20260416T174335Z
UID:12423-1785171600-1785175200@rooted303.org
SUMMARY:Nest 56 - Residents Only
DESCRIPTION:
URL:https://rooted303.org/event/nest-56-residents-only-88/
END:VEVENT
BEGIN:VEVENT
DTSTART;TZID=America/Denver:20260728T120000
DTEND;TZID=America/Denver:20260728T130000
DTSTAMP:20260421T201740
CREATED:20260207T202907Z
LAST-MODIFIED:20260416T174335Z
UID:12238-1785240000-1785243600@rooted303.org
SUMMARY:Francis Heights - Mercy Housing Residents Only
DESCRIPTION:
URL:https://rooted303.org/event/francis-heights-mercy-housing-residents-only-61/
END:VEVENT
BEGIN:VEVENT
DTSTART;TZID=America/Denver:20260728T123000
DTEND;TZID=America/Denver:20260728T133000
DTSTAMP:20260421T201740
CREATED:20260416T174335Z
LAST-MODIFIED:20260416T174335Z
UID:12771-1785241800-1785245400@rooted303.org
SUMMARY:Holly Park - Residents Only
DESCRIPTION:
URL:https://rooted303.org/event/holly-park-residents-only-15/
END:VEVENT
END:VCALENDAR