BEGIN:VCALENDAR
VERSION:2.0
PRODID:-//Rooted 303 - ECPv6.15.20//NONSGML v1.0//EN
CALSCALE:GREGORIAN
METHOD:PUBLISH
X-ORIGINAL-URL:https://rooted303.org
X-WR-CALDESC:Events for Rooted 303
REFRESH-INTERVAL;VALUE=DURATION:PT1H
X-Robots-Tag:noindex
X-PUBLISHED-TTL:PT1H
BEGIN:VTIMEZONE
TZID:America/Denver
BEGIN:DAYLIGHT
TZOFFSETFROM:-0700
TZOFFSETTO:-0600
TZNAME:MDT
DTSTART:20250309T090000
END:DAYLIGHT
BEGIN:STANDARD
TZOFFSETFROM:-0600
TZOFFSETTO:-0700
TZNAME:MST
DTSTART:20251102T080000
END:STANDARD
BEGIN:DAYLIGHT
TZOFFSETFROM:-0700
TZOFFSETTO:-0600
TZNAME:MDT
DTSTART:20260308T090000
END:DAYLIGHT
BEGIN:STANDARD
TZOFFSETFROM:-0600
TZOFFSETTO:-0700
TZNAME:MST
DTSTART:20261101T080000
END:STANDARD
BEGIN:DAYLIGHT
TZOFFSETFROM:-0700
TZOFFSETTO:-0600
TZNAME:MDT
DTSTART:20270314T090000
END:DAYLIGHT
BEGIN:STANDARD
TZOFFSETFROM:-0600
TZOFFSETTO:-0700
TZNAME:MST
DTSTART:20271107T080000
END:STANDARD
END:VTIMEZONE
BEGIN:VEVENT
DTSTART;TZID=America/Denver:20260609T123000
DTEND;TZID=America/Denver:20260609T133000
DTSTAMP:20260421T182928
CREATED:20260416T174327Z
LAST-MODIFIED:20260416T174327Z
UID:12764-1781008200-1781011800@rooted303.org
SUMMARY:Holly Park - Residents Only
DESCRIPTION:
URL:https://rooted303.org/event/holly-park-residents-only-8/
END:VEVENT
BEGIN:VEVENT
DTSTART;TZID=America/Denver:20260609T140000
DTEND;TZID=America/Denver:20260609T150000
DTSTAMP:20260421T182928
CREATED:20260130T201441Z
LAST-MODIFIED:20260416T174327Z
UID:12042-1781013600-1781017200@rooted303.org
SUMMARY:Franconia - Mercy Housing Residents Only
DESCRIPTION:
URL:https://rooted303.org/event/franconia-mercy-housing-residents-only-54/
END:VEVENT
BEGIN:VEVENT
DTSTART;TZID=America/Denver:20260610T090000
DTEND;TZID=America/Denver:20260610T100000
DTSTAMP:20260421T182928
CREATED:20260130T201442Z
LAST-MODIFIED:20260206T202850Z
UID:12044-1781082000-1781085600@rooted303.org
SUMMARY:Women's Recovery Group - Rooted & Rising Woman
DESCRIPTION:Women’s Recovery Group – Rooted & Rising Woman9 am – 10 amJoin us Here!
URL:https://rooted303.org/event/womens-recovery-group-rooted-rising-woman-26/
LOCATION:Hybrid
END:VEVENT
BEGIN:VEVENT
DTSTART;TZID=America/Denver:20260610T100000
DTEND;TZID=America/Denver:20260610T110000
DTSTAMP:20260421T182928
CREATED:20260130T201442Z
LAST-MODIFIED:20260416T174327Z
UID:12043-1781085600-1781089200@rooted303.org
SUMMARY:Clare of Assisi/Villa Maria - Mercy Housing
DESCRIPTION:
URL:https://rooted303.org/event/clare-of-assisi-villa-maria-mercy-housing-53/
END:VEVENT
BEGIN:VEVENT
DTSTART;TZID=America/Denver:20260610T123000
DTEND;TZID=America/Denver:20260610T133000
DTSTAMP:20260421T182928
CREATED:20260130T201442Z
LAST-MODIFIED:20260416T174328Z
UID:12046-1781094600-1781098200@rooted303.org
SUMMARY:Aromor - Mercy Housing Residents Only
DESCRIPTION:
URL:https://rooted303.org/event/aromor-mercy-housing-residents-only-54/
END:VEVENT
BEGIN:VEVENT
DTSTART;TZID=America/Denver:20260610T130000
DTEND;TZID=America/Denver:20260610T140000
DTSTAMP:20260421T182928
CREATED:20260130T201442Z
LAST-MODIFIED:20260416T174328Z
UID:12045-1781096400-1781100000@rooted303.org
SUMMARY:Francis Heights - Mindfulness and Meditation Group
DESCRIPTION:Join us every Wednesday at 1 PM!
URL:https://rooted303.org/event/mindfulness-and-meditation-group-26/
LOCATION:Francis Heights\, 3805 W 26th Ave\, Denver\, CO\, United States
END:VEVENT
BEGIN:VEVENT
DTSTART;TZID=America/Denver:20260610T163000
DTEND;TZID=America/Denver:20260610T173000
DTSTAMP:20260421T182928
CREATED:20260216T212838Z
LAST-MODIFIED:20260416T174328Z
UID:12496-1781109000-1781112600@rooted303.org
SUMMARY:THE ROSE
DESCRIPTION:
URL:https://rooted303.org/event/the-rose-17/
END:VEVENT
BEGIN:VEVENT
DTSTART;TZID=America/Denver:20260610T183000
DTEND;TZID=America/Denver:20260610T193000
DTSTAMP:20260421T182928
CREATED:20260130T201442Z
LAST-MODIFIED:20260416T174328Z
UID:12047-1781116200-1781119800@rooted303.org
SUMMARY:Friends & Family CRAFT Group
DESCRIPTION:
URL:https://rooted303.org/event/friends-family-craft-group-54/
LOCATION:5808 S Rapp St suite 100\, Littleton\, CO\, United States
END:VEVENT
BEGIN:VEVENT
DTSTART;TZID=America/Denver:20260611T120000
DTEND;TZID=America/Denver:20260611T130000
DTSTAMP:20260421T182928
CREATED:20260130T201442Z
LAST-MODIFIED:20260210T205837Z
UID:12048-1781179200-1781182800@rooted303.org
SUMMARY:Nest 56 - Residents Only
DESCRIPTION:
URL:https://rooted303.org/event/nest-56-residents-only-54/
END:VEVENT
BEGIN:VEVENT
DTSTART;TZID=America/Denver:20260611T130000
DTEND;TZID=America/Denver:20260611T140000
DTSTAMP:20260421T182928
CREATED:20260207T202856Z
LAST-MODIFIED:20260416T174328Z
UID:12192-1781182800-1781186400@rooted303.org
SUMMARY:Friends & Family CRAFT Group (Virtual)
DESCRIPTION:Click here to Join  our Zoom Meeting! 
URL:https://rooted303.org/event/friends-family-craft-group-virtual-114/
LOCATION:Zoom
END:VEVENT
BEGIN:VEVENT
DTSTART;TZID=America/Denver:20260611T150000
DTEND;TZID=America/Denver:20260611T160000
DTSTAMP:20260421T182928
CREATED:20260130T201443Z
LAST-MODIFIED:20260215T212830Z
UID:12049-1781190000-1781193600@rooted303.org
SUMMARY:The Rose - Residents Only
DESCRIPTION:
URL:https://rooted303.org/event/the-rose-residents-only-27/
END:VEVENT
BEGIN:VEVENT
DTSTART;TZID=America/Denver:20260611T183000
DTEND;TZID=America/Denver:20260611T193000
DTSTAMP:20260421T182928
CREATED:20260130T201443Z
LAST-MODIFIED:20260206T202851Z
UID:12050-1781202600-1781206200@rooted303.org
SUMMARY:Friends & Family CRAFT Group (Virtual)
DESCRIPTION:Click here to Join  our Zoom Meeting! 
URL:https://rooted303.org/event/friends-family-craft-group-virtual-94/
LOCATION:Zoom
END:VEVENT
BEGIN:VEVENT
DTSTART;TZID=America/Denver:20260612T120000
DTEND;TZID=America/Denver:20260612T130000
DTSTAMP:20260421T182928
CREATED:20260130T201443Z
LAST-MODIFIED:20260416T174328Z
UID:12052-1781265600-1781269200@rooted303.org
SUMMARY:Francis Heights - Grief Group - Mercy Housing Residents Only
DESCRIPTION:
URL:https://rooted303.org/event/francis-heights-grief-group-mercy-housing-residents-only-55/
END:VEVENT
BEGIN:VEVENT
DTSTART;TZID=America/Denver:20260612T120000
DTEND;TZID=America/Denver:20260612T150000
DTSTAMP:20260421T182928
CREATED:20260130T201443Z
LAST-MODIFIED:20260206T202851Z
UID:12051-1781265600-1781276400@rooted303.org
SUMMARY:Bridge House
DESCRIPTION:
URL:https://rooted303.org/event/bridge-house-214/
END:VEVENT
BEGIN:VEVENT
DTSTART;TZID=America/Denver:20260612T140000
DTEND;TZID=America/Denver:20260612T150000
DTSTAMP:20260421T182928
CREATED:20260130T201443Z
LAST-MODIFIED:20260416T174328Z
UID:12053-1781272800-1781276400@rooted303.org
SUMMARY:HWH - Residents Only
DESCRIPTION:
URL:https://rooted303.org/event/hwh-residents-only-53/
END:VEVENT
BEGIN:VEVENT
DTSTART;TZID=America/Denver:20260615T101500
DTEND;TZID=America/Denver:20260615T111500
DTSTAMP:20260421T182928
CREATED:20260130T201444Z
LAST-MODIFIED:20260206T202851Z
UID:12054-1781518500-1781522100@rooted303.org
SUMMARY:Sacred Roots Community Group
DESCRIPTION:Open to all Spiritual/Religious PathsJoin Here!
URL:https://rooted303.org/event/sacred-roots-community-group-68/
LOCATION:Hybrid
END:VEVENT
BEGIN:VEVENT
DTSTART;TZID=America/Denver:20260615T120000
DTEND;TZID=America/Denver:20260615T150000
DTSTAMP:20260421T182928
CREATED:20260130T201444Z
LAST-MODIFIED:20260206T202851Z
UID:12055-1781524800-1781535600@rooted303.org
SUMMARY:Bridge House
DESCRIPTION:
URL:https://rooted303.org/event/bridge-house-215/
END:VEVENT
BEGIN:VEVENT
DTSTART;TZID=America/Denver:20260615T170000
DTEND;TZID=America/Denver:20260615T180000
DTSTAMP:20260421T182928
CREATED:20260211T205909Z
LAST-MODIFIED:20260416T174328Z
UID:12417-1781542800-1781546400@rooted303.org
SUMMARY:Nest 56 - Residents Only
DESCRIPTION:
URL:https://rooted303.org/event/nest-56-residents-only-82/
END:VEVENT
BEGIN:VEVENT
DTSTART;TZID=America/Denver:20260616T120000
DTEND;TZID=America/Denver:20260616T130000
DTSTAMP:20260421T182928
CREATED:20260130T201444Z
LAST-MODIFIED:20260416T174328Z
UID:12056-1781611200-1781614800@rooted303.org
SUMMARY:Francis Heights - Mercy Housing Residents Only
DESCRIPTION:
URL:https://rooted303.org/event/francis-heights-mercy-housing-residents-only-55/
END:VEVENT
BEGIN:VEVENT
DTSTART;TZID=America/Denver:20260616T123000
DTEND;TZID=America/Denver:20260616T133000
DTSTAMP:20260421T182928
CREATED:20260416T174328Z
LAST-MODIFIED:20260416T174328Z
UID:12765-1781613000-1781616600@rooted303.org
SUMMARY:Holly Park - Residents Only
DESCRIPTION:
URL:https://rooted303.org/event/holly-park-residents-only-9/
END:VEVENT
BEGIN:VEVENT
DTSTART;TZID=America/Denver:20260616T140000
DTEND;TZID=America/Denver:20260616T150000
DTSTAMP:20260421T182928
CREATED:20260130T201444Z
LAST-MODIFIED:20260416T174328Z
UID:12057-1781618400-1781622000@rooted303.org
SUMMARY:Franconia - Mercy Housing Residents Only
DESCRIPTION:
URL:https://rooted303.org/event/franconia-mercy-housing-residents-only-55/
END:VEVENT
BEGIN:VEVENT
DTSTART;TZID=America/Denver:20260617T090000
DTEND;TZID=America/Denver:20260617T100000
DTSTAMP:20260421T182928
CREATED:20260130T201444Z
LAST-MODIFIED:20260206T202851Z
UID:12058-1781686800-1781690400@rooted303.org
SUMMARY:Women's Recovery Group - Rooted & Rising Woman
DESCRIPTION:Women’s Recovery Group – Rooted & Rising Woman9 am – 10 amJoin us Here!
URL:https://rooted303.org/event/womens-recovery-group-rooted-rising-woman-27/
LOCATION:Hybrid
END:VEVENT
BEGIN:VEVENT
DTSTART;TZID=America/Denver:20260617T100000
DTEND;TZID=America/Denver:20260617T110000
DTSTAMP:20260421T182928
CREATED:20260130T201445Z
LAST-MODIFIED:20260416T174328Z
UID:12059-1781690400-1781694000@rooted303.org
SUMMARY:Clare of Assisi/Villa Maria - Mercy Housing
DESCRIPTION:
URL:https://rooted303.org/event/clare-of-assisi-villa-maria-mercy-housing-54/
END:VEVENT
BEGIN:VEVENT
DTSTART;TZID=America/Denver:20260617T123000
DTEND;TZID=America/Denver:20260617T133000
DTSTAMP:20260421T182928
CREATED:20260130T201445Z
LAST-MODIFIED:20260416T174329Z
UID:12061-1781699400-1781703000@rooted303.org
SUMMARY:Aromor - Mercy Housing Residents Only
DESCRIPTION:
URL:https://rooted303.org/event/aromor-mercy-housing-residents-only-55/
END:VEVENT
BEGIN:VEVENT
DTSTART;TZID=America/Denver:20260617T130000
DTEND;TZID=America/Denver:20260617T140000
DTSTAMP:20260421T182928
CREATED:20260130T201445Z
LAST-MODIFIED:20260416T174329Z
UID:12060-1781701200-1781704800@rooted303.org
SUMMARY:Francis Heights - Mindfulness and Meditation Group
DESCRIPTION:Join us every Wednesday at 1 PM!
URL:https://rooted303.org/event/mindfulness-and-meditation-group-27/
LOCATION:Francis Heights\, 3805 W 26th Ave\, Denver\, CO\, United States
END:VEVENT
BEGIN:VEVENT
DTSTART;TZID=America/Denver:20260617T163000
DTEND;TZID=America/Denver:20260617T173000
DTSTAMP:20260421T182928
CREATED:20260216T212840Z
LAST-MODIFIED:20260416T174329Z
UID:12497-1781713800-1781717400@rooted303.org
SUMMARY:THE ROSE
DESCRIPTION:
URL:https://rooted303.org/event/the-rose-18/
END:VEVENT
BEGIN:VEVENT
DTSTART;TZID=America/Denver:20260617T183000
DTEND;TZID=America/Denver:20260617T193000
DTSTAMP:20260421T182928
CREATED:20260130T201445Z
LAST-MODIFIED:20260416T174329Z
UID:12062-1781721000-1781724600@rooted303.org
SUMMARY:Friends & Family CRAFT Group
DESCRIPTION:
URL:https://rooted303.org/event/friends-family-craft-group-55/
LOCATION:5808 S Rapp St suite 100\, Littleton\, CO\, United States
END:VEVENT
BEGIN:VEVENT
DTSTART;TZID=America/Denver:20260618T120000
DTEND;TZID=America/Denver:20260618T130000
DTSTAMP:20260421T182928
CREATED:20260130T201445Z
LAST-MODIFIED:20260210T205838Z
UID:12063-1781784000-1781787600@rooted303.org
SUMMARY:Nest 56 - Residents Only
DESCRIPTION:
URL:https://rooted303.org/event/nest-56-residents-only-55/
END:VEVENT
BEGIN:VEVENT
DTSTART;TZID=America/Denver:20260618T130000
DTEND;TZID=America/Denver:20260618T140000
DTSTAMP:20260421T182928
CREATED:20260207T202857Z
LAST-MODIFIED:20260416T174329Z
UID:12194-1781787600-1781791200@rooted303.org
SUMMARY:Friends & Family CRAFT Group (Virtual)
DESCRIPTION:Click here to Join  our Zoom Meeting! 
URL:https://rooted303.org/event/friends-family-craft-group-virtual-115/
LOCATION:Zoom
END:VEVENT
BEGIN:VEVENT
DTSTART;TZID=America/Denver:20260618T183000
DTEND;TZID=America/Denver:20260618T193000
DTSTAMP:20260421T182928
CREATED:20260130T201446Z
LAST-MODIFIED:20260206T202852Z
UID:12064-1781807400-1781811000@rooted303.org
SUMMARY:Friends & Family CRAFT Group (Virtual)
DESCRIPTION:Click here to Join  our Zoom Meeting! 
URL:https://rooted303.org/event/friends-family-craft-group-virtual-95/
LOCATION:Zoom
END:VEVENT
END:VCALENDAR