BEGIN:VCALENDAR
VERSION:2.0
PRODID:-//Rooted 303 - ECPv6.15.20//NONSGML v1.0//EN
CALSCALE:GREGORIAN
METHOD:PUBLISH
X-ORIGINAL-URL:https://rooted303.org
X-WR-CALDESC:Events for Rooted 303
REFRESH-INTERVAL;VALUE=DURATION:PT1H
X-Robots-Tag:noindex
X-PUBLISHED-TTL:PT1H
BEGIN:VTIMEZONE
TZID:America/Denver
BEGIN:DAYLIGHT
TZOFFSETFROM:-0700
TZOFFSETTO:-0600
TZNAME:MDT
DTSTART:20250309T090000
END:DAYLIGHT
BEGIN:STANDARD
TZOFFSETFROM:-0600
TZOFFSETTO:-0700
TZNAME:MST
DTSTART:20251102T080000
END:STANDARD
BEGIN:DAYLIGHT
TZOFFSETFROM:-0700
TZOFFSETTO:-0600
TZNAME:MDT
DTSTART:20260308T090000
END:DAYLIGHT
BEGIN:STANDARD
TZOFFSETFROM:-0600
TZOFFSETTO:-0700
TZNAME:MST
DTSTART:20261101T080000
END:STANDARD
BEGIN:DAYLIGHT
TZOFFSETFROM:-0700
TZOFFSETTO:-0600
TZNAME:MDT
DTSTART:20270314T090000
END:DAYLIGHT
BEGIN:STANDARD
TZOFFSETFROM:-0600
TZOFFSETTO:-0700
TZNAME:MST
DTSTART:20271107T080000
END:STANDARD
END:VTIMEZONE
BEGIN:VEVENT
DTSTART;TZID=America/Denver:20260514T090000
DTEND;TZID=America/Denver:20260514T120000
DTSTAMP:20260421T182039
CREATED:20251231T184401Z
LAST-MODIFIED:20260129T201353Z
UID:11848-1778749200-1778760000@rooted303.org
SUMMARY:Bridge House
DESCRIPTION:
URL:https://rooted303.org/event/bridge-house-199/
LOCATION:CO
END:VEVENT
BEGIN:VEVENT
DTSTART;TZID=America/Denver:20260514T120000
DTEND;TZID=America/Denver:20260514T130000
DTSTAMP:20260421T182039
CREATED:20251231T184401Z
LAST-MODIFIED:20260210T205834Z
UID:11849-1778760000-1778763600@rooted303.org
SUMMARY:Nest 56 - Residents Only
DESCRIPTION:
URL:https://rooted303.org/event/nest-56-residents-only-50/
LOCATION:CO
END:VEVENT
BEGIN:VEVENT
DTSTART;TZID=America/Denver:20260514T130000
DTEND;TZID=America/Denver:20260514T140000
DTSTAMP:20260421T182039
CREATED:20260207T202852Z
LAST-MODIFIED:20260416T174324Z
UID:12184-1778763600-1778767200@rooted303.org
SUMMARY:Friends & Family CRAFT Group (Virtual)
DESCRIPTION:Click here to Join  our Zoom Meeting! 
URL:https://rooted303.org/event/friends-family-craft-group-virtual-110/
LOCATION:Zoom
END:VEVENT
BEGIN:VEVENT
DTSTART;TZID=America/Denver:20260514T150000
DTEND;TZID=America/Denver:20260514T160000
DTSTAMP:20260421T182039
CREATED:20251231T184401Z
LAST-MODIFIED:20260215T212827Z
UID:11850-1778770800-1778774400@rooted303.org
SUMMARY:The Rose - Residents Only
DESCRIPTION:
URL:https://rooted303.org/event/the-rose-residents-only-25/
LOCATION:CO
END:VEVENT
BEGIN:VEVENT
DTSTART;TZID=America/Denver:20260514T183000
DTEND;TZID=America/Denver:20260514T193000
DTSTAMP:20260421T182039
CREATED:20260102T185847Z
LAST-MODIFIED:20260206T202845Z
UID:11858-1778783400-1778787000@rooted303.org
SUMMARY:Friends & Family CRAFT Group (Virtual)
DESCRIPTION:Click here to Join  our Zoom Meeting! 
URL:https://rooted303.org/event/friends-family-craft-group-virtual-90/
LOCATION:Zoom
END:VEVENT
BEGIN:VEVENT
DTSTART;TZID=America/Denver:20260515T120000
DTEND;TZID=America/Denver:20260515T130000
DTSTAMP:20260421T182039
CREATED:20260102T185848Z
LAST-MODIFIED:20260416T174324Z
UID:11859-1778846400-1778850000@rooted303.org
SUMMARY:Francis Heights - Grief Group - Mercy Housing Residents Only
DESCRIPTION:
URL:https://rooted303.org/event/francis-heights-grief-group-mercy-housing-residents-only-51/
LOCATION:CO
END:VEVENT
BEGIN:VEVENT
DTSTART;TZID=America/Denver:20260515T120000
DTEND;TZID=America/Denver:20260515T150000
DTSTAMP:20260421T182039
CREATED:20260102T185848Z
LAST-MODIFIED:20260206T202845Z
UID:11861-1778846400-1778857200@rooted303.org
SUMMARY:Bridge House
DESCRIPTION:
URL:https://rooted303.org/event/bridge-house-200/
LOCATION:CO
END:VEVENT
BEGIN:VEVENT
DTSTART;TZID=America/Denver:20260515T140000
DTEND;TZID=America/Denver:20260515T150000
DTSTAMP:20260421T182039
CREATED:20260102T185848Z
LAST-MODIFIED:20260416T174324Z
UID:11860-1778853600-1778857200@rooted303.org
SUMMARY:HWH - Residents Only
DESCRIPTION:
URL:https://rooted303.org/event/hwh-residents-only-49/
LOCATION:CO
END:VEVENT
BEGIN:VEVENT
DTSTART;TZID=America/Denver:20260518T101500
DTEND;TZID=America/Denver:20260518T111500
DTSTAMP:20260421T182039
CREATED:20260102T185848Z
LAST-MODIFIED:20260206T202845Z
UID:11862-1779099300-1779102900@rooted303.org
SUMMARY:Sacred Roots Community Group
DESCRIPTION:Open to all Spiritual/Religious PathsJoin Here!
URL:https://rooted303.org/event/sacred-roots-community-group-64/
LOCATION:Hybrid
END:VEVENT
BEGIN:VEVENT
DTSTART;TZID=America/Denver:20260518T120000
DTEND;TZID=America/Denver:20260518T150000
DTSTAMP:20260421T182039
CREATED:20260102T185848Z
LAST-MODIFIED:20260206T202845Z
UID:11863-1779105600-1779116400@rooted303.org
SUMMARY:Bridge House
DESCRIPTION:
URL:https://rooted303.org/event/bridge-house-201/
LOCATION:CO
END:VEVENT
BEGIN:VEVENT
DTSTART;TZID=America/Denver:20260518T170000
DTEND;TZID=America/Denver:20260518T180000
DTSTAMP:20260421T182039
CREATED:20260211T205905Z
LAST-MODIFIED:20260416T174324Z
UID:12413-1779123600-1779127200@rooted303.org
SUMMARY:Nest 56 - Residents Only
DESCRIPTION:
URL:https://rooted303.org/event/nest-56-residents-only-78/
LOCATION:CO
END:VEVENT
BEGIN:VEVENT
DTSTART;TZID=America/Denver:20260519T090000
DTEND;TZID=America/Denver:20260519T120000
DTSTAMP:20260421T182039
CREATED:20260103T185847Z
LAST-MODIFIED:20260129T201354Z
UID:11871-1779181200-1779192000@rooted303.org
SUMMARY:Bridge House
DESCRIPTION:
URL:https://rooted303.org/event/bridge-house-202/
LOCATION:CO
END:VEVENT
BEGIN:VEVENT
DTSTART;TZID=America/Denver:20260519T120000
DTEND;TZID=America/Denver:20260519T130000
DTSTAMP:20260421T182039
CREATED:20260103T185848Z
LAST-MODIFIED:20260416T174324Z
UID:11872-1779192000-1779195600@rooted303.org
SUMMARY:Francis Heights - Mercy Housing Residents Only
DESCRIPTION:
URL:https://rooted303.org/event/francis-heights-mercy-housing-residents-only-51/
LOCATION:CO
END:VEVENT
BEGIN:VEVENT
DTSTART;TZID=America/Denver:20260519T123000
DTEND;TZID=America/Denver:20260519T133000
DTSTAMP:20260421T182039
CREATED:20260416T174324Z
LAST-MODIFIED:20260416T174324Z
UID:12761-1779193800-1779197400@rooted303.org
SUMMARY:Holly Park - Residents Only
DESCRIPTION:
URL:https://rooted303.org/event/holly-park-residents-only-5/
LOCATION:CO
END:VEVENT
BEGIN:VEVENT
DTSTART;TZID=America/Denver:20260519T140000
DTEND;TZID=America/Denver:20260519T150000
DTSTAMP:20260421T182039
CREATED:20260103T185848Z
LAST-MODIFIED:20260416T174324Z
UID:11873-1779199200-1779202800@rooted303.org
SUMMARY:Franconia - Mercy Housing Residents Only
DESCRIPTION:
URL:https://rooted303.org/event/franconia-mercy-housing-residents-only-51/
LOCATION:CO
END:VEVENT
BEGIN:VEVENT
DTSTART;TZID=America/Denver:20260520T090000
DTEND;TZID=America/Denver:20260520T100000
DTSTAMP:20260421T182039
CREATED:20260114T192858Z
LAST-MODIFIED:20260206T202846Z
UID:11941-1779267600-1779271200@rooted303.org
SUMMARY:Women's Recovery Group - Rooted & Rising Woman
DESCRIPTION:Women’s Recovery Group – Rooted & Rising Woman9 am – 10 amJoin us Here!
URL:https://rooted303.org/event/womens-recovery-group-rooted-rising-woman-23/
LOCATION:Hybrid
END:VEVENT
BEGIN:VEVENT
DTSTART;TZID=America/Denver:20260520T100000
DTEND;TZID=America/Denver:20260520T110000
DTSTAMP:20260421T182039
CREATED:20260105T185857Z
LAST-MODIFIED:20260416T174325Z
UID:11879-1779271200-1779274800@rooted303.org
SUMMARY:Clare of Assisi/Villa Maria - Mercy Housing
DESCRIPTION:
URL:https://rooted303.org/event/clare-of-assisi-villa-maria-mercy-housing-50/
LOCATION:CO
END:VEVENT
BEGIN:VEVENT
DTSTART;TZID=America/Denver:20260520T123000
DTEND;TZID=America/Denver:20260520T133000
DTSTAMP:20260421T182039
CREATED:20260106T185853Z
LAST-MODIFIED:20260416T174325Z
UID:11882-1779280200-1779283800@rooted303.org
SUMMARY:Aromor - Mercy Housing Residents Only
DESCRIPTION:
URL:https://rooted303.org/event/aromor-mercy-housing-residents-only-51/
LOCATION:CO
END:VEVENT
BEGIN:VEVENT
DTSTART;TZID=America/Denver:20260520T130000
DTEND;TZID=America/Denver:20260520T140000
DTSTAMP:20260421T182039
CREATED:20260115T192900Z
LAST-MODIFIED:20260416T174325Z
UID:11946-1779282000-1779285600@rooted303.org
SUMMARY:Francis Heights - Mindfulness and Meditation Group
DESCRIPTION:Join us every Wednesday at 1 PM!
URL:https://rooted303.org/event/mindfulness-and-meditation-group-23/
LOCATION:Francis Heights\, 3805 W 26th Ave\, Denver\, CO\, United States
END:VEVENT
BEGIN:VEVENT
DTSTART;TZID=America/Denver:20260520T163000
DTEND;TZID=America/Denver:20260520T173000
DTSTAMP:20260421T182039
CREATED:20260216T212834Z
LAST-MODIFIED:20260416T174325Z
UID:12493-1779294600-1779298200@rooted303.org
SUMMARY:THE ROSE
DESCRIPTION:
URL:https://rooted303.org/event/the-rose-14/
LOCATION:CO
END:VEVENT
BEGIN:VEVENT
DTSTART;TZID=America/Denver:20260520T183000
DTEND;TZID=America/Denver:20260520T193000
DTSTAMP:20260421T182039
CREATED:20260115T192901Z
LAST-MODIFIED:20260416T174325Z
UID:11948-1779301800-1779305400@rooted303.org
SUMMARY:Friends & Family CRAFT Group
DESCRIPTION:
URL:https://rooted303.org/event/friends-family-craft-group-51/
LOCATION:5808 S Rapp St suite 100\, Littleton\, CO\, United States
END:VEVENT
BEGIN:VEVENT
DTSTART;TZID=America/Denver:20260521T090000
DTEND;TZID=America/Denver:20260521T120000
DTSTAMP:20260421T182039
CREATED:20260116T192854Z
LAST-MODIFIED:20260129T201354Z
UID:11952-1779354000-1779364800@rooted303.org
SUMMARY:Bridge House
DESCRIPTION:
URL:https://rooted303.org/event/bridge-house-203/
LOCATION:CO
END:VEVENT
BEGIN:VEVENT
DTSTART;TZID=America/Denver:20260521T120000
DTEND;TZID=America/Denver:20260521T130000
DTSTAMP:20260421T182040
CREATED:20260116T192854Z
LAST-MODIFIED:20260210T205835Z
UID:11953-1779364800-1779368400@rooted303.org
SUMMARY:Nest 56 - Residents Only
DESCRIPTION:
URL:https://rooted303.org/event/nest-56-residents-only-51/
LOCATION:CO
END:VEVENT
BEGIN:VEVENT
DTSTART;TZID=America/Denver:20260521T130000
DTEND;TZID=America/Denver:20260521T140000
DTSTAMP:20260421T182040
CREATED:20260207T202853Z
LAST-MODIFIED:20260416T174325Z
UID:12186-1779368400-1779372000@rooted303.org
SUMMARY:Friends & Family CRAFT Group (Virtual)
DESCRIPTION:Click here to Join  our Zoom Meeting! 
URL:https://rooted303.org/event/friends-family-craft-group-virtual-111/
LOCATION:Zoom
END:VEVENT
BEGIN:VEVENT
DTSTART;TZID=America/Denver:20260521T183000
DTEND;TZID=America/Denver:20260521T193000
DTSTAMP:20260421T182040
CREATED:20260117T192907Z
LAST-MODIFIED:20260206T202846Z
UID:11957-1779388200-1779391800@rooted303.org
SUMMARY:Friends & Family CRAFT Group (Virtual)
DESCRIPTION:Click here to Join  our Zoom Meeting! 
URL:https://rooted303.org/event/friends-family-craft-group-virtual-91/
LOCATION:Zoom
END:VEVENT
BEGIN:VEVENT
DTSTART;TZID=America/Denver:20260522T120000
DTEND;TZID=America/Denver:20260522T130000
DTSTAMP:20260421T182040
CREATED:20260117T192907Z
LAST-MODIFIED:20260416T174325Z
UID:11959-1779451200-1779454800@rooted303.org
SUMMARY:Francis Heights - Grief Group - Mercy Housing Residents Only
DESCRIPTION:
URL:https://rooted303.org/event/francis-heights-grief-group-mercy-housing-residents-only-52/
LOCATION:CO
END:VEVENT
BEGIN:VEVENT
DTSTART;TZID=America/Denver:20260522T120000
DTEND;TZID=America/Denver:20260522T150000
DTSTAMP:20260421T182040
CREATED:20260117T192907Z
LAST-MODIFIED:20260206T202847Z
UID:11958-1779451200-1779462000@rooted303.org
SUMMARY:Bridge House
DESCRIPTION:
URL:https://rooted303.org/event/bridge-house-204/
LOCATION:CO
END:VEVENT
BEGIN:VEVENT
DTSTART;TZID=America/Denver:20260522T140000
DTEND;TZID=America/Denver:20260522T150000
DTSTAMP:20260421T182040
CREATED:20260118T192903Z
LAST-MODIFIED:20260416T174325Z
UID:11963-1779458400-1779462000@rooted303.org
SUMMARY:HWH - Residents Only
DESCRIPTION:
URL:https://rooted303.org/event/hwh-residents-only-50/
LOCATION:CO
END:VEVENT
BEGIN:VEVENT
DTSTART;TZID=America/Denver:20260525T101500
DTEND;TZID=America/Denver:20260525T111500
DTSTAMP:20260421T182040
CREATED:20260120T192859Z
LAST-MODIFIED:20260206T202847Z
UID:11968-1779704100-1779707700@rooted303.org
SUMMARY:Sacred Roots Community Group
DESCRIPTION:Open to all Spiritual/Religious PathsJoin Here!
URL:https://rooted303.org/event/sacred-roots-community-group-65/
LOCATION:Hybrid
END:VEVENT
BEGIN:VEVENT
DTSTART;TZID=America/Denver:20260525T120000
DTEND;TZID=America/Denver:20260525T150000
DTSTAMP:20260421T182040
CREATED:20260120T192859Z
LAST-MODIFIED:20260206T202847Z
UID:11969-1779710400-1779721200@rooted303.org
SUMMARY:Bridge House
DESCRIPTION:
URL:https://rooted303.org/event/bridge-house-205/
LOCATION:CO
END:VEVENT
END:VCALENDAR