BEGIN:VCALENDAR
VERSION:2.0
PRODID:-//Rooted 303 - ECPv6.15.20//NONSGML v1.0//EN
CALSCALE:GREGORIAN
METHOD:PUBLISH
X-WR-CALNAME:Rooted 303
X-ORIGINAL-URL:https://rooted303.org
X-WR-CALDESC:Events for Rooted 303
REFRESH-INTERVAL;VALUE=DURATION:PT1H
X-Robots-Tag:noindex
X-PUBLISHED-TTL:PT1H
BEGIN:VTIMEZONE
TZID:America/Denver
BEGIN:DAYLIGHT
TZOFFSETFROM:-0700
TZOFFSETTO:-0600
TZNAME:MDT
DTSTART:20250309T090000
END:DAYLIGHT
BEGIN:STANDARD
TZOFFSETFROM:-0600
TZOFFSETTO:-0700
TZNAME:MST
DTSTART:20251102T080000
END:STANDARD
BEGIN:DAYLIGHT
TZOFFSETFROM:-0700
TZOFFSETTO:-0600
TZNAME:MDT
DTSTART:20260308T090000
END:DAYLIGHT
BEGIN:STANDARD
TZOFFSETFROM:-0600
TZOFFSETTO:-0700
TZNAME:MST
DTSTART:20261101T080000
END:STANDARD
BEGIN:DAYLIGHT
TZOFFSETFROM:-0700
TZOFFSETTO:-0600
TZNAME:MDT
DTSTART:20270314T090000
END:DAYLIGHT
BEGIN:STANDARD
TZOFFSETFROM:-0600
TZOFFSETTO:-0700
TZNAME:MST
DTSTART:20271107T080000
END:STANDARD
END:VTIMEZONE
BEGIN:VEVENT
DTSTART;TZID=America/Denver:20260120T183000
DTEND;TZID=America/Denver:20260120T193000
DTSTAMP:20260424T215435
CREATED:20250919T162109Z
LAST-MODIFIED:20251124T201344Z
UID:10801-1768933800-1768937400@rooted303.org
SUMMARY:Rooted 303/Exposed Support Group
DESCRIPTION:
URL:https://rooted303.org/event/rooted-303-exposed-support-group-34/
CATEGORIES:Groups
END:VEVENT
BEGIN:VEVENT
DTSTART;TZID=America/Denver:20260120T140000
DTEND;TZID=America/Denver:20260120T150000
DTSTAMP:20260424T215435
CREATED:20250919T162109Z
LAST-MODIFIED:20260120T192825Z
UID:10800-1768917600-1768921200@rooted303.org
SUMMARY:Franconia - Mercy Housing Residents Only
DESCRIPTION:
URL:https://rooted303.org/event/franconia-mercy-housing-residents-only-34/
END:VEVENT
BEGIN:VEVENT
DTSTART;TZID=America/Denver:20260120T120000
DTEND;TZID=America/Denver:20260120T130000
DTSTAMP:20260424T215435
CREATED:20250919T162109Z
LAST-MODIFIED:20260120T192825Z
UID:10798-1768910400-1768914000@rooted303.org
SUMMARY:Francis Heights - Mercy Housing Residents Only
DESCRIPTION:
URL:https://rooted303.org/event/francis-heights-mercy-housing-residents-only-34/
END:VEVENT
BEGIN:VEVENT
DTSTART;TZID=America/Denver:20260120T090000
DTEND;TZID=America/Denver:20260120T120000
DTSTAMP:20260424T215435
CREATED:20250919T162109Z
LAST-MODIFIED:20260119T192814Z
UID:10799-1768899600-1768910400@rooted303.org
SUMMARY:Bridge House
DESCRIPTION:
URL:https://rooted303.org/event/bridge-house-134/
END:VEVENT
BEGIN:VEVENT
DTSTART;TZID=America/Denver:20260119T120000
DTEND;TZID=America/Denver:20260119T150000
DTSTAMP:20260424T215435
CREATED:20250919T162108Z
LAST-MODIFIED:20260119T192814Z
UID:10797-1768824000-1768834800@rooted303.org
SUMMARY:Bridge House
DESCRIPTION:
URL:https://rooted303.org/event/bridge-house-133/
END:VEVENT
BEGIN:VEVENT
DTSTART;TZID=America/Denver:20260119T101500
DTEND;TZID=America/Denver:20260119T111500
DTSTAMP:20260424T215435
CREATED:20251215T222822Z
LAST-MODIFIED:20260118T192833Z
UID:11737-1768817700-1768821300@rooted303.org
SUMMARY:Sacred Roots Community Group
DESCRIPTION:Open to all Spiritual/Religious PathsJoin Here!
URL:https://rooted303.org/event/sacred-roots-community-group-47/
LOCATION:Hybrid
END:VEVENT
BEGIN:VEVENT
DTSTART;TZID=America/Denver:20260119T101500
DTEND;TZID=America/Denver:20260119T111500
DTSTAMP:20260424T215435
CREATED:20251124T201343Z
LAST-MODIFIED:20251214T221327Z
UID:11513-1768817700-1768821300@rooted303.org
SUMMARY:Sacred Roots Community Group
DESCRIPTION:Open to all Spiritual/Religious PathsJoin Here 
URL:https://rooted303.org/event/sacred-roots-community-group-28/
LOCATION:Hybrid
END:VEVENT
BEGIN:VEVENT
DTSTART;TZID=America/Denver:20260116T140000
DTEND;TZID=America/Denver:20260116T150000
DTSTAMP:20260424T215435
CREATED:20250919T162108Z
LAST-MODIFIED:20260116T192819Z
UID:10796-1768572000-1768575600@rooted303.org
SUMMARY:HWH - Residents Only
DESCRIPTION:
URL:https://rooted303.org/event/hwh-residents-only-32/
END:VEVENT
BEGIN:VEVENT
DTSTART;TZID=America/Denver:20260116T120000
DTEND;TZID=America/Denver:20260116T150000
DTSTAMP:20260424T215435
CREATED:20250919T162108Z
LAST-MODIFIED:20260116T192819Z
UID:10794-1768564800-1768575600@rooted303.org
SUMMARY:Bridge House
DESCRIPTION:
URL:https://rooted303.org/event/bridge-house-132/
END:VEVENT
BEGIN:VEVENT
DTSTART;TZID=America/Denver:20260116T120000
DTEND;TZID=America/Denver:20260116T130000
DTSTAMP:20260424T215435
CREATED:20250919T162108Z
LAST-MODIFIED:20260116T192819Z
UID:10795-1768564800-1768568400@rooted303.org
SUMMARY:Francis Heights - Grief Group - Mercy Housing Residents Only
DESCRIPTION:
URL:https://rooted303.org/event/francis-heights-grief-group-mercy-housing-residents-only-34/
CATEGORIES:Groups
END:VEVENT
BEGIN:VEVENT
DTSTART;TZID=America/Denver:20260115T183000
DTEND;TZID=America/Denver:20260115T193000
DTSTAMP:20260424T215435
CREATED:20251124T201343Z
LAST-MODIFIED:20260115T192827Z
UID:11512-1768501800-1768505400@rooted303.org
SUMMARY:Friends & Family CRAFT Group (Virtual)
DESCRIPTION:Click here to Join  our Zoom Meeting! 
URL:https://rooted303.org/event/friends-family-craft-group-virtual-72/
LOCATION:Zoom
END:VEVENT
BEGIN:VEVENT
DTSTART;TZID=America/Denver:20260115T183000
DTEND;TZID=America/Denver:20260115T193000
DTSTAMP:20260424T215435
CREATED:20251117T185914Z
LAST-MODIFIED:20251123T195945Z
UID:11392-1768501800-1768505400@rooted303.org
SUMMARY:Friends & Family CRAFT Group (Virtual)
DESCRIPTION:Click here to Join  our Zoom Meeting! 
URL:https://rooted303.org/event/friends-family-craft-group-virtual-53/
LOCATION:Zoom
END:VEVENT
BEGIN:VEVENT
DTSTART;TZID=America/Denver:20260115T183000
DTEND;TZID=America/Denver:20260115T193000
DTSTAMP:20260424T215435
CREATED:20250919T162108Z
LAST-MODIFIED:20251116T185841Z
UID:10793-1768501800-1768505400@rooted303.org
SUMMARY:Friends & Family CRAFT Group (Virtual)
DESCRIPTION:────────── \nRooted 303 is inviting you to a scheduled Zoom meeting. \nJoin Zoom Meetinghttps://us02web.zoom.us/j/86491237169?pwd=UFVUVngvVVpPM0toMTBuSGo5UkF1dz09 \nMeeting ID: 864 9123 7169Passcode: 672219 \n— \nOne tap mobile+17193594580\,\,86491237169#\,\,\,\,*672219# US+12532158782\,\,86491237169#\,\,\,\,*672219# US (Tacoma) \n— \nDial by your location• +1 719 359 4580 US• +1 253 215 8782 US (Tacoma)• +1 346 248 7799 US (Houston)• +1 669 444 9171 US• +1 669 900 9128 US (San Jose)• +1 253 205 0468 US• +1 360 209 5623 US• +1 386 347 5053 US• +1 507 473 4847 US• +1 564 217 2000 US• +1 646 558 8656 US (New York)• +1 646 931 3860 US• +1 689 278 1000 US• +1 301 715 8592 US (Washington DC)• +1 305 224 1968 US• +1 309 205 3325 US• +1 312 626 6799 US (Chicago) \nMeeting ID: 864 9123 7169Passcode: 672219 \nFind your local number: https://us02web.zoom.us/u/kdf4Ajtvut \n──────────
URL:https://rooted303.org/event/friends-family-craft-group-virtual-33/
LOCATION:https://us02web.zoom.us/j/86491237169?pwd=UFVUVngvVVpPM0toMTBuSGo5UkF1dz09
CATEGORIES:Groups
END:VEVENT
BEGIN:VEVENT
DTSTART;TZID=America/Denver:20260115T120000
DTEND;TZID=America/Denver:20260115T130000
DTSTAMP:20260424T215435
CREATED:20250919T162108Z
LAST-MODIFIED:20260115T192827Z
UID:10792-1768478400-1768482000@rooted303.org
SUMMARY:Nest 56 - Residents Only
DESCRIPTION:
URL:https://rooted303.org/event/nest-56-residents-only-33/
END:VEVENT
BEGIN:VEVENT
DTSTART;TZID=America/Denver:20260115T090000
DTEND;TZID=America/Denver:20260115T120000
DTSTAMP:20260424T215435
CREATED:20250919T162107Z
LAST-MODIFIED:20260114T192826Z
UID:10791-1768467600-1768478400@rooted303.org
SUMMARY:Bridge House
DESCRIPTION:
URL:https://rooted303.org/event/bridge-house-131/
END:VEVENT
BEGIN:VEVENT
DTSTART;TZID=America/Denver:20260114T183000
DTEND;TZID=America/Denver:20260114T193000
DTSTAMP:20260424T215435
CREATED:20250919T162107Z
LAST-MODIFIED:20260114T192826Z
UID:10790-1768415400-1768419000@rooted303.org
SUMMARY:Friends & Family CRAFT Group
DESCRIPTION:
URL:https://rooted303.org/event/friends-family-craft-group-33/
LOCATION:5933 S Fairfield St\, Littleton\, CO\, United States
CATEGORIES:Groups
END:VEVENT
BEGIN:VEVENT
DTSTART;TZID=America/Denver:20260114T123000
DTEND;TZID=America/Denver:20260114T133000
DTSTAMP:20260424T215435
CREATED:20250919T162107Z
LAST-MODIFIED:20260114T192826Z
UID:10789-1768393800-1768397400@rooted303.org
SUMMARY:Aromor - Mercy Housing Residents Only
DESCRIPTION:
URL:https://rooted303.org/event/aromor-mercy-housing-residents-only-33/
END:VEVENT
BEGIN:VEVENT
DTSTART;TZID=America/Denver:20260114T120000
DTEND;TZID=America/Denver:20260114T130000
DTSTAMP:20260424T215435
CREATED:20251210T215829Z
LAST-MODIFIED:20260114T192825Z
UID:11694-1768392000-1768395600@rooted303.org
SUMMARY:Mindfulness and Meditation Group
DESCRIPTION:Join us every Wednesday at 1 PM!
URL:https://rooted303.org/event/mindfulness-and-meditation-group-5/
LOCATION:Francis Height\, 3805 W 26th Ave\, Denver\, CO\, United States
END:VEVENT
BEGIN:VEVENT
DTSTART;TZID=America/Denver:20260114T100000
DTEND;TZID=America/Denver:20260114T110000
DTSTAMP:20260424T215435
CREATED:20250919T162107Z
LAST-MODIFIED:20260113T192814Z
UID:10788-1768384800-1768388400@rooted303.org
SUMMARY:Clare of Assisi/Villa Maria - Mercy Housing
DESCRIPTION:
URL:https://rooted303.org/event/clare-of-assisi-villa-maria-mercy-housing-32/
END:VEVENT
BEGIN:VEVENT
DTSTART;TZID=America/Denver:20260114T090000
DTEND;TZID=America/Denver:20260114T100000
DTSTAMP:20260424T215435
CREATED:20260107T185824Z
LAST-MODIFIED:20260113T192814Z
UID:11886-1768381200-1768384800@rooted303.org
SUMMARY:Women's Recovery Group - Rooted & Rising Woman
DESCRIPTION:Women’s Recovery Group – Rooted & Rising Woman9 am – 10 amJoin us Here!
URL:https://rooted303.org/event/womens-recovery-group-rooted-rising-woman/
LOCATION:Hybrid
END:VEVENT
BEGIN:VEVENT
DTSTART;TZID=America/Denver:20260113T183000
DTEND;TZID=America/Denver:20260113T193000
DTSTAMP:20260424T215435
CREATED:20250919T162106Z
LAST-MODIFIED:20251124T201342Z
UID:10787-1768329000-1768332600@rooted303.org
SUMMARY:Rooted 303/Exposed Support Group
DESCRIPTION:
URL:https://rooted303.org/event/rooted-303-exposed-support-group-33/
CATEGORIES:Groups
END:VEVENT
BEGIN:VEVENT
DTSTART;TZID=America/Denver:20260113T140000
DTEND;TZID=America/Denver:20260113T150000
DTSTAMP:20260424T215435
CREATED:20250919T162106Z
LAST-MODIFIED:20260113T192814Z
UID:10786-1768312800-1768316400@rooted303.org
SUMMARY:Franconia - Mercy Housing Residents Only
DESCRIPTION:
URL:https://rooted303.org/event/franconia-mercy-housing-residents-only-33/
END:VEVENT
BEGIN:VEVENT
DTSTART;TZID=America/Denver:20260113T120000
DTEND;TZID=America/Denver:20260113T130000
DTSTAMP:20260424T215435
CREATED:20250919T162106Z
LAST-MODIFIED:20260113T192813Z
UID:10784-1768305600-1768309200@rooted303.org
SUMMARY:Francis Heights - Mercy Housing Residents Only
DESCRIPTION:
URL:https://rooted303.org/event/francis-heights-mercy-housing-residents-only-33/
END:VEVENT
BEGIN:VEVENT
DTSTART;TZID=America/Denver:20260113T090000
DTEND;TZID=America/Denver:20260113T120000
DTSTAMP:20260424T215435
CREATED:20250919T162106Z
LAST-MODIFIED:20260112T191318Z
UID:10785-1768294800-1768305600@rooted303.org
SUMMARY:Bridge House
DESCRIPTION:
URL:https://rooted303.org/event/bridge-house-130/
END:VEVENT
BEGIN:VEVENT
DTSTART;TZID=America/Denver:20260112T120000
DTEND;TZID=America/Denver:20260112T150000
DTSTAMP:20260424T215435
CREATED:20250919T162106Z
LAST-MODIFIED:20260112T191318Z
UID:10783-1768219200-1768230000@rooted303.org
SUMMARY:Bridge House
DESCRIPTION:
URL:https://rooted303.org/event/bridge-house-129/
END:VEVENT
BEGIN:VEVENT
DTSTART;TZID=America/Denver:20260112T101500
DTEND;TZID=America/Denver:20260112T111500
DTSTAMP:20260424T215435
CREATED:20251215T222821Z
LAST-MODIFIED:20260111T191320Z
UID:11736-1768212900-1768216500@rooted303.org
SUMMARY:Sacred Roots Community Group
DESCRIPTION:Open to all Spiritual/Religious PathsJoin Here!
URL:https://rooted303.org/event/sacred-roots-community-group-46/
LOCATION:Hybrid
END:VEVENT
BEGIN:VEVENT
DTSTART;TZID=America/Denver:20260112T101500
DTEND;TZID=America/Denver:20260112T111500
DTSTAMP:20260424T215435
CREATED:20251124T201341Z
LAST-MODIFIED:20251214T221325Z
UID:11511-1768212900-1768216500@rooted303.org
SUMMARY:Sacred Roots Community Group
DESCRIPTION:Open to all Spiritual/Religious PathsJoin Here 
URL:https://rooted303.org/event/sacred-roots-community-group-27/
LOCATION:Hybrid
END:VEVENT
BEGIN:VEVENT
DTSTART;TZID=America/Denver:20260109T140000
DTEND;TZID=America/Denver:20260109T150000
DTSTAMP:20260424T215435
CREATED:20250919T162106Z
LAST-MODIFIED:20260109T185815Z
UID:10782-1767967200-1767970800@rooted303.org
SUMMARY:HWH - Residents Only
DESCRIPTION:
URL:https://rooted303.org/event/hwh-residents-only-31/
END:VEVENT
BEGIN:VEVENT
DTSTART;TZID=America/Denver:20260109T120000
DTEND;TZID=America/Denver:20260109T150000
DTSTAMP:20260424T215435
CREATED:20250919T162105Z
LAST-MODIFIED:20260109T185815Z
UID:10780-1767960000-1767970800@rooted303.org
SUMMARY:Bridge House
DESCRIPTION:
URL:https://rooted303.org/event/bridge-house-128/
END:VEVENT
BEGIN:VEVENT
DTSTART;TZID=America/Denver:20260109T120000
DTEND;TZID=America/Denver:20260109T130000
DTSTAMP:20260424T215435
CREATED:20250919T162105Z
LAST-MODIFIED:20260109T185815Z
UID:10781-1767960000-1767963600@rooted303.org
SUMMARY:Francis Heights - Grief Group - Mercy Housing Residents Only
DESCRIPTION:
URL:https://rooted303.org/event/francis-heights-grief-group-mercy-housing-residents-only-33/
CATEGORIES:Groups
END:VEVENT
END:VCALENDAR