BEGIN:VCALENDAR
VERSION:2.0
PRODID:-//Rooted 303 - ECPv6.15.20//NONSGML v1.0//EN
CALSCALE:GREGORIAN
METHOD:PUBLISH
X-WR-CALNAME:Rooted 303
X-ORIGINAL-URL:https://rooted303.org
X-WR-CALDESC:Events for Rooted 303
REFRESH-INTERVAL;VALUE=DURATION:PT1H
X-Robots-Tag:noindex
X-PUBLISHED-TTL:PT1H
BEGIN:VTIMEZONE
TZID:America/Denver
BEGIN:DAYLIGHT
TZOFFSETFROM:-0700
TZOFFSETTO:-0600
TZNAME:MDT
DTSTART:20240310T090000
END:DAYLIGHT
BEGIN:STANDARD
TZOFFSETFROM:-0600
TZOFFSETTO:-0700
TZNAME:MST
DTSTART:20241103T080000
END:STANDARD
BEGIN:DAYLIGHT
TZOFFSETFROM:-0700
TZOFFSETTO:-0600
TZNAME:MDT
DTSTART:20250309T090000
END:DAYLIGHT
BEGIN:STANDARD
TZOFFSETFROM:-0600
TZOFFSETTO:-0700
TZNAME:MST
DTSTART:20251102T080000
END:STANDARD
BEGIN:DAYLIGHT
TZOFFSETFROM:-0700
TZOFFSETTO:-0600
TZNAME:MDT
DTSTART:20260308T090000
END:DAYLIGHT
BEGIN:STANDARD
TZOFFSETFROM:-0600
TZOFFSETTO:-0700
TZNAME:MST
DTSTART:20261101T080000
END:STANDARD
END:VTIMEZONE
BEGIN:VTIMEZONE
TZID:America/Managua
BEGIN:STANDARD
TZOFFSETFROM:-0600
TZOFFSETTO:-0600
TZNAME:CST
DTSTART:20240101T000000
END:STANDARD
END:VTIMEZONE
BEGIN:VEVENT
DTSTART;TZID=America/Denver:20251225T150000
DTEND;TZID=America/Denver:20251225T160000
DTSTAMP:20260425T074534
CREATED:20250919T162055Z
LAST-MODIFIED:20251225T182820Z
UID:10749-1766674800-1766678400@rooted303.org
SUMMARY:The Rose - Residents Only
DESCRIPTION:
URL:https://rooted303.org/event/the-rose-residents-only-15/
END:VEVENT
BEGIN:VEVENT
DTSTART;TZID=America/Denver:20251225T120000
DTEND;TZID=America/Denver:20251225T130000
DTSTAMP:20260425T074534
CREATED:20250919T162055Z
LAST-MODIFIED:20251225T182820Z
UID:10748-1766664000-1766667600@rooted303.org
SUMMARY:Nest 56 - Residents Only
DESCRIPTION:
URL:https://rooted303.org/event/nest-56-residents-only-30/
END:VEVENT
BEGIN:VEVENT
DTSTART;TZID=America/Denver:20251225T090000
DTEND;TZID=America/Denver:20251225T120000
DTSTAMP:20260425T074534
CREATED:20250919T162054Z
LAST-MODIFIED:20251225T182820Z
UID:10747-1766653200-1766664000@rooted303.org
SUMMARY:Bridge House
DESCRIPTION:
URL:https://rooted303.org/event/bridge-house-119/
END:VEVENT
BEGIN:VEVENT
DTSTART;TZID=America/Denver:20251224T183000
DTEND;TZID=America/Denver:20251224T193000
DTSTAMP:20260425T074534
CREATED:20250919T162054Z
LAST-MODIFIED:20251224T182824Z
UID:10746-1766601000-1766604600@rooted303.org
SUMMARY:Friends & Family CRAFT Group
DESCRIPTION:
URL:https://rooted303.org/event/friends-family-craft-group-30/
LOCATION:5933 S Fairfield St\, Littleton\, CO\, United States
CATEGORIES:Groups
END:VEVENT
BEGIN:VEVENT
DTSTART;TZID=America/Denver:20251224T123000
DTEND;TZID=America/Denver:20251224T133000
DTSTAMP:20260425T074534
CREATED:20250919T162053Z
LAST-MODIFIED:20251224T182823Z
UID:10745-1766579400-1766583000@rooted303.org
SUMMARY:Aromor - Mercy Housing Residents Only
DESCRIPTION:
URL:https://rooted303.org/event/aromor-mercy-housing-residents-only-30/
END:VEVENT
BEGIN:VEVENT
DTSTART;TZID=America/Denver:20251224T120000
DTEND;TZID=America/Denver:20251224T130000
DTSTAMP:20260425T074534
CREATED:20251210T215824Z
LAST-MODIFIED:20251224T182823Z
UID:11691-1766577600-1766581200@rooted303.org
SUMMARY:Mindfulness and Meditation Group
DESCRIPTION:Join us every Wednesday at 1 PM!
URL:https://rooted303.org/event/mindfulness-and-meditation-group-2/
LOCATION:Francis Height\, 3805 W 26th Ave\, Denver\, CO\, United States
END:VEVENT
BEGIN:VEVENT
DTSTART;TZID=America/Denver:20251224T100000
DTEND;TZID=America/Denver:20251224T110000
DTSTAMP:20260425T074534
CREATED:20250919T162053Z
LAST-MODIFIED:20251223T182813Z
UID:10744-1766570400-1766574000@rooted303.org
SUMMARY:Clare of Assisi/Villa Maria - Mercy Housing
DESCRIPTION:
URL:https://rooted303.org/event/clare-of-assisi-villa-maria-mercy-housing-29/
END:VEVENT
BEGIN:VEVENT
DTSTART;TZID=America/Denver:20251223T183000
DTEND;TZID=America/Denver:20251223T193000
DTSTAMP:20260425T074534
CREATED:20250919T162053Z
LAST-MODIFIED:20251124T201335Z
UID:10743-1766514600-1766518200@rooted303.org
SUMMARY:Rooted 303/Exposed Support Group
DESCRIPTION:
URL:https://rooted303.org/event/rooted-303-exposed-support-group-30/
CATEGORIES:Groups
END:VEVENT
BEGIN:VEVENT
DTSTART;TZID=America/Denver:20251223T140000
DTEND;TZID=America/Denver:20251223T150000
DTSTAMP:20260425T074534
CREATED:20250919T162052Z
LAST-MODIFIED:20251223T182813Z
UID:10742-1766498400-1766502000@rooted303.org
SUMMARY:Franconia - Mercy Housing Residents Only
DESCRIPTION:
URL:https://rooted303.org/event/franconia-mercy-housing-residents-only-30/
END:VEVENT
BEGIN:VEVENT
DTSTART;TZID=America/Denver:20251223T120000
DTEND;TZID=America/Denver:20251223T130000
DTSTAMP:20260425T074534
CREATED:20250919T162052Z
LAST-MODIFIED:20251223T182813Z
UID:10741-1766491200-1766494800@rooted303.org
SUMMARY:Francis Heights - Mercy Housing Residents Only
DESCRIPTION:
URL:https://rooted303.org/event/francis-heights-mercy-housing-residents-only-30/
END:VEVENT
BEGIN:VEVENT
DTSTART;TZID=America/Denver:20251223T090000
DTEND;TZID=America/Denver:20251223T120000
DTSTAMP:20260425T074534
CREATED:20250919T162052Z
LAST-MODIFIED:20251223T182813Z
UID:10740-1766480400-1766491200@rooted303.org
SUMMARY:Bridge House
DESCRIPTION:
URL:https://rooted303.org/event/bridge-house-118/
END:VEVENT
BEGIN:VEVENT
DTSTART;TZID=America/Denver:20251222T120000
DTEND;TZID=America/Denver:20251222T150000
DTSTAMP:20260425T074534
CREATED:20250919T162051Z
LAST-MODIFIED:20251222T181318Z
UID:10739-1766404800-1766415600@rooted303.org
SUMMARY:Bridge House
DESCRIPTION:
URL:https://rooted303.org/event/bridge-house-117/
END:VEVENT
BEGIN:VEVENT
DTSTART;TZID=America/Denver:20251222T101500
DTEND;TZID=America/Denver:20251222T111500
DTSTAMP:20260425T074534
CREATED:20251215T222816Z
LAST-MODIFIED:20251222T181318Z
UID:11733-1766398500-1766402100@rooted303.org
SUMMARY:Sacred Roots Community Group
DESCRIPTION:Open to all Spiritual/Religious PathsJoin Here!
URL:https://rooted303.org/event/sacred-roots-community-group-43/
LOCATION:Hybrid
END:VEVENT
BEGIN:VEVENT
DTSTART;TZID=America/Denver:20251222T101500
DTEND;TZID=America/Denver:20251222T111500
DTSTAMP:20260425T074534
CREATED:20251124T201335Z
LAST-MODIFIED:20251214T221321Z
UID:11505-1766398500-1766402100@rooted303.org
SUMMARY:Sacred Roots Community Group
DESCRIPTION:Open to all Spiritual/Religious PathsJoin Here 
URL:https://rooted303.org/event/sacred-roots-community-group-24/
LOCATION:Hybrid
END:VEVENT
BEGIN:VEVENT
DTSTART;TZID=America/Denver:20251220T090000
DTEND;TZID=America/Denver:20251220T130000
DTSTAMP:20260425T074534
CREATED:20250919T162051Z
LAST-MODIFIED:20251220T181322Z
UID:10738-1766221200-1766235600@rooted303.org
SUMMARY:Axios Teen Response
DESCRIPTION:
URL:https://rooted303.org/event/axios-teen-response-2/
LOCATION:5933 S Fairfield St\, Littleton\, CO\, United States
END:VEVENT
BEGIN:VEVENT
DTSTART;TZID=America/Denver:20251219T140000
DTEND;TZID=America/Denver:20251219T150000
DTSTAMP:20260425T074534
CREATED:20250919T162051Z
LAST-MODIFIED:20251219T175824Z
UID:10737-1766152800-1766156400@rooted303.org
SUMMARY:HWH - Residents Only
DESCRIPTION:
URL:https://rooted303.org/event/hwh-residents-only-28/
END:VEVENT
BEGIN:VEVENT
DTSTART;TZID=America/Denver:20251219T120000
DTEND;TZID=America/Denver:20251219T150000
DTSTAMP:20260425T074534
CREATED:20250919T162049Z
LAST-MODIFIED:20251219T175824Z
UID:10735-1766145600-1766156400@rooted303.org
SUMMARY:Bridge House
DESCRIPTION:
URL:https://rooted303.org/event/bridge-house-116/
END:VEVENT
BEGIN:VEVENT
DTSTART;TZID=America/Denver:20251219T120000
DTEND;TZID=America/Denver:20251219T130000
DTSTAMP:20260425T074534
CREATED:20250919T162050Z
LAST-MODIFIED:20251219T175823Z
UID:10736-1766145600-1766149200@rooted303.org
SUMMARY:Francis Heights - Grief Group - Mercy Housing Residents Only
DESCRIPTION:
URL:https://rooted303.org/event/francis-heights-grief-group-mercy-housing-residents-only-30/
CATEGORIES:Groups
END:VEVENT
BEGIN:VEVENT
DTSTART;TZID=America/Denver:20251218T183000
DTEND;TZID=America/Denver:20251218T193000
DTSTAMP:20260425T074534
CREATED:20251124T201334Z
LAST-MODIFIED:20251218T175857Z
UID:11504-1766082600-1766086200@rooted303.org
SUMMARY:Friends & Family CRAFT Group (Virtual)
DESCRIPTION:Click here to Join  our Zoom Meeting! 
URL:https://rooted303.org/event/friends-family-craft-group-virtual-68/
LOCATION:Zoom
END:VEVENT
BEGIN:VEVENT
DTSTART;TZID=America/Denver:20251218T183000
DTEND;TZID=America/Denver:20251218T193000
DTSTAMP:20260425T074534
CREATED:20251117T185907Z
LAST-MODIFIED:20251123T195936Z
UID:11388-1766082600-1766086200@rooted303.org
SUMMARY:Friends & Family CRAFT Group (Virtual)
DESCRIPTION:Click here to Join  our Zoom Meeting! 
URL:https://rooted303.org/event/friends-family-craft-group-virtual-49/
LOCATION:Zoom
END:VEVENT
BEGIN:VEVENT
DTSTART;TZID=America/Denver:20251218T183000
DTEND;TZID=America/Denver:20251218T193000
DTSTAMP:20260425T074534
CREATED:20250919T162049Z
LAST-MODIFIED:20251116T185833Z
UID:10734-1766082600-1766086200@rooted303.org
SUMMARY:Friends & Family CRAFT Group (Virtual)
DESCRIPTION:────────── \nRooted 303 is inviting you to a scheduled Zoom meeting. \nJoin Zoom Meetinghttps://us02web.zoom.us/j/86491237169?pwd=UFVUVngvVVpPM0toMTBuSGo5UkF1dz09 \nMeeting ID: 864 9123 7169Passcode: 672219 \n— \nOne tap mobile+17193594580\,\,86491237169#\,\,\,\,*672219# US+12532158782\,\,86491237169#\,\,\,\,*672219# US (Tacoma) \n— \nDial by your location• +1 719 359 4580 US• +1 253 215 8782 US (Tacoma)• +1 346 248 7799 US (Houston)• +1 669 444 9171 US• +1 669 900 9128 US (San Jose)• +1 253 205 0468 US• +1 360 209 5623 US• +1 386 347 5053 US• +1 507 473 4847 US• +1 564 217 2000 US• +1 646 558 8656 US (New York)• +1 646 931 3860 US• +1 689 278 1000 US• +1 301 715 8592 US (Washington DC)• +1 305 224 1968 US• +1 309 205 3325 US• +1 312 626 6799 US (Chicago) \nMeeting ID: 864 9123 7169Passcode: 672219 \nFind your local number: https://us02web.zoom.us/u/kdf4Ajtvut \n──────────
URL:https://rooted303.org/event/friends-family-craft-group-virtual-29/
LOCATION:https://us02web.zoom.us/j/86491237169?pwd=UFVUVngvVVpPM0toMTBuSGo5UkF1dz09
CATEGORIES:Groups
END:VEVENT
BEGIN:VEVENT
DTSTART;TZID=America/Denver:20251218T120000
DTEND;TZID=America/Denver:20251218T130000
DTSTAMP:20260425T074534
CREATED:20250919T162049Z
LAST-MODIFIED:20251218T175856Z
UID:10732-1766059200-1766062800@rooted303.org
SUMMARY:Nest 56 - Residents Only
DESCRIPTION:
URL:https://rooted303.org/event/nest-56-residents-only-29/
END:VEVENT
BEGIN:VEVENT
DTSTART;TZID=America/Denver:20251218T090000
DTEND;TZID=America/Denver:20251218T120000
DTSTAMP:20260425T074534
CREATED:20250919T162049Z
LAST-MODIFIED:20251218T175856Z
UID:10733-1766048400-1766059200@rooted303.org
SUMMARY:Bridge House
DESCRIPTION:
URL:https://rooted303.org/event/bridge-house-115/
END:VEVENT
BEGIN:VEVENT
DTSTART;TZID=America/Denver:20251217T183000
DTEND;TZID=America/Denver:20251217T193000
DTSTAMP:20260425T074534
CREATED:20250919T162049Z
LAST-MODIFIED:20251216T222816Z
UID:10731-1765996200-1765999800@rooted303.org
SUMMARY:Friends & Family CRAFT Group
DESCRIPTION:
URL:https://rooted303.org/event/friends-family-craft-group-29/
LOCATION:5933 S Fairfield St\, Littleton\, CO\, United States
CATEGORIES:Groups
END:VEVENT
BEGIN:VEVENT
DTSTART;TZID=America/Managua:20251217T130000
DTEND;TZID=America/Managua:20251217T140000
DTSTAMP:20260425T074534
CREATED:20251210T215823Z
LAST-MODIFIED:20251216T222815Z
UID:11689-1765976400-1765980000@rooted303.org
SUMMARY:Mindfulness and Meditation Group
DESCRIPTION:Join us every Wednesday at 1 PM!
URL:https://rooted303.org/event/mindfulness-and-meditation-group/
LOCATION:Francis Height\, 3805 W 26th Ave\, Denver\, CO\, United States
END:VEVENT
BEGIN:VEVENT
DTSTART;TZID=America/Denver:20251217T123000
DTEND;TZID=America/Denver:20251217T133000
DTSTAMP:20260425T074534
CREATED:20250919T162048Z
LAST-MODIFIED:20251216T222815Z
UID:10730-1765974600-1765978200@rooted303.org
SUMMARY:Aromor - Mercy Housing Residents Only
DESCRIPTION:
URL:https://rooted303.org/event/aromor-mercy-housing-residents-only-29/
END:VEVENT
BEGIN:VEVENT
DTSTART;TZID=America/Denver:20251217T100000
DTEND;TZID=America/Denver:20251217T110000
DTSTAMP:20260425T074534
CREATED:20250919T162048Z
LAST-MODIFIED:20251216T222815Z
UID:10729-1765965600-1765969200@rooted303.org
SUMMARY:Clare of Assisi/Villa Maria - Mercy Housing
DESCRIPTION:
URL:https://rooted303.org/event/clare-of-assisi-villa-maria-mercy-housing-28/
END:VEVENT
BEGIN:VEVENT
DTSTART;TZID=America/Denver:20251216T183000
DTEND;TZID=America/Denver:20251216T193000
DTSTAMP:20260425T074534
CREATED:20250919T162048Z
LAST-MODIFIED:20251124T201332Z
UID:10728-1765909800-1765913400@rooted303.org
SUMMARY:Rooted 303/Exposed Support Group
DESCRIPTION:
URL:https://rooted303.org/event/rooted-303-exposed-support-group-29/
CATEGORIES:Groups
END:VEVENT
BEGIN:VEVENT
DTSTART;TZID=America/Denver:20251216T140000
DTEND;TZID=America/Denver:20251216T150000
DTSTAMP:20260425T074534
CREATED:20250919T162048Z
LAST-MODIFIED:20251215T222814Z
UID:10727-1765893600-1765897200@rooted303.org
SUMMARY:Franconia - Mercy Housing Residents Only
DESCRIPTION:
URL:https://rooted303.org/event/franconia-mercy-housing-residents-only-29/
END:VEVENT
BEGIN:VEVENT
DTSTART;TZID=America/Denver:20251216T120000
DTEND;TZID=America/Denver:20251216T130000
DTSTAMP:20260425T074534
CREATED:20250919T162047Z
LAST-MODIFIED:20251215T222814Z
UID:10725-1765886400-1765890000@rooted303.org
SUMMARY:Francis Heights - Mercy Housing Residents Only
DESCRIPTION:
URL:https://rooted303.org/event/francis-heights-mercy-housing-residents-only-29/
END:VEVENT
END:VCALENDAR