BEGIN:VCALENDAR
VERSION:2.0
PRODID:-//Rooted 303 - ECPv6.15.20//NONSGML v1.0//EN
CALSCALE:GREGORIAN
METHOD:PUBLISH
X-WR-CALNAME:Rooted 303
X-ORIGINAL-URL:https://rooted303.org
X-WR-CALDESC:Events for Rooted 303
REFRESH-INTERVAL;VALUE=DURATION:PT1H
X-Robots-Tag:noindex
X-PUBLISHED-TTL:PT1H
BEGIN:VTIMEZONE
TZID:America/Denver
BEGIN:DAYLIGHT
TZOFFSETFROM:-0700
TZOFFSETTO:-0600
TZNAME:MDT
DTSTART:20240310T090000
END:DAYLIGHT
BEGIN:STANDARD
TZOFFSETFROM:-0600
TZOFFSETTO:-0700
TZNAME:MST
DTSTART:20241103T080000
END:STANDARD
BEGIN:DAYLIGHT
TZOFFSETFROM:-0700
TZOFFSETTO:-0600
TZNAME:MDT
DTSTART:20250309T090000
END:DAYLIGHT
BEGIN:STANDARD
TZOFFSETFROM:-0600
TZOFFSETTO:-0700
TZNAME:MST
DTSTART:20251102T080000
END:STANDARD
BEGIN:DAYLIGHT
TZOFFSETFROM:-0700
TZOFFSETTO:-0600
TZNAME:MDT
DTSTART:20260308T090000
END:DAYLIGHT
BEGIN:STANDARD
TZOFFSETFROM:-0600
TZOFFSETTO:-0700
TZNAME:MST
DTSTART:20261101T080000
END:STANDARD
END:VTIMEZONE
BEGIN:VEVENT
DTSTART;TZID=America/Denver:20251118T140000
DTEND;TZID=America/Denver:20251118T150000
DTSTAMP:20260425T101157
CREATED:20250919T162034Z
LAST-MODIFIED:20251118T191349Z
UID:10667-1763474400-1763478000@rooted303.org
SUMMARY:Franconia - Mercy Housing Residents Only
DESCRIPTION:
URL:https://rooted303.org/event/franconia-mercy-housing-residents-only-25/
END:VEVENT
BEGIN:VEVENT
DTSTART;TZID=America/Denver:20251118T120000
DTEND;TZID=America/Denver:20251118T130000
DTSTAMP:20260425T101157
CREATED:20250919T162033Z
LAST-MODIFIED:20251118T191349Z
UID:10665-1763467200-1763470800@rooted303.org
SUMMARY:Francis Heights - Mercy Housing Residents Only
DESCRIPTION:
URL:https://rooted303.org/event/francis-heights-mercy-housing-residents-only-25/
END:VEVENT
BEGIN:VEVENT
DTSTART;TZID=America/Denver:20251118T090000
DTEND;TZID=America/Denver:20251118T120000
DTSTAMP:20260425T101157
CREATED:20250919T162033Z
LAST-MODIFIED:20251117T185858Z
UID:10666-1763456400-1763467200@rooted303.org
SUMMARY:Bridge House
DESCRIPTION:
URL:https://rooted303.org/event/bridge-house-98/
END:VEVENT
BEGIN:VEVENT
DTSTART;TZID=America/Denver:20251117T120000
DTEND;TZID=America/Denver:20251117T150000
DTSTAMP:20260425T101157
CREATED:20250919T162033Z
LAST-MODIFIED:20251117T185858Z
UID:10664-1763380800-1763391600@rooted303.org
SUMMARY:Bridge House
DESCRIPTION:
URL:https://rooted303.org/event/bridge-house-97/
END:VEVENT
BEGIN:VEVENT
DTSTART;TZID=America/Denver:20251115T090000
DTEND;TZID=America/Denver:20251115T130000
DTSTAMP:20260425T101157
CREATED:20250919T162032Z
LAST-MODIFIED:20251115T185822Z
UID:10663-1763197200-1763211600@rooted303.org
SUMMARY:Better Love
DESCRIPTION:
URL:https://rooted303.org/event/better-love-2/
LOCATION:5933 S Fairfield St\, Littleton\, CO\, United States
END:VEVENT
BEGIN:VEVENT
DTSTART;TZID=America/Denver:20251114T140000
DTEND;TZID=America/Denver:20251114T150000
DTSTAMP:20260425T101157
CREATED:20250919T162032Z
LAST-MODIFIED:20251114T184412Z
UID:10661-1763128800-1763132400@rooted303.org
SUMMARY:HWH - Residents Only
DESCRIPTION:
URL:https://rooted303.org/event/hwh-residents-only-23/
END:VEVENT
BEGIN:VEVENT
DTSTART;TZID=America/Denver:20251114T120000
DTEND;TZID=America/Denver:20251114T150000
DTSTAMP:20260425T101157
CREATED:20250919T162032Z
LAST-MODIFIED:20251114T184412Z
UID:10662-1763121600-1763132400@rooted303.org
SUMMARY:Bridge House
DESCRIPTION:
URL:https://rooted303.org/event/bridge-house-96/
END:VEVENT
BEGIN:VEVENT
DTSTART;TZID=America/Denver:20251114T120000
DTEND;TZID=America/Denver:20251114T130000
DTSTAMP:20260425T101157
CREATED:20250919T162031Z
LAST-MODIFIED:20251114T184412Z
UID:10660-1763121600-1763125200@rooted303.org
SUMMARY:Francis Heights - Grief Group - Mercy Housing Residents Only
DESCRIPTION:
URL:https://rooted303.org/event/francis-heights-grief-group-mercy-housing-residents-only-25/
CATEGORIES:Groups
END:VEVENT
BEGIN:VEVENT
DTSTART;TZID=America/Denver:20251113T183000
DTEND;TZID=America/Denver:20251113T193000
DTSTAMP:20260425T101157
CREATED:20250919T162031Z
LAST-MODIFIED:20251113T184339Z
UID:10659-1763058600-1763062200@rooted303.org
SUMMARY:Friends & Family CRAFT Group (Virtual)
DESCRIPTION:────────── \nRooted 303 is inviting you to a scheduled Zoom meeting. \nJoin Zoom Meetinghttps://us02web.zoom.us/j/86491237169?pwd=UFVUVngvVVpPM0toMTBuSGo5UkF1dz09 \nMeeting ID: 864 9123 7169Passcode: 672219 \n— \nOne tap mobile+17193594580\,\,86491237169#\,\,\,\,*672219# US+12532158782\,\,86491237169#\,\,\,\,*672219# US (Tacoma) \n— \nDial by your location• +1 719 359 4580 US• +1 253 215 8782 US (Tacoma)• +1 346 248 7799 US (Houston)• +1 669 444 9171 US• +1 669 900 9128 US (San Jose)• +1 253 205 0468 US• +1 360 209 5623 US• +1 386 347 5053 US• +1 507 473 4847 US• +1 564 217 2000 US• +1 646 558 8656 US (New York)• +1 646 931 3860 US• +1 689 278 1000 US• +1 301 715 8592 US (Washington DC)• +1 305 224 1968 US• +1 309 205 3325 US• +1 312 626 6799 US (Chicago) \nMeeting ID: 864 9123 7169Passcode: 672219 \nFind your local number: https://us02web.zoom.us/u/kdf4Ajtvut \n──────────
URL:https://rooted303.org/event/friends-family-craft-group-virtual-24/
LOCATION:https://us02web.zoom.us/j/86491237169?pwd=UFVUVngvVVpPM0toMTBuSGo5UkF1dz09
CATEGORIES:Groups
END:VEVENT
BEGIN:VEVENT
DTSTART;TZID=America/Denver:20251113T150000
DTEND;TZID=America/Denver:20251113T160000
DTSTAMP:20260425T101157
CREATED:20250919T162031Z
LAST-MODIFIED:20251113T184339Z
UID:10658-1763046000-1763049600@rooted303.org
SUMMARY:The Rose - Residents Only
DESCRIPTION:
URL:https://rooted303.org/event/the-rose-residents-only-12/
END:VEVENT
BEGIN:VEVENT
DTSTART;TZID=America/Denver:20251113T120000
DTEND;TZID=America/Denver:20251113T130000
DTSTAMP:20260425T101157
CREATED:20250919T162030Z
LAST-MODIFIED:20251113T184339Z
UID:10657-1763035200-1763038800@rooted303.org
SUMMARY:Nest 56 - Residents Only
DESCRIPTION:
URL:https://rooted303.org/event/nest-56-residents-only-24/
END:VEVENT
BEGIN:VEVENT
DTSTART;TZID=America/Denver:20251113T090000
DTEND;TZID=America/Denver:20251113T120000
DTSTAMP:20260425T101157
CREATED:20250919T162028Z
LAST-MODIFIED:20251113T184339Z
UID:10656-1763024400-1763035200@rooted303.org
SUMMARY:Bridge House
DESCRIPTION:
URL:https://rooted303.org/event/bridge-house-95/
END:VEVENT
BEGIN:VEVENT
DTSTART;TZID=America/Denver:20251112T183000
DTEND;TZID=America/Denver:20251112T193000
DTSTAMP:20260425T101157
CREATED:20250919T162028Z
LAST-MODIFIED:20251112T184338Z
UID:10655-1762972200-1762975800@rooted303.org
SUMMARY:Friends & Family CRAFT Group
DESCRIPTION:
URL:https://rooted303.org/event/friends-family-craft-group-24/
LOCATION:5933 S Fairfield St\, Littleton\, CO\, United States
CATEGORIES:Groups
END:VEVENT
BEGIN:VEVENT
DTSTART;TZID=America/Denver:20251112T123000
DTEND;TZID=America/Denver:20251112T133000
DTSTAMP:20260425T101157
CREATED:20250919T162028Z
LAST-MODIFIED:20251112T184338Z
UID:10654-1762950600-1762954200@rooted303.org
SUMMARY:Aromor - Mercy Housing Residents Only
DESCRIPTION:
URL:https://rooted303.org/event/aromor-mercy-housing-residents-only-24/
END:VEVENT
BEGIN:VEVENT
DTSTART;TZID=America/Denver:20251112T100000
DTEND;TZID=America/Denver:20251112T110000
DTSTAMP:20260425T101157
CREATED:20250919T162028Z
LAST-MODIFIED:20251111T182925Z
UID:10653-1762941600-1762945200@rooted303.org
SUMMARY:Clare of Assisi/Villa Maria - Mercy Housing
DESCRIPTION:
URL:https://rooted303.org/event/clare-of-assisi-villa-maria-mercy-housing-23/
END:VEVENT
BEGIN:VEVENT
DTSTART;TZID=America/Denver:20251111T183000
DTEND;TZID=America/Denver:20251111T193000
DTSTAMP:20260425T101157
CREATED:20250919T162027Z
LAST-MODIFIED:20251111T182925Z
UID:10652-1762885800-1762889400@rooted303.org
SUMMARY:Rooted 303/Exposed Support Group
DESCRIPTION:
URL:https://rooted303.org/event/rooted-303-exposed-support-group-24/
CATEGORIES:Groups
END:VEVENT
BEGIN:VEVENT
DTSTART;TZID=America/Denver:20251111T140000
DTEND;TZID=America/Denver:20251111T150000
DTSTAMP:20260425T101157
CREATED:20250919T162027Z
LAST-MODIFIED:20251111T182925Z
UID:10651-1762869600-1762873200@rooted303.org
SUMMARY:Franconia - Mercy Housing Residents Only
DESCRIPTION:
URL:https://rooted303.org/event/franconia-mercy-housing-residents-only-24/
END:VEVENT
BEGIN:VEVENT
DTSTART;TZID=America/Denver:20251111T120000
DTEND;TZID=America/Denver:20251111T130000
DTSTAMP:20260425T101157
CREATED:20250919T162027Z
LAST-MODIFIED:20251111T182925Z
UID:10649-1762862400-1762866000@rooted303.org
SUMMARY:Francis Heights - Mercy Housing Residents Only
DESCRIPTION:
URL:https://rooted303.org/event/francis-heights-mercy-housing-residents-only-24/
END:VEVENT
BEGIN:VEVENT
DTSTART;TZID=America/Denver:20251111T090000
DTEND;TZID=America/Denver:20251111T120000
DTSTAMP:20260425T101157
CREATED:20250919T162027Z
LAST-MODIFIED:20251111T182925Z
UID:10650-1762851600-1762862400@rooted303.org
SUMMARY:Bridge House
DESCRIPTION:
URL:https://rooted303.org/event/bridge-house-94/
END:VEVENT
BEGIN:VEVENT
DTSTART;TZID=America/Denver:20251110T120000
DTEND;TZID=America/Denver:20251110T150000
DTSTAMP:20260425T101157
CREATED:20250919T162027Z
LAST-MODIFIED:20251110T182829Z
UID:10648-1762776000-1762786800@rooted303.org
SUMMARY:Bridge House
DESCRIPTION:
URL:https://rooted303.org/event/bridge-house-93/
END:VEVENT
BEGIN:VEVENT
DTSTART;TZID=America/Denver:20251107T140000
DTEND;TZID=America/Denver:20251107T150000
DTSTAMP:20260425T101157
CREATED:20250919T162026Z
LAST-MODIFIED:20251107T181410Z
UID:10646-1762524000-1762527600@rooted303.org
SUMMARY:HWH - Residents Only
DESCRIPTION:
URL:https://rooted303.org/event/hwh-residents-only-22/
END:VEVENT
BEGIN:VEVENT
DTSTART;TZID=America/Denver:20251107T120000
DTEND;TZID=America/Denver:20251107T150000
DTSTAMP:20260425T101157
CREATED:20250919T162027Z
LAST-MODIFIED:20251107T181410Z
UID:10647-1762516800-1762527600@rooted303.org
SUMMARY:Bridge House
DESCRIPTION:
URL:https://rooted303.org/event/bridge-house-92/
END:VEVENT
BEGIN:VEVENT
DTSTART;TZID=America/Denver:20251107T120000
DTEND;TZID=America/Denver:20251107T130000
DTSTAMP:20260425T101157
CREATED:20250919T162026Z
LAST-MODIFIED:20251107T181410Z
UID:10645-1762516800-1762520400@rooted303.org
SUMMARY:Francis Heights - Grief Group - Mercy Housing Residents Only
DESCRIPTION:
URL:https://rooted303.org/event/francis-heights-grief-group-mercy-housing-residents-only-24/
CATEGORIES:Groups
END:VEVENT
BEGIN:VEVENT
DTSTART;TZID=America/Denver:20251106T183000
DTEND;TZID=America/Denver:20251106T193000
DTSTAMP:20260425T101157
CREATED:20250919T162026Z
LAST-MODIFIED:20251106T181404Z
UID:10644-1762453800-1762457400@rooted303.org
SUMMARY:Friends & Family CRAFT Group (Virtual)
DESCRIPTION:────────── \nRooted 303 is inviting you to a scheduled Zoom meeting. \nJoin Zoom Meetinghttps://us02web.zoom.us/j/86491237169?pwd=UFVUVngvVVpPM0toMTBuSGo5UkF1dz09 \nMeeting ID: 864 9123 7169Passcode: 672219 \n— \nOne tap mobile+17193594580\,\,86491237169#\,\,\,\,*672219# US+12532158782\,\,86491237169#\,\,\,\,*672219# US (Tacoma) \n— \nDial by your location• +1 719 359 4580 US• +1 253 215 8782 US (Tacoma)• +1 346 248 7799 US (Houston)• +1 669 444 9171 US• +1 669 900 9128 US (San Jose)• +1 253 205 0468 US• +1 360 209 5623 US• +1 386 347 5053 US• +1 507 473 4847 US• +1 564 217 2000 US• +1 646 558 8656 US (New York)• +1 646 931 3860 US• +1 689 278 1000 US• +1 301 715 8592 US (Washington DC)• +1 305 224 1968 US• +1 309 205 3325 US• +1 312 626 6799 US (Chicago) \nMeeting ID: 864 9123 7169Passcode: 672219 \nFind your local number: https://us02web.zoom.us/u/kdf4Ajtvut \n──────────
URL:https://rooted303.org/event/friends-family-craft-group-virtual-23/
LOCATION:https://us02web.zoom.us/j/86491237169?pwd=UFVUVngvVVpPM0toMTBuSGo5UkF1dz09
CATEGORIES:Groups
END:VEVENT
BEGIN:VEVENT
DTSTART;TZID=America/Denver:20251106T120000
DTEND;TZID=America/Denver:20251106T130000
DTSTAMP:20260425T101157
CREATED:20250919T162026Z
LAST-MODIFIED:20251106T181404Z
UID:10643-1762430400-1762434000@rooted303.org
SUMMARY:Nest 56 - Residents Only
DESCRIPTION:
URL:https://rooted303.org/event/nest-56-residents-only-23/
END:VEVENT
BEGIN:VEVENT
DTSTART;TZID=America/Denver:20251106T090000
DTEND;TZID=America/Denver:20251106T120000
DTSTAMP:20260425T101157
CREATED:20250919T162025Z
LAST-MODIFIED:20251106T181403Z
UID:10642-1762419600-1762430400@rooted303.org
SUMMARY:Bridge House
DESCRIPTION:
URL:https://rooted303.org/event/bridge-house-91/
END:VEVENT
BEGIN:VEVENT
DTSTART;TZID=America/Denver:20251105T183000
DTEND;TZID=America/Denver:20251105T193000
DTSTAMP:20260425T101157
CREATED:20250919T162025Z
LAST-MODIFIED:20251105T181316Z
UID:10641-1762367400-1762371000@rooted303.org
SUMMARY:Friends & Family CRAFT Group
DESCRIPTION:
URL:https://rooted303.org/event/friends-family-craft-group-23/
LOCATION:5933 S Fairfield St\, Littleton\, CO\, United States
CATEGORIES:Groups
END:VEVENT
BEGIN:VEVENT
DTSTART;TZID=America/Denver:20251105T123000
DTEND;TZID=America/Denver:20251105T133000
DTSTAMP:20260425T101157
CREATED:20250919T162025Z
LAST-MODIFIED:20251105T181316Z
UID:10640-1762345800-1762349400@rooted303.org
SUMMARY:Aromor - Mercy Housing Residents Only
DESCRIPTION:
URL:https://rooted303.org/event/aromor-mercy-housing-residents-only-23/
END:VEVENT
BEGIN:VEVENT
DTSTART;TZID=America/Denver:20251105T100000
DTEND;TZID=America/Denver:20251105T110000
DTSTAMP:20260425T101157
CREATED:20250919T162025Z
LAST-MODIFIED:20251104T181417Z
UID:10639-1762336800-1762340400@rooted303.org
SUMMARY:Clare of Assisi/Villa Maria - Mercy Housing
DESCRIPTION:
URL:https://rooted303.org/event/clare-of-assisi-villa-maria-mercy-housing-22/
END:VEVENT
BEGIN:VEVENT
DTSTART;TZID=America/Denver:20251104T183000
DTEND;TZID=America/Denver:20251104T193000
DTSTAMP:20260425T101157
CREATED:20250919T162024Z
LAST-MODIFIED:20251104T181417Z
UID:10638-1762281000-1762284600@rooted303.org
SUMMARY:Rooted 303/Exposed Support Group
DESCRIPTION:
URL:https://rooted303.org/event/rooted-303-exposed-support-group-23/
CATEGORIES:Groups
END:VEVENT
END:VCALENDAR