BEGIN:VCALENDAR
VERSION:2.0
PRODID:-//Rooted 303 - ECPv6.15.20//NONSGML v1.0//EN
CALSCALE:GREGORIAN
METHOD:PUBLISH
X-WR-CALNAME:Rooted 303
X-ORIGINAL-URL:https://rooted303.org
X-WR-CALDESC:Events for Rooted 303
REFRESH-INTERVAL;VALUE=DURATION:PT1H
X-Robots-Tag:noindex
X-PUBLISHED-TTL:PT1H
BEGIN:VTIMEZONE
TZID:America/Denver
BEGIN:DAYLIGHT
TZOFFSETFROM:-0700
TZOFFSETTO:-0600
TZNAME:MDT
DTSTART:20240310T090000
END:DAYLIGHT
BEGIN:STANDARD
TZOFFSETFROM:-0600
TZOFFSETTO:-0700
TZNAME:MST
DTSTART:20241103T080000
END:STANDARD
BEGIN:DAYLIGHT
TZOFFSETFROM:-0700
TZOFFSETTO:-0600
TZNAME:MDT
DTSTART:20250309T090000
END:DAYLIGHT
BEGIN:STANDARD
TZOFFSETFROM:-0600
TZOFFSETTO:-0700
TZNAME:MST
DTSTART:20251102T080000
END:STANDARD
BEGIN:DAYLIGHT
TZOFFSETFROM:-0700
TZOFFSETTO:-0600
TZNAME:MDT
DTSTART:20260308T090000
END:DAYLIGHT
BEGIN:STANDARD
TZOFFSETFROM:-0600
TZOFFSETTO:-0700
TZNAME:MST
DTSTART:20261101T080000
END:STANDARD
END:VTIMEZONE
BEGIN:VEVENT
DTSTART;TZID=America/Denver:20251211T183000
DTEND;TZID=America/Denver:20251211T193000
DTSTAMP:20260425T124332
CREATED:20251124T201331Z
LAST-MODIFIED:20251211T215815Z
UID:11502-1765477800-1765481400@rooted303.org
SUMMARY:Friends & Family CRAFT Group (Virtual)
DESCRIPTION:Click here to Join  our Zoom Meeting! 
URL:https://rooted303.org/event/friends-family-craft-group-virtual-67/
LOCATION:Zoom
END:VEVENT
BEGIN:VEVENT
DTSTART;TZID=America/Denver:20251211T183000
DTEND;TZID=America/Denver:20251211T193000
DTSTAMP:20260425T124332
CREATED:20251117T185905Z
LAST-MODIFIED:20251123T195934Z
UID:11387-1765477800-1765481400@rooted303.org
SUMMARY:Friends & Family CRAFT Group (Virtual)
DESCRIPTION:Click here to Join  our Zoom Meeting! 
URL:https://rooted303.org/event/friends-family-craft-group-virtual-48/
LOCATION:Zoom
END:VEVENT
BEGIN:VEVENT
DTSTART;TZID=America/Denver:20251211T183000
DTEND;TZID=America/Denver:20251211T193000
DTSTAMP:20260425T124332
CREATED:20250919T162047Z
LAST-MODIFIED:20251116T185832Z
UID:10720-1765477800-1765481400@rooted303.org
SUMMARY:Friends & Family CRAFT Group (Virtual)
DESCRIPTION:────────── \nRooted 303 is inviting you to a scheduled Zoom meeting. \nJoin Zoom Meetinghttps://us02web.zoom.us/j/86491237169?pwd=UFVUVngvVVpPM0toMTBuSGo5UkF1dz09 \nMeeting ID: 864 9123 7169Passcode: 672219 \n— \nOne tap mobile+17193594580\,\,86491237169#\,\,\,\,*672219# US+12532158782\,\,86491237169#\,\,\,\,*672219# US (Tacoma) \n— \nDial by your location• +1 719 359 4580 US• +1 253 215 8782 US (Tacoma)• +1 346 248 7799 US (Houston)• +1 669 444 9171 US• +1 669 900 9128 US (San Jose)• +1 253 205 0468 US• +1 360 209 5623 US• +1 386 347 5053 US• +1 507 473 4847 US• +1 564 217 2000 US• +1 646 558 8656 US (New York)• +1 646 931 3860 US• +1 689 278 1000 US• +1 301 715 8592 US (Washington DC)• +1 305 224 1968 US• +1 309 205 3325 US• +1 312 626 6799 US (Chicago) \nMeeting ID: 864 9123 7169Passcode: 672219 \nFind your local number: https://us02web.zoom.us/u/kdf4Ajtvut \n──────────
URL:https://rooted303.org/event/friends-family-craft-group-virtual-28/
LOCATION:https://us02web.zoom.us/j/86491237169?pwd=UFVUVngvVVpPM0toMTBuSGo5UkF1dz09
CATEGORIES:Groups
END:VEVENT
BEGIN:VEVENT
DTSTART;TZID=America/Denver:20251211T150000
DTEND;TZID=America/Denver:20251211T160000
DTSTAMP:20260425T124332
CREATED:20250919T162046Z
LAST-MODIFIED:20251211T215815Z
UID:10719-1765465200-1765468800@rooted303.org
SUMMARY:The Rose - Residents Only
DESCRIPTION:
URL:https://rooted303.org/event/the-rose-residents-only-14/
END:VEVENT
BEGIN:VEVENT
DTSTART;TZID=America/Denver:20251211T120000
DTEND;TZID=America/Denver:20251211T130000
DTSTAMP:20260425T124332
CREATED:20250919T162046Z
LAST-MODIFIED:20251210T215821Z
UID:10717-1765454400-1765458000@rooted303.org
SUMMARY:Nest 56 - Residents Only
DESCRIPTION:
URL:https://rooted303.org/event/nest-56-residents-only-28/
END:VEVENT
BEGIN:VEVENT
DTSTART;TZID=America/Denver:20251211T090000
DTEND;TZID=America/Denver:20251211T120000
DTSTAMP:20260425T124332
CREATED:20250919T162046Z
LAST-MODIFIED:20251210T215821Z
UID:10718-1765443600-1765454400@rooted303.org
SUMMARY:Bridge House
DESCRIPTION:
URL:https://rooted303.org/event/bridge-house-111/
END:VEVENT
BEGIN:VEVENT
DTSTART;TZID=America/Denver:20251210T183000
DTEND;TZID=America/Denver:20251210T193000
DTSTAMP:20260425T124332
CREATED:20250919T162046Z
LAST-MODIFIED:20251210T215821Z
UID:10716-1765391400-1765395000@rooted303.org
SUMMARY:Friends & Family CRAFT Group
DESCRIPTION:
URL:https://rooted303.org/event/friends-family-craft-group-28/
LOCATION:5933 S Fairfield St\, Littleton\, CO\, United States
CATEGORIES:Groups
END:VEVENT
BEGIN:VEVENT
DTSTART;TZID=America/Denver:20251210T123000
DTEND;TZID=America/Denver:20251210T133000
DTSTAMP:20260425T124332
CREATED:20250919T162045Z
LAST-MODIFIED:20251209T214314Z
UID:10715-1765369800-1765373400@rooted303.org
SUMMARY:Aromor - Mercy Housing Residents Only
DESCRIPTION:
URL:https://rooted303.org/event/aromor-mercy-housing-residents-only-28/
END:VEVENT
BEGIN:VEVENT
DTSTART;TZID=America/Denver:20251210T100000
DTEND;TZID=America/Denver:20251210T110000
DTSTAMP:20260425T124332
CREATED:20250919T162045Z
LAST-MODIFIED:20251209T214314Z
UID:10714-1765360800-1765364400@rooted303.org
SUMMARY:Clare of Assisi/Villa Maria - Mercy Housing
DESCRIPTION:
URL:https://rooted303.org/event/clare-of-assisi-villa-maria-mercy-housing-27/
END:VEVENT
BEGIN:VEVENT
DTSTART;TZID=America/Denver:20251209T183000
DTEND;TZID=America/Denver:20251209T193000
DTSTAMP:20260425T124332
CREATED:20250919T162045Z
LAST-MODIFIED:20251124T201330Z
UID:10713-1765305000-1765308600@rooted303.org
SUMMARY:Rooted 303/Exposed Support Group
DESCRIPTION:
URL:https://rooted303.org/event/rooted-303-exposed-support-group-28/
CATEGORIES:Groups
END:VEVENT
BEGIN:VEVENT
DTSTART;TZID=America/Denver:20251209T140000
DTEND;TZID=America/Denver:20251209T150000
DTSTAMP:20260425T124332
CREATED:20250919T162045Z
LAST-MODIFIED:20251209T214313Z
UID:10712-1765288800-1765292400@rooted303.org
SUMMARY:Franconia - Mercy Housing Residents Only
DESCRIPTION:
URL:https://rooted303.org/event/franconia-mercy-housing-residents-only-28/
END:VEVENT
BEGIN:VEVENT
DTSTART;TZID=America/Denver:20251209T120000
DTEND;TZID=America/Denver:20251209T130000
DTSTAMP:20260425T124332
CREATED:20250919T162044Z
LAST-MODIFIED:20251208T214329Z
UID:10710-1765281600-1765285200@rooted303.org
SUMMARY:Francis Heights - Mercy Housing Residents Only
DESCRIPTION:
URL:https://rooted303.org/event/francis-heights-mercy-housing-residents-only-28/
END:VEVENT
BEGIN:VEVENT
DTSTART;TZID=America/Denver:20251209T100000
DTEND;TZID=America/Denver:20251209T103000
DTSTAMP:20260425T124332
CREATED:20251208T214329Z
LAST-MODIFIED:20251208T214329Z
UID:11679-1765274400-1765276200@rooted303.org
SUMMARY:One on one with JC with Gloria
DESCRIPTION:Appointment Summary :\nBooking ID : OP-00155\nMeeting Join Link : https://meet.zoho.com/nocs-srg-hfc\nBooking Summary URL : https://powerplacing-consultation.zohobookings.com/#/customer/4750874000000083256/invoice/fdd2658c13bef2355b627d1d3851e0a3b370a2e7ec0db926e0be0984c99a13d3\nService Info :\nService Name : One on one with JC
URL:https://rooted303.org/event/one-on-one-with-jc-with-gloria/
LOCATION:https://meet.zoho.com/nocs-srg-hfc
END:VEVENT
BEGIN:VEVENT
DTSTART;TZID=America/Denver:20251209T090000
DTEND;TZID=America/Denver:20251209T120000
DTSTAMP:20260425T124332
CREATED:20250919T162044Z
LAST-MODIFIED:20251208T214329Z
UID:10711-1765270800-1765281600@rooted303.org
SUMMARY:Bridge House
DESCRIPTION:
URL:https://rooted303.org/event/bridge-house-110/
END:VEVENT
BEGIN:VEVENT
DTSTART;TZID=America/Denver:20251208T120000
DTEND;TZID=America/Denver:20251208T150000
DTSTAMP:20260425T124332
CREATED:20250919T162044Z
LAST-MODIFIED:20251208T214329Z
UID:10709-1765195200-1765206000@rooted303.org
SUMMARY:Bridge House
DESCRIPTION:
URL:https://rooted303.org/event/bridge-house-109/
END:VEVENT
BEGIN:VEVENT
DTSTART;TZID=America/Denver:20251208T101500
DTEND;TZID=America/Denver:20251208T111500
DTSTAMP:20260425T124332
CREATED:20251124T201330Z
LAST-MODIFIED:20251207T214335Z
UID:11501-1765188900-1765192500@rooted303.org
SUMMARY:Sacred Roots Community Group
DESCRIPTION:Open to all Spiritual/Religious PathsJoin Here 
URL:https://rooted303.org/event/sacred-roots-community-group-22/
LOCATION:Hybrid
END:VEVENT
BEGIN:VEVENT
DTSTART;TZID=America/Denver:20251205T140000
DTEND;TZID=America/Denver:20251205T150000
DTSTAMP:20260425T124332
CREATED:20250919T162044Z
LAST-MODIFIED:20251205T212850Z
UID:10707-1764943200-1764946800@rooted303.org
SUMMARY:HWH - Residents Only
DESCRIPTION:
URL:https://rooted303.org/event/hwh-residents-only-26/
END:VEVENT
BEGIN:VEVENT
DTSTART;TZID=America/Denver:20251205T120000
DTEND;TZID=America/Denver:20251205T150000
DTSTAMP:20260425T124332
CREATED:20250919T162044Z
LAST-MODIFIED:20251205T212850Z
UID:10708-1764936000-1764946800@rooted303.org
SUMMARY:Bridge House
DESCRIPTION:
URL:https://rooted303.org/event/bridge-house-108/
END:VEVENT
BEGIN:VEVENT
DTSTART;TZID=America/Denver:20251205T120000
DTEND;TZID=America/Denver:20251205T130000
DTSTAMP:20260425T124332
CREATED:20250919T162043Z
LAST-MODIFIED:20251204T211331Z
UID:10706-1764936000-1764939600@rooted303.org
SUMMARY:Francis Heights - Grief Group - Mercy Housing Residents Only
DESCRIPTION:
URL:https://rooted303.org/event/francis-heights-grief-group-mercy-housing-residents-only-28/
CATEGORIES:Groups
END:VEVENT
BEGIN:VEVENT
DTSTART;TZID=America/Denver:20251204T183000
DTEND;TZID=America/Denver:20251204T193000
DTSTAMP:20260425T124332
CREATED:20251124T201329Z
LAST-MODIFIED:20251204T211331Z
UID:11500-1764873000-1764876600@rooted303.org
SUMMARY:Friends & Family CRAFT Group (Virtual)
DESCRIPTION:Click here to Join  our Zoom Meeting! 
URL:https://rooted303.org/event/friends-family-craft-group-virtual-66/
LOCATION:Zoom
END:VEVENT
BEGIN:VEVENT
DTSTART;TZID=America/Denver:20251204T183000
DTEND;TZID=America/Denver:20251204T193000
DTSTAMP:20260425T124332
CREATED:20251117T185903Z
LAST-MODIFIED:20251123T195932Z
UID:11386-1764873000-1764876600@rooted303.org
SUMMARY:Friends & Family CRAFT Group (Virtual)
DESCRIPTION:Click here to Join  our Zoom Meeting! 
URL:https://rooted303.org/event/friends-family-craft-group-virtual-47/
LOCATION:Zoom
END:VEVENT
BEGIN:VEVENT
DTSTART;TZID=America/Denver:20251204T183000
DTEND;TZID=America/Denver:20251204T193000
DTSTAMP:20260425T124332
CREATED:20250919T162043Z
LAST-MODIFIED:20251116T185830Z
UID:10705-1764873000-1764876600@rooted303.org
SUMMARY:Friends & Family CRAFT Group (Virtual)
DESCRIPTION:────────── \nRooted 303 is inviting you to a scheduled Zoom meeting. \nJoin Zoom Meetinghttps://us02web.zoom.us/j/86491237169?pwd=UFVUVngvVVpPM0toMTBuSGo5UkF1dz09 \nMeeting ID: 864 9123 7169Passcode: 672219 \n— \nOne tap mobile+17193594580\,\,86491237169#\,\,\,\,*672219# US+12532158782\,\,86491237169#\,\,\,\,*672219# US (Tacoma) \n— \nDial by your location• +1 719 359 4580 US• +1 253 215 8782 US (Tacoma)• +1 346 248 7799 US (Houston)• +1 669 444 9171 US• +1 669 900 9128 US (San Jose)• +1 253 205 0468 US• +1 360 209 5623 US• +1 386 347 5053 US• +1 507 473 4847 US• +1 564 217 2000 US• +1 646 558 8656 US (New York)• +1 646 931 3860 US• +1 689 278 1000 US• +1 301 715 8592 US (Washington DC)• +1 305 224 1968 US• +1 309 205 3325 US• +1 312 626 6799 US (Chicago) \nMeeting ID: 864 9123 7169Passcode: 672219 \nFind your local number: https://us02web.zoom.us/u/kdf4Ajtvut \n──────────
URL:https://rooted303.org/event/friends-family-craft-group-virtual-27/
LOCATION:https://us02web.zoom.us/j/86491237169?pwd=UFVUVngvVVpPM0toMTBuSGo5UkF1dz09
CATEGORIES:Groups
END:VEVENT
BEGIN:VEVENT
DTSTART;TZID=America/Denver:20251204T120000
DTEND;TZID=America/Denver:20251204T130000
DTSTAMP:20260425T124332
CREATED:20250919T162043Z
LAST-MODIFIED:20251203T211328Z
UID:10704-1764849600-1764853200@rooted303.org
SUMMARY:Nest 56 - Residents Only
DESCRIPTION:
URL:https://rooted303.org/event/nest-56-residents-only-27/
END:VEVENT
BEGIN:VEVENT
DTSTART;TZID=America/Denver:20251204T090000
DTEND;TZID=America/Denver:20251204T120000
DTSTAMP:20260425T124332
CREATED:20250919T162043Z
LAST-MODIFIED:20251203T211328Z
UID:10703-1764838800-1764849600@rooted303.org
SUMMARY:Bridge House
DESCRIPTION:
URL:https://rooted303.org/event/bridge-house-107/
END:VEVENT
BEGIN:VEVENT
DTSTART;TZID=America/Denver:20251203T183000
DTEND;TZID=America/Denver:20251203T193000
DTSTAMP:20260425T124332
CREATED:20250919T162043Z
LAST-MODIFIED:20251203T211327Z
UID:10702-1764786600-1764790200@rooted303.org
SUMMARY:Friends & Family CRAFT Group
DESCRIPTION:
URL:https://rooted303.org/event/friends-family-craft-group-27/
LOCATION:5933 S Fairfield St\, Littleton\, CO\, United States
CATEGORIES:Groups
END:VEVENT
BEGIN:VEVENT
DTSTART;TZID=America/Denver:20251203T123000
DTEND;TZID=America/Denver:20251203T133000
DTSTAMP:20260425T124332
CREATED:20250919T162042Z
LAST-MODIFIED:20251202T205812Z
UID:10701-1764765000-1764768600@rooted303.org
SUMMARY:Aromor - Mercy Housing Residents Only
DESCRIPTION:
URL:https://rooted303.org/event/aromor-mercy-housing-residents-only-27/
END:VEVENT
BEGIN:VEVENT
DTSTART;TZID=America/Denver:20251203T100000
DTEND;TZID=America/Denver:20251203T110000
DTSTAMP:20260425T124332
CREATED:20250919T162042Z
LAST-MODIFIED:20251202T205812Z
UID:10700-1764756000-1764759600@rooted303.org
SUMMARY:Clare of Assisi/Villa Maria - Mercy Housing
DESCRIPTION:
URL:https://rooted303.org/event/clare-of-assisi-villa-maria-mercy-housing-26/
END:VEVENT
BEGIN:VEVENT
DTSTART;TZID=America/Denver:20251202T183000
DTEND;TZID=America/Denver:20251202T193000
DTSTAMP:20260425T124332
CREATED:20250919T162042Z
LAST-MODIFIED:20251124T201328Z
UID:10699-1764700200-1764703800@rooted303.org
SUMMARY:Rooted 303/Exposed Support Group
DESCRIPTION:
URL:https://rooted303.org/event/rooted-303-exposed-support-group-27/
CATEGORIES:Groups
END:VEVENT
BEGIN:VEVENT
DTSTART;TZID=America/Denver:20251202T140000
DTEND;TZID=America/Denver:20251202T150000
DTSTAMP:20260425T124332
CREATED:20250919T162042Z
LAST-MODIFIED:20251202T205812Z
UID:10698-1764684000-1764687600@rooted303.org
SUMMARY:Franconia - Mercy Housing Residents Only
DESCRIPTION:
URL:https://rooted303.org/event/franconia-mercy-housing-residents-only-27/
END:VEVENT
BEGIN:VEVENT
DTSTART;TZID=America/Denver:20251202T120000
DTEND;TZID=America/Denver:20251202T130000
DTSTAMP:20260425T124332
CREATED:20250919T162041Z
LAST-MODIFIED:20251201T205832Z
UID:10697-1764676800-1764680400@rooted303.org
SUMMARY:Francis Heights - Mercy Housing Residents Only
DESCRIPTION:
URL:https://rooted303.org/event/francis-heights-mercy-housing-residents-only-27/
END:VEVENT
END:VCALENDAR