BEGIN:VCALENDAR
VERSION:2.0
PRODID:-//Rooted 303 - ECPv6.15.20//NONSGML v1.0//EN
CALSCALE:GREGORIAN
METHOD:PUBLISH
X-WR-CALNAME:Rooted 303
X-ORIGINAL-URL:https://rooted303.org
X-WR-CALDESC:Events for Rooted 303
REFRESH-INTERVAL;VALUE=DURATION:PT1H
X-Robots-Tag:noindex
X-PUBLISHED-TTL:PT1H
BEGIN:VTIMEZONE
TZID:America/Denver
BEGIN:DAYLIGHT
TZOFFSETFROM:-0700
TZOFFSETTO:-0600
TZNAME:MDT
DTSTART:20240310T090000
END:DAYLIGHT
BEGIN:STANDARD
TZOFFSETFROM:-0600
TZOFFSETTO:-0700
TZNAME:MST
DTSTART:20241103T080000
END:STANDARD
BEGIN:DAYLIGHT
TZOFFSETFROM:-0700
TZOFFSETTO:-0600
TZNAME:MDT
DTSTART:20250309T090000
END:DAYLIGHT
BEGIN:STANDARD
TZOFFSETFROM:-0600
TZOFFSETTO:-0700
TZNAME:MST
DTSTART:20251102T080000
END:STANDARD
BEGIN:DAYLIGHT
TZOFFSETFROM:-0700
TZOFFSETTO:-0600
TZNAME:MDT
DTSTART:20260308T090000
END:DAYLIGHT
BEGIN:STANDARD
TZOFFSETFROM:-0600
TZOFFSETTO:-0700
TZNAME:MST
DTSTART:20261101T080000
END:STANDARD
END:VTIMEZONE
BEGIN:VEVENT
DTSTART;TZID=America/Denver:20251021T183000
DTEND;TZID=America/Denver:20251021T193000
DTSTAMP:20260425T174831
CREATED:20250617T213141Z
LAST-MODIFIED:20251021T165812Z
UID:10554-1761071400-1761075000@rooted303.org
SUMMARY:Rooted 303/Exposed Support Group
DESCRIPTION:
URL:https://rooted303.org/event/rooted-303-exposed-support-group-21/
CATEGORIES:Groups
END:VEVENT
BEGIN:VEVENT
DTSTART;TZID=America/Denver:20251021T140000
DTEND;TZID=America/Denver:20251021T150000
DTSTAMP:20260425T174831
CREATED:20250617T213141Z
LAST-MODIFIED:20251021T165812Z
UID:10553-1761055200-1761058800@rooted303.org
SUMMARY:Franconia - Mercy Housing Residents Only
DESCRIPTION:
URL:https://rooted303.org/event/franconia-mercy-housing-residents-only-21/
END:VEVENT
BEGIN:VEVENT
DTSTART;TZID=America/Denver:20251021T120000
DTEND;TZID=America/Denver:20251021T130000
DTSTAMP:20260425T174831
CREATED:20250617T213141Z
LAST-MODIFIED:20251021T165812Z
UID:10551-1761048000-1761051600@rooted303.org
SUMMARY:Francis Heights - Mercy Housing Residents Only
DESCRIPTION:
URL:https://rooted303.org/event/francis-heights-mercy-housing-residents-only-21/
END:VEVENT
BEGIN:VEVENT
DTSTART;TZID=America/Denver:20251021T090000
DTEND;TZID=America/Denver:20251021T120000
DTSTAMP:20260425T174831
CREATED:20250617T213141Z
LAST-MODIFIED:20251021T165812Z
UID:10552-1761037200-1761048000@rooted303.org
SUMMARY:Bridge House
DESCRIPTION:
URL:https://rooted303.org/event/bridge-house-82/
END:VEVENT
BEGIN:VEVENT
DTSTART;TZID=America/Denver:20251020T120000
DTEND;TZID=America/Denver:20251020T150000
DTSTAMP:20260425T174831
CREATED:20250617T213141Z
LAST-MODIFIED:20251020T165909Z
UID:10550-1760961600-1760972400@rooted303.org
SUMMARY:Bridge House
DESCRIPTION:
URL:https://rooted303.org/event/bridge-house-81/
END:VEVENT
BEGIN:VEVENT
DTSTART;TZID=America/Denver:20251018T090000
DTEND;TZID=America/Denver:20251018T130000
DTSTAMP:20260425T174831
CREATED:20250617T213140Z
LAST-MODIFIED:20251018T165825Z
UID:10549-1760778000-1760792400@rooted303.org
SUMMARY:The Science of You
DESCRIPTION:
URL:https://rooted303.org/event/the-science-of-you-2/
LOCATION:5933 S Fairfield St\, Littleton\, CO\, United States
END:VEVENT
BEGIN:VEVENT
DTSTART;TZID=America/Denver:20251017T180000
DTEND;TZID=America/Denver:20251017T193000
DTSTAMP:20260425T174831
CREATED:20250617T213140Z
LAST-MODIFIED:20251013T172755Z
UID:10548-1760724000-1760729400@rooted303.org
SUMMARY:Roots and Wings Parenting Group
DESCRIPTION:
URL:https://rooted303.org/event/roots-and-wings-parenting-group-20/
CATEGORIES:Groups
END:VEVENT
BEGIN:VEVENT
DTSTART;TZID=America/Denver:20251017T140000
DTEND;TZID=America/Denver:20251017T150000
DTSTAMP:20260425T174831
CREATED:20250617T213140Z
LAST-MODIFIED:20251017T165902Z
UID:10546-1760709600-1760713200@rooted303.org
SUMMARY:HWH - Residents Only
DESCRIPTION:
URL:https://rooted303.org/event/hwh-residents-only-19/
END:VEVENT
BEGIN:VEVENT
DTSTART;TZID=America/Denver:20251017T120000
DTEND;TZID=America/Denver:20251017T150000
DTSTAMP:20260425T174831
CREATED:20250617T213140Z
LAST-MODIFIED:20251017T165902Z
UID:10547-1760702400-1760713200@rooted303.org
SUMMARY:Bridge House
DESCRIPTION:
URL:https://rooted303.org/event/bridge-house-80/
END:VEVENT
BEGIN:VEVENT
DTSTART;TZID=America/Denver:20251017T120000
DTEND;TZID=America/Denver:20251017T130000
DTSTAMP:20260425T174831
CREATED:20250617T213140Z
LAST-MODIFIED:20251017T165901Z
UID:10545-1760702400-1760706000@rooted303.org
SUMMARY:Francis Heights - Grief Group - Mercy Housing Residents Only
DESCRIPTION:
URL:https://rooted303.org/event/francis-heights-grief-group-mercy-housing-residents-only-21/
CATEGORIES:Groups
END:VEVENT
BEGIN:VEVENT
DTSTART;TZID=America/Denver:20251016T183000
DTEND;TZID=America/Denver:20251016T193000
DTSTAMP:20260425T174831
CREATED:20250617T213140Z
LAST-MODIFIED:20251016T165816Z
UID:10544-1760639400-1760643000@rooted303.org
SUMMARY:Friends & Family CRAFT Group (Virtual)
DESCRIPTION:────────── \nRooted 303 is inviting you to a scheduled Zoom meeting. \nJoin Zoom Meetinghttps://us02web.zoom.us/j/86491237169?pwd=UFVUVngvVVpPM0toMTBuSGo5UkF1dz09 \nMeeting ID: 864 9123 7169Passcode: 672219 \n— \nOne tap mobile+17193594580\,\,86491237169#\,\,\,\,*672219# US+12532158782\,\,86491237169#\,\,\,\,*672219# US (Tacoma) \n— \nDial by your location• +1 719 359 4580 US• +1 253 215 8782 US (Tacoma)• +1 346 248 7799 US (Houston)• +1 669 444 9171 US• +1 669 900 9128 US (San Jose)• +1 253 205 0468 US• +1 360 209 5623 US• +1 386 347 5053 US• +1 507 473 4847 US• +1 564 217 2000 US• +1 646 558 8656 US (New York)• +1 646 931 3860 US• +1 689 278 1000 US• +1 301 715 8592 US (Washington DC)• +1 305 224 1968 US• +1 309 205 3325 US• +1 312 626 6799 US (Chicago) \nMeeting ID: 864 9123 7169Passcode: 672219 \nFind your local number: https://us02web.zoom.us/u/kdf4Ajtvut \n──────────
URL:https://rooted303.org/event/friends-family-craft-group-virtual-20/
LOCATION:https://us02web.zoom.us/j/86491237169?pwd=UFVUVngvVVpPM0toMTBuSGo5UkF1dz09
CATEGORIES:Groups
END:VEVENT
BEGIN:VEVENT
DTSTART;TZID=America/Denver:20251016T150000
DTEND;TZID=America/Denver:20251016T160000
DTSTAMP:20260425T174831
CREATED:20250617T213140Z
LAST-MODIFIED:20251016T165816Z
UID:10543-1760626800-1760630400@rooted303.org
SUMMARY:The Rose - Residents Only
DESCRIPTION:
URL:https://rooted303.org/event/the-rose-residents-only-10/
END:VEVENT
BEGIN:VEVENT
DTSTART;TZID=America/Denver:20251016T120000
DTEND;TZID=America/Denver:20251016T130000
DTSTAMP:20260425T174831
CREATED:20250617T213139Z
LAST-MODIFIED:20251016T165816Z
UID:10542-1760616000-1760619600@rooted303.org
SUMMARY:Nest 56 - Residents Only
DESCRIPTION:
URL:https://rooted303.org/event/nest-56-residents-only-20/
END:VEVENT
BEGIN:VEVENT
DTSTART;TZID=America/Denver:20251016T090000
DTEND;TZID=America/Denver:20251016T120000
DTSTAMP:20260425T174831
CREATED:20250617T213139Z
LAST-MODIFIED:20251016T165815Z
UID:10541-1760605200-1760616000@rooted303.org
SUMMARY:Bridge House
DESCRIPTION:
URL:https://rooted303.org/event/bridge-house-79/
END:VEVENT
BEGIN:VEVENT
DTSTART;TZID=America/Denver:20251015T183000
DTEND;TZID=America/Denver:20251015T193000
DTSTAMP:20260425T174831
CREATED:20250617T213139Z
LAST-MODIFIED:20251015T165822Z
UID:10540-1760553000-1760556600@rooted303.org
SUMMARY:Friends & Family CRAFT Group
DESCRIPTION:
URL:https://rooted303.org/event/friends-family-craft-group-20/
LOCATION:5933 S Fairfield St\, Littleton\, CO\, United States
CATEGORIES:Groups
END:VEVENT
BEGIN:VEVENT
DTSTART;TZID=America/Denver:20251015T123000
DTEND;TZID=America/Denver:20251015T133000
DTSTAMP:20260425T174831
CREATED:20250617T213139Z
LAST-MODIFIED:20251015T165822Z
UID:10539-1760531400-1760535000@rooted303.org
SUMMARY:Aromor - Mercy Housing Residents Only
DESCRIPTION:
URL:https://rooted303.org/event/aromor-mercy-housing-residents-only-20/
END:VEVENT
BEGIN:VEVENT
DTSTART;TZID=America/Denver:20251015T100000
DTEND;TZID=America/Denver:20251015T110000
DTSTAMP:20260425T174831
CREATED:20250617T213139Z
LAST-MODIFIED:20251015T165822Z
UID:10538-1760522400-1760526000@rooted303.org
SUMMARY:Clare of Assisi/Villa Maria - Mercy Housing
DESCRIPTION:
URL:https://rooted303.org/event/clare-of-assisi-villa-maria-mercy-housing-19/
END:VEVENT
BEGIN:VEVENT
DTSTART;TZID=America/Denver:20251014T183000
DTEND;TZID=America/Denver:20251014T193000
DTSTAMP:20260425T174831
CREATED:20250617T213138Z
LAST-MODIFIED:20251014T165907Z
UID:10537-1760466600-1760470200@rooted303.org
SUMMARY:Rooted 303/Exposed Support Group
DESCRIPTION:
URL:https://rooted303.org/event/rooted-303-exposed-support-group-20/
CATEGORIES:Groups
END:VEVENT
BEGIN:VEVENT
DTSTART;TZID=America/Denver:20251014T140000
DTEND;TZID=America/Denver:20251014T150000
DTSTAMP:20260425T174831
CREATED:20250617T213138Z
LAST-MODIFIED:20251014T165907Z
UID:10536-1760450400-1760454000@rooted303.org
SUMMARY:Franconia - Mercy Housing Residents Only
DESCRIPTION:
URL:https://rooted303.org/event/franconia-mercy-housing-residents-only-20/
END:VEVENT
BEGIN:VEVENT
DTSTART;TZID=America/Denver:20251014T120000
DTEND;TZID=America/Denver:20251014T130000
DTSTAMP:20260425T174831
CREATED:20251014T165907Z
LAST-MODIFIED:20251014T165907Z
UID:11193-1760443200-1760446800@rooted303.org
SUMMARY:Zoom Meeting invitation - Rooted 303's Zoom Meeting
DESCRIPTION:Rooted 303 is inviting you to a scheduled Zoom meeting.\nJoin Zoom Meeting\nhttps://us02web.zoom.us/j/85987620173\nMeeting ID: 859 8762 0173\n—\nOne tap mobile\n+17193594580\,\,85987620173# US\n+13462487799\,\,85987620173# US (Houston)\nJoin instructions\nhttps://us02web.zoom.us/meetings/85987620173/invitations?signature=09LIWGGkNEoTB3Jk2le5xrWrTrIcOczx1syV_pM7u5w
URL:https://rooted303.org/event/zoom-meeting-invitation-rooted-303s-zoom-meeting/
LOCATION:https://us02web.zoom.us/j/85987620173
END:VEVENT
BEGIN:VEVENT
DTSTART;TZID=America/Denver:20251014T120000
DTEND;TZID=America/Denver:20251014T130000
DTSTAMP:20260425T174831
CREATED:20250617T213138Z
LAST-MODIFIED:20251014T165907Z
UID:10535-1760443200-1760446800@rooted303.org
SUMMARY:Francis Heights - Mercy Housing Residents Only
DESCRIPTION:
URL:https://rooted303.org/event/francis-heights-mercy-housing-residents-only-20/
END:VEVENT
BEGIN:VEVENT
DTSTART;TZID=America/Denver:20251014T090000
DTEND;TZID=America/Denver:20251014T120000
DTSTAMP:20260425T174831
CREATED:20250617T213138Z
LAST-MODIFIED:20251014T165907Z
UID:10534-1760432400-1760443200@rooted303.org
SUMMARY:Bridge House
DESCRIPTION:
URL:https://rooted303.org/event/bridge-house-78/
END:VEVENT
BEGIN:VEVENT
DTSTART;TZID=America/Denver:20251013T120000
DTEND;TZID=America/Denver:20251013T150000
DTSTAMP:20260425T174831
CREATED:20250617T213138Z
LAST-MODIFIED:20251013T165842Z
UID:10533-1760356800-1760367600@rooted303.org
SUMMARY:Bridge House
DESCRIPTION:
URL:https://rooted303.org/event/bridge-house-77/
END:VEVENT
BEGIN:VEVENT
DTSTART;TZID=America/Denver:20251010T180000
DTEND;TZID=America/Denver:20251010T193000
DTSTAMP:20260425T174831
CREATED:20250603T192437Z
LAST-MODIFIED:20251013T172755Z
UID:10511-1760119200-1760124600@rooted303.org
SUMMARY:Roots and Wings Parenting Group
DESCRIPTION:
URL:https://rooted303.org/event/roots-and-wings-parenting-group-19/
CATEGORIES:Groups
END:VEVENT
BEGIN:VEVENT
DTSTART;TZID=America/Denver:20251010T140000
DTEND;TZID=America/Denver:20251010T150000
DTSTAMP:20260425T174831
CREATED:20250603T042110Z
LAST-MODIFIED:20251010T165847Z
UID:10215-1760104800-1760108400@rooted303.org
SUMMARY:HWH - Residents Only
DESCRIPTION:
URL:https://rooted303.org/event/hwh-residents-only-18/
END:VEVENT
BEGIN:VEVENT
DTSTART;TZID=America/Denver:20251010T120000
DTEND;TZID=America/Denver:20251010T150000
DTSTAMP:20260425T174831
CREATED:20250603T042110Z
LAST-MODIFIED:20251010T165847Z
UID:10216-1760097600-1760108400@rooted303.org
SUMMARY:Bridge House
DESCRIPTION:
URL:https://rooted303.org/event/bridge-house-76/
END:VEVENT
BEGIN:VEVENT
DTSTART;TZID=America/Denver:20251010T120000
DTEND;TZID=America/Denver:20251010T130000
DTSTAMP:20260425T174831
CREATED:20250603T192437Z
LAST-MODIFIED:20251013T172755Z
UID:10508-1760097600-1760101200@rooted303.org
SUMMARY:Francis Heights - Grief Group - Mercy Housing Residents Only
DESCRIPTION:
URL:https://rooted303.org/event/francis-heights-grief-group-mercy-housing-residents-only-20/
CATEGORIES:Groups
END:VEVENT
BEGIN:VEVENT
DTSTART;TZID=America/Denver:20251009T183000
DTEND;TZID=America/Denver:20251009T193000
DTSTAMP:20260425T174831
CREATED:20250603T042110Z
LAST-MODIFIED:20251013T172755Z
UID:10214-1760034600-1760038200@rooted303.org
SUMMARY:Friends & Family CRAFT Group (Virtual)
DESCRIPTION:────────── \nRooted 303 is inviting you to a scheduled Zoom meeting. \nJoin Zoom Meetinghttps://us02web.zoom.us/j/86491237169?pwd=UFVUVngvVVpPM0toMTBuSGo5UkF1dz09 \nMeeting ID: 864 9123 7169Passcode: 672219 \n— \nOne tap mobile+17193594580\,\,86491237169#\,\,\,\,*672219# US+12532158782\,\,86491237169#\,\,\,\,*672219# US (Tacoma) \n— \nDial by your location• +1 719 359 4580 US• +1 253 215 8782 US (Tacoma)• +1 346 248 7799 US (Houston)• +1 669 444 9171 US• +1 669 900 9128 US (San Jose)• +1 253 205 0468 US• +1 360 209 5623 US• +1 386 347 5053 US• +1 507 473 4847 US• +1 564 217 2000 US• +1 646 558 8656 US (New York)• +1 646 931 3860 US• +1 689 278 1000 US• +1 301 715 8592 US (Washington DC)• +1 305 224 1968 US• +1 309 205 3325 US• +1 312 626 6799 US (Chicago) \nMeeting ID: 864 9123 7169Passcode: 672219 \nFind your local number: https://us02web.zoom.us/u/kdf4Ajtvut \n──────────
URL:https://rooted303.org/event/friends-family-craft-group-virtual-19/
LOCATION:https://us02web.zoom.us/j/86491237169?pwd=UFVUVngvVVpPM0toMTBuSGo5UkF1dz09
CATEGORIES:Groups
END:VEVENT
BEGIN:VEVENT
DTSTART;TZID=America/Denver:20251009T120000
DTEND;TZID=America/Denver:20251009T130000
DTSTAMP:20260425T174831
CREATED:20250603T042110Z
LAST-MODIFIED:20251009T164345Z
UID:10212-1760011200-1760014800@rooted303.org
SUMMARY:Nest 56 - Residents Only
DESCRIPTION:
URL:https://rooted303.org/event/nest-56-residents-only-19/
END:VEVENT
BEGIN:VEVENT
DTSTART;TZID=America/Denver:20251009T090000
DTEND;TZID=America/Denver:20251009T120000
DTSTAMP:20260425T174831
CREATED:20250603T042110Z
LAST-MODIFIED:20251009T164345Z
UID:10213-1760000400-1760011200@rooted303.org
SUMMARY:Bridge House
DESCRIPTION:
URL:https://rooted303.org/event/bridge-house-75/
END:VEVENT
END:VCALENDAR