BEGIN:VCALENDAR
VERSION:2.0
PRODID:-//Rooted 303 - ECPv6.15.20//NONSGML v1.0//EN
CALSCALE:GREGORIAN
METHOD:PUBLISH
X-WR-CALNAME:Rooted 303
X-ORIGINAL-URL:https://rooted303.org
X-WR-CALDESC:Events for Rooted 303
REFRESH-INTERVAL;VALUE=DURATION:PT1H
X-Robots-Tag:noindex
X-PUBLISHED-TTL:PT1H
BEGIN:VTIMEZONE
TZID:America/Denver
BEGIN:DAYLIGHT
TZOFFSETFROM:-0700
TZOFFSETTO:-0600
TZNAME:MDT
DTSTART:20240310T090000
END:DAYLIGHT
BEGIN:STANDARD
TZOFFSETFROM:-0600
TZOFFSETTO:-0700
TZNAME:MST
DTSTART:20241103T080000
END:STANDARD
BEGIN:DAYLIGHT
TZOFFSETFROM:-0700
TZOFFSETTO:-0600
TZNAME:MDT
DTSTART:20250309T090000
END:DAYLIGHT
BEGIN:STANDARD
TZOFFSETFROM:-0600
TZOFFSETTO:-0700
TZNAME:MST
DTSTART:20251102T080000
END:STANDARD
BEGIN:DAYLIGHT
TZOFFSETFROM:-0700
TZOFFSETTO:-0600
TZNAME:MDT
DTSTART:20260308T090000
END:DAYLIGHT
BEGIN:STANDARD
TZOFFSETFROM:-0600
TZOFFSETTO:-0700
TZNAME:MST
DTSTART:20261101T080000
END:STANDARD
END:VTIMEZONE
BEGIN:VEVENT
DTSTART;TZID=America/Denver:20251007T090000
DTEND;TZID=America/Denver:20251007T120000
DTSTAMP:20260425T221936
CREATED:20250603T042109Z
LAST-MODIFIED:20251007T164330Z
UID:10205-1759827600-1759838400@rooted303.org
SUMMARY:Bridge House
DESCRIPTION:
URL:https://rooted303.org/event/bridge-house-74/
END:VEVENT
BEGIN:VEVENT
DTSTART;TZID=America/Denver:20251006T120000
DTEND;TZID=America/Denver:20251006T150000
DTSTAMP:20260425T221936
CREATED:20250603T042109Z
LAST-MODIFIED:20251006T164342Z
UID:10204-1759752000-1759762800@rooted303.org
SUMMARY:Bridge House
DESCRIPTION:
URL:https://rooted303.org/event/bridge-house-73/
END:VEVENT
BEGIN:VEVENT
DTSTART;TZID=America/Denver:20251003T180000
DTEND;TZID=America/Denver:20251003T193000
DTSTAMP:20260425T221936
CREATED:20250603T042109Z
LAST-MODIFIED:20251013T172756Z
UID:10203-1759514400-1759519800@rooted303.org
SUMMARY:Roots and Wings Parenting Group
DESCRIPTION:
URL:https://rooted303.org/event/roots-and-wings-parenting-group-18/
CATEGORIES:Groups
END:VEVENT
BEGIN:VEVENT
DTSTART;TZID=America/Denver:20251003T140000
DTEND;TZID=America/Denver:20251003T150000
DTSTAMP:20260425T221936
CREATED:20250603T042109Z
LAST-MODIFIED:20251003T164324Z
UID:10201-1759500000-1759503600@rooted303.org
SUMMARY:HWH - Residents Only
DESCRIPTION:
URL:https://rooted303.org/event/hwh-residents-only-17/
END:VEVENT
BEGIN:VEVENT
DTSTART;TZID=America/Denver:20251003T120000
DTEND;TZID=America/Denver:20251003T150000
DTSTAMP:20260425T221936
CREATED:20250603T042109Z
LAST-MODIFIED:20251003T164324Z
UID:10202-1759492800-1759503600@rooted303.org
SUMMARY:Bridge House
DESCRIPTION:
URL:https://rooted303.org/event/bridge-house-72/
END:VEVENT
BEGIN:VEVENT
DTSTART;TZID=America/Denver:20251003T120000
DTEND;TZID=America/Denver:20251003T130000
DTSTAMP:20260425T221936
CREATED:20250603T042109Z
LAST-MODIFIED:20251013T172756Z
UID:10200-1759492800-1759496400@rooted303.org
SUMMARY:Francis Heights - Grief Group - Mercy Housing Residents Only
DESCRIPTION:
URL:https://rooted303.org/event/francis-heights-grief-group-mercy-housing-residents-only-19/
CATEGORIES:Groups
END:VEVENT
BEGIN:VEVENT
DTSTART;TZID=America/Denver:20251002T183000
DTEND;TZID=America/Denver:20251002T193000
DTSTAMP:20260425T221936
CREATED:20250603T042109Z
LAST-MODIFIED:20251013T172756Z
UID:10199-1759429800-1759433400@rooted303.org
SUMMARY:Friends & Family CRAFT Group (Virtual)
DESCRIPTION:────────── \nRooted 303 is inviting you to a scheduled Zoom meeting. \nJoin Zoom Meetinghttps://us02web.zoom.us/j/86491237169?pwd=UFVUVngvVVpPM0toMTBuSGo5UkF1dz09 \nMeeting ID: 864 9123 7169Passcode: 672219 \n— \nOne tap mobile+17193594580\,\,86491237169#\,\,\,\,*672219# US+12532158782\,\,86491237169#\,\,\,\,*672219# US (Tacoma) \n— \nDial by your location• +1 719 359 4580 US• +1 253 215 8782 US (Tacoma)• +1 346 248 7799 US (Houston)• +1 669 444 9171 US• +1 669 900 9128 US (San Jose)• +1 253 205 0468 US• +1 360 209 5623 US• +1 386 347 5053 US• +1 507 473 4847 US• +1 564 217 2000 US• +1 646 558 8656 US (New York)• +1 646 931 3860 US• +1 689 278 1000 US• +1 301 715 8592 US (Washington DC)• +1 305 224 1968 US• +1 309 205 3325 US• +1 312 626 6799 US (Chicago) \nMeeting ID: 864 9123 7169Passcode: 672219 \nFind your local number: https://us02web.zoom.us/u/kdf4Ajtvut \n──────────
URL:https://rooted303.org/event/friends-family-craft-group-virtual-18/
LOCATION:https://us02web.zoom.us/j/86491237169?pwd=UFVUVngvVVpPM0toMTBuSGo5UkF1dz09
CATEGORIES:Groups
END:VEVENT
BEGIN:VEVENT
DTSTART;TZID=America/Denver:20251002T150000
DTEND;TZID=America/Denver:20251002T160000
DTSTAMP:20260425T221936
CREATED:20250603T042109Z
LAST-MODIFIED:20251002T164358Z
UID:10198-1759417200-1759420800@rooted303.org
SUMMARY:The Rose - Residents Only
DESCRIPTION:
URL:https://rooted303.org/event/the-rose-residents-only-9/
END:VEVENT
BEGIN:VEVENT
DTSTART;TZID=America/Denver:20251002T120000
DTEND;TZID=America/Denver:20251002T130000
DTSTAMP:20260425T221936
CREATED:20250603T042109Z
LAST-MODIFIED:20251002T164358Z
UID:10197-1759406400-1759410000@rooted303.org
SUMMARY:Nest 56 - Residents Only
DESCRIPTION:
URL:https://rooted303.org/event/nest-56-residents-only-18/
END:VEVENT
BEGIN:VEVENT
DTSTART;TZID=America/Denver:20251002T090000
DTEND;TZID=America/Denver:20251002T120000
DTSTAMP:20260425T221936
CREATED:20250603T042109Z
LAST-MODIFIED:20251002T164358Z
UID:10196-1759395600-1759406400@rooted303.org
SUMMARY:Bridge House
DESCRIPTION:
URL:https://rooted303.org/event/bridge-house-71/
END:VEVENT
BEGIN:VEVENT
DTSTART;TZID=America/Denver:20251001T183000
DTEND;TZID=America/Denver:20251001T193000
DTSTAMP:20260425T221936
CREATED:20250603T042109Z
LAST-MODIFIED:20251013T172756Z
UID:10195-1759343400-1759347000@rooted303.org
SUMMARY:Friends & Family CRAFT Group
DESCRIPTION:
URL:https://rooted303.org/event/friends-family-craft-group-18/
LOCATION:5933 S Fairfield St\, Littleton\, CO\, United States
CATEGORIES:Groups
END:VEVENT
BEGIN:VEVENT
DTSTART;TZID=America/Denver:20251001T123000
DTEND;TZID=America/Denver:20251001T133000
DTSTAMP:20260425T221936
CREATED:20250603T042109Z
LAST-MODIFIED:20251001T164329Z
UID:10194-1759321800-1759325400@rooted303.org
SUMMARY:Aromor - Mercy Housing Residents Only
DESCRIPTION:
URL:https://rooted303.org/event/aromor-mercy-housing-residents-only-18/
END:VEVENT
BEGIN:VEVENT
DTSTART;TZID=America/Denver:20251001T100000
DTEND;TZID=America/Denver:20251001T110000
DTSTAMP:20260425T221936
CREATED:20250603T042109Z
LAST-MODIFIED:20251001T164329Z
UID:10193-1759312800-1759316400@rooted303.org
SUMMARY:Clare of Assisi/Villa Maria - Mercy Housing
DESCRIPTION:
URL:https://rooted303.org/event/clare-of-assisi-villa-maria-mercy-housing-17/
END:VEVENT
BEGIN:VEVENT
DTSTART;TZID=America/Denver:20250930T183000
DTEND;TZID=America/Denver:20250930T193000
DTSTAMP:20260425T221936
CREATED:20250603T042109Z
LAST-MODIFIED:20251013T172756Z
UID:10192-1759257000-1759260600@rooted303.org
SUMMARY:Rooted 303/Exposed Support Group
DESCRIPTION:
URL:https://rooted303.org/event/rooted-303-exposed-support-group-18/
CATEGORIES:Groups
END:VEVENT
BEGIN:VEVENT
DTSTART;TZID=America/Denver:20250930T140000
DTEND;TZID=America/Denver:20250930T150000
DTSTAMP:20260425T221936
CREATED:20250603T042108Z
LAST-MODIFIED:20250930T164330Z
UID:10191-1759240800-1759244400@rooted303.org
SUMMARY:Franconia - Mercy Housing Residents Only
DESCRIPTION:
URL:https://rooted303.org/event/franconia-mercy-housing-residents-only-18/
END:VEVENT
BEGIN:VEVENT
DTSTART;TZID=America/Denver:20250930T120000
DTEND;TZID=America/Denver:20250930T130000
DTSTAMP:20260425T221936
CREATED:20250603T042108Z
LAST-MODIFIED:20250930T164330Z
UID:10190-1759233600-1759237200@rooted303.org
SUMMARY:Francis Heights - Mercy Housing Residents Only
DESCRIPTION:
URL:https://rooted303.org/event/francis-heights-mercy-housing-residents-only-18/
END:VEVENT
BEGIN:VEVENT
DTSTART;TZID=America/Denver:20250930T090000
DTEND;TZID=America/Denver:20250930T120000
DTSTAMP:20260425T221936
CREATED:20250603T042108Z
LAST-MODIFIED:20250930T164330Z
UID:10189-1759222800-1759233600@rooted303.org
SUMMARY:Bridge House
DESCRIPTION:
URL:https://rooted303.org/event/bridge-house-70/
END:VEVENT
BEGIN:VEVENT
DTSTART;TZID=America/Denver:20250929T120000
DTEND;TZID=America/Denver:20250929T150000
DTSTAMP:20260425T221936
CREATED:20250603T042108Z
LAST-MODIFIED:20250929T164327Z
UID:10188-1759147200-1759158000@rooted303.org
SUMMARY:Bridge House
DESCRIPTION:
URL:https://rooted303.org/event/bridge-house-69/
END:VEVENT
BEGIN:VEVENT
DTSTART;TZID=America/Denver:20250927T173000
DTEND;TZID=America/Denver:20250927T210000
DTSTAMP:20260425T221936
CREATED:20250603T042108Z
LAST-MODIFIED:20250927T162812Z
UID:10187-1758994200-1759006800@rooted303.org
SUMMARY:Rooted 303 Annual Gala
DESCRIPTION:For details or to buy tickets\, go to this link Rooted 303 Gala: Unveiling Hope Tickets
URL:https://rooted303.org/event/rooted-303-annual-gala/
LOCATION:The Village Work\, Englewood\, CO\, United States
END:VEVENT
BEGIN:VEVENT
DTSTART;TZID=America/Denver:20250926T180000
DTEND;TZID=America/Denver:20250926T193000
DTSTAMP:20260425T221936
CREATED:20250603T042108Z
LAST-MODIFIED:20251013T172756Z
UID:10185-1758909600-1758915000@rooted303.org
SUMMARY:Roots and Wings Parenting Group
DESCRIPTION:
URL:https://rooted303.org/event/roots-and-wings-parenting-group-17/
CATEGORIES:Groups
END:VEVENT
BEGIN:VEVENT
DTSTART;TZID=America/Denver:20250926T140000
DTEND;TZID=America/Denver:20250926T150000
DTSTAMP:20260425T221936
CREATED:20250603T042108Z
LAST-MODIFIED:20250926T162901Z
UID:10184-1758895200-1758898800@rooted303.org
SUMMARY:HWH - Residents Only
DESCRIPTION:
URL:https://rooted303.org/event/hwh-residents-only-16/
END:VEVENT
BEGIN:VEVENT
DTSTART;TZID=America/Denver:20250926T120000
DTEND;TZID=America/Denver:20250926T150000
DTSTAMP:20260425T221936
CREATED:20250603T042108Z
LAST-MODIFIED:20250926T162901Z
UID:10182-1758888000-1758898800@rooted303.org
SUMMARY:Bridge House
DESCRIPTION:
URL:https://rooted303.org/event/bridge-house-68/
END:VEVENT
BEGIN:VEVENT
DTSTART;TZID=America/Denver:20250926T120000
DTEND;TZID=America/Denver:20250926T130000
DTSTAMP:20260425T221936
CREATED:20250603T042108Z
LAST-MODIFIED:20251013T172756Z
UID:10183-1758888000-1758891600@rooted303.org
SUMMARY:Francis Heights - Grief Group - Mercy Housing Residents Only
DESCRIPTION:
URL:https://rooted303.org/event/francis-heights-grief-group-mercy-housing-residents-only-18/
CATEGORIES:Groups
END:VEVENT
BEGIN:VEVENT
DTSTART;TZID=America/Denver:20250925T183000
DTEND;TZID=America/Denver:20250925T193000
DTSTAMP:20260425T221936
CREATED:20250603T042108Z
LAST-MODIFIED:20251013T172756Z
UID:10181-1758825000-1758828600@rooted303.org
SUMMARY:Friends & Family CRAFT Group (Virtual)
DESCRIPTION:────────── \nRooted 303 is inviting you to a scheduled Zoom meeting. \nJoin Zoom Meetinghttps://us02web.zoom.us/j/86491237169?pwd=UFVUVngvVVpPM0toMTBuSGo5UkF1dz09 \nMeeting ID: 864 9123 7169Passcode: 672219 \n— \nOne tap mobile+17193594580\,\,86491237169#\,\,\,\,*672219# US+12532158782\,\,86491237169#\,\,\,\,*672219# US (Tacoma) \n— \nDial by your location• +1 719 359 4580 US• +1 253 215 8782 US (Tacoma)• +1 346 248 7799 US (Houston)• +1 669 444 9171 US• +1 669 900 9128 US (San Jose)• +1 253 205 0468 US• +1 360 209 5623 US• +1 386 347 5053 US• +1 507 473 4847 US• +1 564 217 2000 US• +1 646 558 8656 US (New York)• +1 646 931 3860 US• +1 689 278 1000 US• +1 301 715 8592 US (Washington DC)• +1 305 224 1968 US• +1 309 205 3325 US• +1 312 626 6799 US (Chicago) \nMeeting ID: 864 9123 7169Passcode: 672219 \nFind your local number: https://us02web.zoom.us/u/kdf4Ajtvut \n──────────
URL:https://rooted303.org/event/friends-family-craft-group-virtual-17/
LOCATION:https://us02web.zoom.us/j/86491237169?pwd=UFVUVngvVVpPM0toMTBuSGo5UkF1dz09
CATEGORIES:Groups
END:VEVENT
BEGIN:VEVENT
DTSTART;TZID=America/Denver:20250925T120000
DTEND;TZID=America/Denver:20250925T130000
DTSTAMP:20260425T221936
CREATED:20250603T042108Z
LAST-MODIFIED:20250925T162835Z
UID:10180-1758801600-1758805200@rooted303.org
SUMMARY:Nest 56 - Residents Only
DESCRIPTION:
URL:https://rooted303.org/event/nest-56-residents-only-17/
END:VEVENT
BEGIN:VEVENT
DTSTART;TZID=America/Denver:20250925T090000
DTEND;TZID=America/Denver:20250925T120000
DTSTAMP:20260425T221936
CREATED:20250603T042108Z
LAST-MODIFIED:20250925T162835Z
UID:10179-1758790800-1758801600@rooted303.org
SUMMARY:Bridge House
DESCRIPTION:
URL:https://rooted303.org/event/bridge-house-67/
END:VEVENT
BEGIN:VEVENT
DTSTART;TZID=America/Denver:20250924T183000
DTEND;TZID=America/Denver:20250924T193000
DTSTAMP:20260425T221936
CREATED:20250603T042108Z
LAST-MODIFIED:20251013T172756Z
UID:10178-1758738600-1758742200@rooted303.org
SUMMARY:Friends & Family CRAFT Group
DESCRIPTION:
URL:https://rooted303.org/event/friends-family-craft-group-17/
LOCATION:5933 S Fairfield St\, Littleton\, CO\, United States
CATEGORIES:Groups
END:VEVENT
BEGIN:VEVENT
DTSTART;TZID=America/Denver:20250924T123000
DTEND;TZID=America/Denver:20250924T133000
DTSTAMP:20260425T221936
CREATED:20250603T042108Z
LAST-MODIFIED:20250924T162823Z
UID:10177-1758717000-1758720600@rooted303.org
SUMMARY:Aromor - Mercy Housing Residents Only
DESCRIPTION:
URL:https://rooted303.org/event/aromor-mercy-housing-residents-only-17/
END:VEVENT
BEGIN:VEVENT
DTSTART;TZID=America/Denver:20250924T100000
DTEND;TZID=America/Denver:20250924T110000
DTSTAMP:20260425T221936
CREATED:20250603T042108Z
LAST-MODIFIED:20250924T162823Z
UID:10176-1758708000-1758711600@rooted303.org
SUMMARY:Clare of Assisi/Villa Maria - Mercy Housing
DESCRIPTION:
URL:https://rooted303.org/event/clare-of-assisi-villa-maria-mercy-housing-16/
END:VEVENT
BEGIN:VEVENT
DTSTART;TZID=America/Denver:20250923T183000
DTEND;TZID=America/Denver:20250923T193000
DTSTAMP:20260425T221936
CREATED:20250603T042108Z
LAST-MODIFIED:20251013T172756Z
UID:10175-1758652200-1758655800@rooted303.org
SUMMARY:Rooted 303/Exposed Support Group
DESCRIPTION:
URL:https://rooted303.org/event/rooted-303-exposed-support-group-17/
CATEGORIES:Groups
END:VEVENT
END:VCALENDAR