BEGIN:VCALENDAR
VERSION:2.0
PRODID:-//Rooted 303 - ECPv6.15.20//NONSGML v1.0//EN
CALSCALE:GREGORIAN
METHOD:PUBLISH
X-ORIGINAL-URL:https://rooted303.org
X-WR-CALDESC:Events for Rooted 303
REFRESH-INTERVAL;VALUE=DURATION:PT1H
X-Robots-Tag:noindex
X-PUBLISHED-TTL:PT1H
BEGIN:VTIMEZONE
TZID:America/Denver
BEGIN:DAYLIGHT
TZOFFSETFROM:-0700
TZOFFSETTO:-0600
TZNAME:MDT
DTSTART:20250309T090000
END:DAYLIGHT
BEGIN:STANDARD
TZOFFSETFROM:-0600
TZOFFSETTO:-0700
TZNAME:MST
DTSTART:20251102T080000
END:STANDARD
BEGIN:DAYLIGHT
TZOFFSETFROM:-0700
TZOFFSETTO:-0600
TZNAME:MDT
DTSTART:20260308T090000
END:DAYLIGHT
BEGIN:STANDARD
TZOFFSETFROM:-0600
TZOFFSETTO:-0700
TZNAME:MST
DTSTART:20261101T080000
END:STANDARD
BEGIN:DAYLIGHT
TZOFFSETFROM:-0700
TZOFFSETTO:-0600
TZNAME:MDT
DTSTART:20270314T090000
END:DAYLIGHT
BEGIN:STANDARD
TZOFFSETFROM:-0600
TZOFFSETTO:-0700
TZNAME:MST
DTSTART:20271107T080000
END:STANDARD
END:VTIMEZONE
BEGIN:VEVENT
DTSTART;TZID=America/Denver:20261001T130000
DTEND;TZID=America/Denver:20261001T140000
DTSTAMP:20260421T195227
CREATED:20260326T155849Z
LAST-MODIFIED:20260416T174346Z
UID:12671-1790859600-1790863200@rooted303.org
SUMMARY:Friends & Family CRAFT Group (Virtual)
DESCRIPTION:Click here to Join  our Zoom Meeting! 
URL:https://rooted303.org/event/friends-family-craft-group-virtual-130/
LOCATION:Zoom
END:VEVENT
BEGIN:VEVENT
DTSTART;TZID=America/Denver:20261002T120000
DTEND;TZID=America/Denver:20261002T130000
DTSTAMP:20260421T195227
CREATED:20260326T155849Z
LAST-MODIFIED:20260416T174346Z
UID:12672-1790942400-1790946000@rooted303.org
SUMMARY:Francis Heights - Grief Group - Mercy Housing Residents Only
DESCRIPTION:
URL:https://rooted303.org/event/francis-heights-grief-group-mercy-housing-residents-only-71/
END:VEVENT
BEGIN:VEVENT
DTSTART;TZID=America/Denver:20261002T140000
DTEND;TZID=America/Denver:20261002T150000
DTSTAMP:20260421T195227
CREATED:20260326T155849Z
LAST-MODIFIED:20260416T174346Z
UID:12673-1790949600-1790953200@rooted303.org
SUMMARY:HWH - Residents Only
DESCRIPTION:
URL:https://rooted303.org/event/hwh-residents-only-69/
END:VEVENT
BEGIN:VEVENT
DTSTART;TZID=America/Denver:20261005T170000
DTEND;TZID=America/Denver:20261005T180000
DTSTAMP:20260421T195227
CREATED:20260327T155842Z
LAST-MODIFIED:20260416T174347Z
UID:12680-1791219600-1791223200@rooted303.org
SUMMARY:Nest 56 - Residents Only
DESCRIPTION:
URL:https://rooted303.org/event/nest-56-residents-only-98/
END:VEVENT
BEGIN:VEVENT
DTSTART;TZID=America/Denver:20261006T120000
DTEND;TZID=America/Denver:20261006T130000
DTSTAMP:20260421T195227
CREATED:20260328T155839Z
LAST-MODIFIED:20260416T174347Z
UID:12683-1791288000-1791291600@rooted303.org
SUMMARY:Francis Heights - Mercy Housing Residents Only
DESCRIPTION:
URL:https://rooted303.org/event/francis-heights-mercy-housing-residents-only-71/
END:VEVENT
BEGIN:VEVENT
DTSTART;TZID=America/Denver:20261006T123000
DTEND;TZID=America/Denver:20261006T133000
DTSTAMP:20260421T195227
CREATED:20260416T174347Z
LAST-MODIFIED:20260416T174347Z
UID:12781-1791289800-1791293400@rooted303.org
SUMMARY:Holly Park - Residents Only
DESCRIPTION:
URL:https://rooted303.org/event/holly-park-residents-only-25/
END:VEVENT
BEGIN:VEVENT
DTSTART;TZID=America/Denver:20261006T140000
DTEND;TZID=America/Denver:20261006T150000
DTSTAMP:20260421T195227
CREATED:20260328T155839Z
LAST-MODIFIED:20260416T174347Z
UID:12684-1791295200-1791298800@rooted303.org
SUMMARY:Franconia - Mercy Housing Residents Only
DESCRIPTION:
URL:https://rooted303.org/event/franconia-mercy-housing-residents-only-71/
END:VEVENT
BEGIN:VEVENT
DTSTART;TZID=America/Denver:20261007T100000
DTEND;TZID=America/Denver:20261007T110000
DTSTAMP:20260421T195227
CREATED:20260331T161345Z
LAST-MODIFIED:20260416T174347Z
UID:12690-1791367200-1791370800@rooted303.org
SUMMARY:Clare of Assisi/Villa Maria - Mercy Housing
DESCRIPTION:
URL:https://rooted303.org/event/clare-of-assisi-villa-maria-mercy-housing-70/
END:VEVENT
BEGIN:VEVENT
DTSTART;TZID=America/Denver:20261007T123000
DTEND;TZID=America/Denver:20261007T133000
DTSTAMP:20260421T195227
CREATED:20260401T161340Z
LAST-MODIFIED:20260416T174347Z
UID:12694-1791376200-1791379800@rooted303.org
SUMMARY:Aromor - Mercy Housing Residents Only
DESCRIPTION:
URL:https://rooted303.org/event/aromor-mercy-housing-residents-only-71/
END:VEVENT
BEGIN:VEVENT
DTSTART;TZID=America/Denver:20261007T130000
DTEND;TZID=America/Denver:20261007T140000
DTSTAMP:20260421T195227
CREATED:20260401T161340Z
LAST-MODIFIED:20260416T174347Z
UID:12693-1791378000-1791381600@rooted303.org
SUMMARY:Francis Heights - Mindfulness and Meditation Group
DESCRIPTION:Join us every Wednesday at 1 PM!
URL:https://rooted303.org/event/francis-heights-mindfulness-and-meditation-group-15/
LOCATION:Francis Heights\, 3805 W 26th Ave\, Denver\, CO\, United States
END:VEVENT
BEGIN:VEVENT
DTSTART;TZID=America/Denver:20261007T163000
DTEND;TZID=America/Denver:20261007T173000
DTSTAMP:20260421T195227
CREATED:20260402T162843Z
LAST-MODIFIED:20260416T174347Z
UID:12698-1791390600-1791394200@rooted303.org
SUMMARY:THE ROSE
DESCRIPTION:
URL:https://rooted303.org/event/the-rose-34/
END:VEVENT
BEGIN:VEVENT
DTSTART;TZID=America/Denver:20261007T183000
DTEND;TZID=America/Denver:20261007T193000
DTSTAMP:20260421T195227
CREATED:20260402T162843Z
LAST-MODIFIED:20260416T174347Z
UID:12699-1791397800-1791401400@rooted303.org
SUMMARY:Friends & Family CRAFT Group
DESCRIPTION:
URL:https://rooted303.org/event/friends-family-craft-group-71/
LOCATION:5808 S Rapp St suite 100\, Littleton\, CO\, United States
END:VEVENT
BEGIN:VEVENT
DTSTART;TZID=America/Denver:20261008T130000
DTEND;TZID=America/Denver:20261008T140000
DTSTAMP:20260421T195227
CREATED:20260402T162843Z
LAST-MODIFIED:20260415T172851Z
UID:12700-1791464400-1791468000@rooted303.org
SUMMARY:Friends & Family CRAFT Group (Virtual)
DESCRIPTION:Click here to Join  our Zoom Meeting! 
URL:https://rooted303.org/event/friends-family-craft-group-virtual-131/
LOCATION:Zoom
END:VEVENT
BEGIN:VEVENT
DTSTART;TZID=America/Denver:20261009T120000
DTEND;TZID=America/Denver:20261009T130000
DTSTAMP:20260421T195227
CREATED:20260402T162844Z
LAST-MODIFIED:20260415T172851Z
UID:12701-1791547200-1791550800@rooted303.org
SUMMARY:Francis Heights - Grief Group - Mercy Housing Residents Only
DESCRIPTION:
URL:https://rooted303.org/event/francis-heights-grief-group-mercy-housing-residents-only-72/
END:VEVENT
BEGIN:VEVENT
DTSTART;TZID=America/Denver:20261009T140000
DTEND;TZID=America/Denver:20261009T150000
DTSTAMP:20260421T195227
CREATED:20260402T162844Z
LAST-MODIFIED:20260415T172851Z
UID:12702-1791554400-1791558000@rooted303.org
SUMMARY:HWH - Residents Only
DESCRIPTION:
URL:https://rooted303.org/event/hwh-residents-only-70/
END:VEVENT
BEGIN:VEVENT
DTSTART;TZID=America/Denver:20261012T170000
DTEND;TZID=America/Denver:20261012T180000
DTSTAMP:20260421T195227
CREATED:20260403T164341Z
LAST-MODIFIED:20260415T172852Z
UID:12709-1791824400-1791828000@rooted303.org
SUMMARY:Nest 56 - Residents Only
DESCRIPTION:
URL:https://rooted303.org/event/nest-56-residents-only-99/
END:VEVENT
BEGIN:VEVENT
DTSTART;TZID=America/Denver:20261013T120000
DTEND;TZID=America/Denver:20261013T130000
DTSTAMP:20260421T195227
CREATED:20260404T164340Z
LAST-MODIFIED:20260415T172852Z
UID:12712-1791892800-1791896400@rooted303.org
SUMMARY:Francis Heights - Mercy Housing Residents Only
DESCRIPTION:
URL:https://rooted303.org/event/francis-heights-mercy-housing-residents-only-72/
END:VEVENT
BEGIN:VEVENT
DTSTART;TZID=America/Denver:20261013T140000
DTEND;TZID=America/Denver:20261013T150000
DTSTAMP:20260421T195227
CREATED:20260404T164340Z
LAST-MODIFIED:20260415T172852Z
UID:12713-1791900000-1791903600@rooted303.org
SUMMARY:Franconia - Mercy Housing Residents Only
DESCRIPTION:
URL:https://rooted303.org/event/franconia-mercy-housing-residents-only-72/
END:VEVENT
BEGIN:VEVENT
DTSTART;TZID=America/Denver:20261014T100000
DTEND;TZID=America/Denver:20261014T110000
DTSTAMP:20260421T195227
CREATED:20260407T171407Z
LAST-MODIFIED:20260415T172852Z
UID:12719-1791972000-1791975600@rooted303.org
SUMMARY:Clare of Assisi/Villa Maria - Mercy Housing
DESCRIPTION:
URL:https://rooted303.org/event/clare-of-assisi-villa-maria-mercy-housing-71/
END:VEVENT
BEGIN:VEVENT
DTSTART;TZID=America/Denver:20261014T123000
DTEND;TZID=America/Denver:20261014T133000
DTSTAMP:20260421T195227
CREATED:20260408T171341Z
LAST-MODIFIED:20260415T172852Z
UID:12723-1791981000-1791984600@rooted303.org
SUMMARY:Aromor - Mercy Housing Residents Only
DESCRIPTION:
URL:https://rooted303.org/event/aromor-mercy-housing-residents-only-72/
END:VEVENT
BEGIN:VEVENT
DTSTART;TZID=America/Denver:20261014T130000
DTEND;TZID=America/Denver:20261014T140000
DTSTAMP:20260421T195227
CREATED:20260408T171341Z
LAST-MODIFIED:20260415T172852Z
UID:12722-1791982800-1791986400@rooted303.org
SUMMARY:Francis Heights - Mindfulness and Meditation Group
DESCRIPTION:Join us every Wednesday at 1 PM!
URL:https://rooted303.org/event/francis-heights-mindfulness-and-meditation-group-16/
LOCATION:Francis Heights\, 3805 W 26th Ave\, Denver\, CO\, United States
END:VEVENT
BEGIN:VEVENT
DTSTART;TZID=America/Denver:20261014T163000
DTEND;TZID=America/Denver:20261014T173000
DTSTAMP:20260421T195227
CREATED:20260408T171341Z
LAST-MODIFIED:20260415T172852Z
UID:12724-1791995400-1791999000@rooted303.org
SUMMARY:THE ROSE
DESCRIPTION:
URL:https://rooted303.org/event/the-rose-35/
END:VEVENT
BEGIN:VEVENT
DTSTART;TZID=America/Denver:20261014T183000
DTEND;TZID=America/Denver:20261014T193000
DTSTAMP:20260421T195227
CREATED:20260409T171348Z
LAST-MODIFIED:20260415T172852Z
UID:12731-1792002600-1792006200@rooted303.org
SUMMARY:Friends & Family CRAFT Group
DESCRIPTION:
URL:https://rooted303.org/event/friends-family-craft-group-72/
LOCATION:5808 S Rapp St suite 100\, Littleton\, CO\, United States
END:VEVENT
BEGIN:VEVENT
DTSTART;TZID=America/Denver:20261015T130000
DTEND;TZID=America/Denver:20261015T140000
DTSTAMP:20260421T195227
CREATED:20260409T171348Z
LAST-MODIFIED:20260415T172852Z
UID:12732-1792069200-1792072800@rooted303.org
SUMMARY:Friends & Family CRAFT Group (Virtual)
DESCRIPTION:Click here to Join  our Zoom Meeting! 
URL:https://rooted303.org/event/friends-family-craft-group-virtual-132/
LOCATION:Zoom
END:VEVENT
BEGIN:VEVENT
DTSTART;TZID=America/Denver:20261016T120000
DTEND;TZID=America/Denver:20261016T130000
DTSTAMP:20260421T195227
CREATED:20260409T171349Z
LAST-MODIFIED:20260415T172852Z
UID:12733-1792152000-1792155600@rooted303.org
SUMMARY:Francis Heights - Grief Group - Mercy Housing Residents Only
DESCRIPTION:
URL:https://rooted303.org/event/francis-heights-grief-group-mercy-housing-residents-only-73/
END:VEVENT
BEGIN:VEVENT
DTSTART;TZID=America/Denver:20261016T140000
DTEND;TZID=America/Denver:20261016T150000
DTSTAMP:20260421T195227
CREATED:20260409T171349Z
LAST-MODIFIED:20260415T172852Z
UID:12734-1792159200-1792162800@rooted303.org
SUMMARY:HWH - Residents Only
DESCRIPTION:
URL:https://rooted303.org/event/hwh-residents-only-71/
END:VEVENT
BEGIN:VEVENT
DTSTART;TZID=America/Denver:20261019T170000
DTEND;TZID=America/Denver:20261019T180000
DTSTAMP:20260421T195227
CREATED:20260410T171343Z
LAST-MODIFIED:20260415T172853Z
UID:12740-1792429200-1792432800@rooted303.org
SUMMARY:Nest 56 - Residents Only
DESCRIPTION:
URL:https://rooted303.org/event/nest-56-residents-only-100/
END:VEVENT
BEGIN:VEVENT
DTSTART;TZID=America/Denver:20261020T120000
DTEND;TZID=America/Denver:20261020T130000
DTSTAMP:20260421T195227
CREATED:20260411T171349Z
LAST-MODIFIED:20260415T172853Z
UID:12743-1792497600-1792501200@rooted303.org
SUMMARY:Francis Heights - Mercy Housing Residents Only
DESCRIPTION:
URL:https://rooted303.org/event/francis-heights-mercy-housing-residents-only-73/
END:VEVENT
BEGIN:VEVENT
DTSTART;TZID=America/Denver:20261020T140000
DTEND;TZID=America/Denver:20261020T150000
DTSTAMP:20260421T195227
CREATED:20260411T171349Z
LAST-MODIFIED:20260415T172853Z
UID:12744-1792504800-1792508400@rooted303.org
SUMMARY:Franconia - Mercy Housing Residents Only
DESCRIPTION:
URL:https://rooted303.org/event/franconia-mercy-housing-residents-only-73/
END:VEVENT
BEGIN:VEVENT
DTSTART;TZID=America/Denver:20261021T100000
DTEND;TZID=America/Denver:20261021T110000
DTSTAMP:20260421T195227
CREATED:20260414T172844Z
LAST-MODIFIED:20260415T172853Z
UID:12750-1792576800-1792580400@rooted303.org
SUMMARY:Clare of Assisi/Villa Maria - Mercy Housing
DESCRIPTION:
URL:https://rooted303.org/event/clare-of-assisi-villa-maria-mercy-housing-72/
END:VEVENT
END:VCALENDAR